BEGIN:VCALENDAR
CALSCALE:GREGORIAN
VERSION:2.0
X-WR-CALNAME:ODD Friday
METHOD:PUBLISH
PRODID:-//Apple Inc.//Mac OS X 10.14.4//EN
BEGIN:VTIMEZONE
TZID:Europe/Berlin
BEGIN:DAYLIGHT
TZOFFSETFROM:+0100
RRULE:FREQ=YEARLY;BYMONTH=3;BYDAY=-1SU
DTSTART:19810329T020000
TZNAME:MESZ
TZOFFSETTO:+0200
END:DAYLIGHT
BEGIN:STANDARD
TZOFFSETFROM:+0200
RRULE:FREQ=YEARLY;BYMONTH=10;BYDAY=-1SU
DTSTART:19961027T030000
TZNAME:MEZ
TZOFFSETTO:+0100
END:STANDARD
END:VTIMEZONE
BEGIN:VEVENT
TRANSP:OPAQUE
DTEND;TZID=Europe/Berlin:20190524T153000
UID:FCA00D5D-72B4-4A38-BCB2-EE2BE6506CCC+ZOOMMEETINGNUMBER:130949664
DTSTAMP:20190523T192101Z
LOCATION:https://zoom.us/j/130949664
DESCRIPTION:Johannes Kepper lädt Sie zu einem geplanten Zoom-Meeting ein
 .\n\nThema: ODD Friday\nUhrzeit: Mai 24\, 2019 3:00 PM Amsterdam\, Berli
 n\, Rom\, Stockholm\, Wien\n\nZoom-Meeting beitreten\nhttps://zoom.us/j/
 130949664\n\nSchnelleinwahl mobil\n+493030806188\,\,130949664# Deutschla
 nd\n+493056795800\,\,130949664# Deutschland\n\nEinwahl nach aktuellem St
 andort\n        +49 30 3080 6188 Deutschland\n        +49 30 5679 5800 D
 eutschland\n        +49 69 8088 3899 Deutschland\n        +1 408 638 096
 8 Vereinigte Staaten von Amerika (San Jose)\n        +1 646 558 8656 Ver
 einigte Staaten von Amerika (New York)\nMeeting-ID: 130 949 664\nOrtsein
 wahl suchen: https://zoom.us/u/abBcgO7QJu\n
SEQUENCE:0
X-APPLE-TRAVEL-ADVISORY-BEHAVIOR:AUTOMATIC
SUMMARY;LANGUAGE=us-EN:ODD Friday
LAST-MODIFIED:20190523T192101Z
CREATED:20190523T192049Z
DTSTART;TZID=Europe/Berlin:20190524T150000
BEGIN:VALARM
X-WR-ALARMUID:495315F0-61A2-4AD3-B8BB-CCFF6FE68BA6
UID:495315F0-61A2-4AD3-B8BB-CCFF6FE68BA6
TRIGGER:-PT10M
DESCRIPTION:Reminder
ACTION:DISPLAY
END:VALARM
END:VEVENT
END:VCALENDAR
