BEGIN:VCALENDAR
METHOD:CANCEL
PRODID:Microsoft Exchange Server 2010
VERSION:2.0
BEGIN:VTIMEZONE
TZID:W. Europe Standard Time
BEGIN:STANDARD
DTSTART:16010101T030000
TZOFFSETFROM:+0200
TZOFFSETTO:+0100
RRULE:FREQ=YEARLY;INTERVAL=1;BYDAY=-1SU;BYMONTH=10
END:STANDARD
BEGIN:DAYLIGHT
DTSTART:16010101T020000
TZOFFSETFROM:+0100
TZOFFSETTO:+0200
RRULE:FREQ=YEARLY;INTERVAL=1;BYDAY=-1SU;BYMONTH=3
END:DAYLIGHT
END:VTIMEZONE
BEGIN:VEVENT
ORGANIZER;CN=Daniel Preuß:MAILTO:daniel.preuss@uni-paderborn.de
ATTENDEE;ROLE=REQ-PARTICIPANT;PARTSTAT=NEEDS-ACTION;RSVP=TRUE;CN=bikini@lis
 ts.uni-paderborn.de:MAILTO:bikini@lists.uni-paderborn.de
ATTENDEE;ROLE=OPT-PARTICIPANT;PARTSTAT=NEEDS-ACTION;RSVP=TRUE;CN=Tim Hottow
 itz:MAILTO:th@untrouble.de
ATTENDEE;ROLE=OPT-PARTICIPANT;PARTSTAT=NEEDS-ACTION;RSVP=TRUE;CN="Kordass, R
 ichard":MAILTO:richard.kordass@edag.com
ATTENDEE;ROLE=OPT-PARTICIPANT;PARTSTAT=NEEDS-ACTION;RSVP=TRUE;CN=Kathrin Sc
 herlebeck:MAILTO:ks@untrouble.de
ATTENDEE;ROLE=OPT-PARTICIPANT;PARTSTAT=NEEDS-ACTION;RSVP=TRUE;CN="Jürgens, 
 Simon":MAILTO:s.juergens@krause-dimatec.de
ATTENDEE;ROLE=OPT-PARTICIPANT;PARTSTAT=NEEDS-ACTION;RSVP=TRUE;CN=Ronald Har
 twig:MAILTO:rh@untrouble.de
ATTENDEE;ROLE=OPT-PARTICIPANT;PARTSTAT=NEEDS-ACTION;RSVP=TRUE;CN=Klaas Tusc
 hen:MAILTO:klaas.tuschen@uni-paderborn.de
ATTENDEE;ROLE=OPT-PARTICIPANT;PARTSTAT=NEEDS-ACTION;RSVP=TRUE;CN=Philipp Ju
 ng:MAILTO:philipp.jung@uni-paderborn.de
ATTENDEE;ROLE=OPT-PARTICIPANT;PARTSTAT=NEEDS-ACTION;RSVP=TRUE;CN="Neimann, T
 homas":MAILTO:t.neimann@krause-dimatec.de
ATTENDEE;ROLE=OPT-PARTICIPANT;PARTSTAT=NEEDS-ACTION;RSVP=TRUE;CN=Philipp He
 sse:MAILTO:philipp.hesse@hni.uni-paderborn.de
ATTENDEE;ROLE=OPT-PARTICIPANT;PARTSTAT=NEEDS-ACTION;RSVP=TRUE;CN=Philipp Gr
 ewer:MAILTO:pg@untrouble.de
ATTENDEE;ROLE=OPT-PARTICIPANT;PARTSTAT=NEEDS-ACTION;RSVP=TRUE;CN=Carmen De 
 Groote:MAILTO:degroote@additive-marking.de
DESCRIPTION;LANGUAGE=de-DE:Hallo zusammen\,\n\nwie besprochen sage ich den 
 Regeltermin ab\, weil wir in AP 5 regelmäßig einzelne Workshops planen\,
  um die Ergebnisse zu besprechen.\n\nViele Grüße\,\nDaniel\n\n----------
 --------------------------------\n\nHallo zusammen\,\n\nhier der Termin f
 ür den regelmäßigen Austausch in AP5.\n\nEs sollen anstehende Aufgaben\
 , Fortschritte und Rückfragen in einem kurzen Termin geklärt werden\, um
  bei der Entwicklung einer Nachhaltigkeitsbewertung für BIKINI voran zu k
 ommen.\n\nRelevante Links:\n[BIKINI] AP1 Value Proposition Design: https:/
 /miro.com/app/board/o9J_l5kPrEM=/\nAnalyse Nachhaltigkeitsbewertung: https
 ://miro.com/app/board/uXjVO_Dihk0=/?share_link_id=74350925961\n\nViele Gr
 üße\,\nDaniel\n_________________________________________________________
 _______________________\nMicrosoft Teams-Besprechung\nNehmen Sie auf dem C
 omputer oder in der mobilen App teil\nHier klicken\, um an der Besprechung
  teilzunehmen<https://teams.microsoft.com/l/meetup-join/19%3ameeting_NzUyO
 TU3YzctZTAzYy00NzcwLTkxNmUtMDYyODY4ZWVjYWRm%40thread.v2/0?context=%7b%22Ti
 d%22%3a%228ec81f80-0933-4f58-a816-f68d3a86cd99%22%2c%22Oid%22%3a%22f07b30e
 4-f0f6-4053-b7ac-9982244d396b%22%7d>\nBesprechungs-ID: 370 915 111 381\nPa
 sscode: 7d9i2L\nTeams herunterladen<https://www.microsoft.com/en-us/micros
 oft-teams/download-app> | Im Web beitreten<https://www.microsoft.com/micro
 soft-teams/join-a-meeting>\nWeitere Infos<https://aka.ms/JoinTeamsMeeting>
  | Besprechungsoptionen<https://teams.microsoft.com/meetingOptions/?organi
 zerId=f07b30e4-f0f6-4053-b7ac-9982244d396b&tenantId=8ec81f80-0933-4f58-a81
 6-f68d3a86cd99&threadId=19_meeting_NzUyOTU3YzctZTAzYy00NzcwLTkxNmUtMDYyODY
 4ZWVjYWRm@thread.v2&messageId=0&language=de-DE>\n_________________________
 _______________________________________________________\n\n
SUMMARY;LANGUAGE=de-DE:Abgesagt: BIKINI: Regeltermin AP 5
DTSTART;TZID=W. Europe Standard Time:20230411T150000
DTEND;TZID=W. Europe Standard Time:20230411T153000
UID:040000008200E00074C5B7101A82E00800000000B03024E606E3D801000000000000000
 01000000073EBB924E0514C4D8B81E58E809E70FC
RECURRENCE-ID;TZID=W. Europe Standard Time:20230411T150000
CLASS:PUBLIC
PRIORITY:1
DTSTAMP:20230403T074910Z
TRANSP:OPAQUE
STATUS:CANCELLED
SEQUENCE:5
LOCATION;LANGUAGE=de-DE:Microsoft Teams-Besprechung
X-MICROSOFT-CDO-APPT-SEQUENCE:5
X-MICROSOFT-CDO-OWNERAPPTID:-923621402
X-MICROSOFT-CDO-BUSYSTATUS:FREE
X-MICROSOFT-CDO-INTENDEDSTATUS:FREE
X-MICROSOFT-CDO-ALLDAYEVENT:FALSE
X-MICROSOFT-CDO-IMPORTANCE:2
X-MICROSOFT-CDO-INSTTYPE:3
X-MICROSOFT-DISALLOW-COUNTER:FALSE
END:VEVENT
END:VCALENDAR
