BEGIN:VCALENDAR
METHOD:REQUEST
PRODID:Microsoft Exchange Server 2010
VERSION:2.0
BEGIN:VTIMEZONE
TZID:W. Europe Standard Time
BEGIN:STANDARD
DTSTART:16010101T030000
TZOFFSETFROM:+0200
TZOFFSETTO:+0100
RRULE:FREQ=YEARLY;INTERVAL=1;BYDAY=-1SU;BYMONTH=10
END:STANDARD
BEGIN:DAYLIGHT
DTSTART:16010101T020000
TZOFFSETFROM:+0100
TZOFFSETTO:+0200
RRULE:FREQ=YEARLY;INTERVAL=1;BYDAY=-1SU;BYMONTH=3
END:DAYLIGHT
END:VTIMEZONE
BEGIN:VEVENT
ORGANIZER;CN="Jürgens, Simon":MAILTO:s.juergens@krause-dimatec.de
ATTENDEE;ROLE=REQ-PARTICIPANT;PARTSTAT=NEEDS-ACTION;RSVP=TRUE;CN=bikini@lis
 ts.uni-paderborn.de:MAILTO:bikini@lists.uni-paderborn.de
ATTENDEE;ROLE=OPT-PARTICIPANT;PARTSTAT=NEEDS-ACTION;RSVP=TRUE;CN=Philipp Gr
 ewer:MAILTO:pg@untrouble.de
ATTENDEE;ROLE=OPT-PARTICIPANT;PARTSTAT=NEEDS-ACTION;RSVP=TRUE;CN="Neimann, T
 homas":MAILTO:t.neimann@krause-dimatec.de
ATTENDEE;ROLE=OPT-PARTICIPANT;PARTSTAT=NEEDS-ACTION;RSVP=TRUE;CN=Daniel Pre
 uß:MAILTO:daniel.preuss@uni-paderborn.de
ATTENDEE;ROLE=OPT-PARTICIPANT;PARTSTAT=NEEDS-ACTION;RSVP=TRUE;CN="Kordass, R
 ichard":MAILTO:richard.kordass@edag.com
ATTENDEE;ROLE=OPT-PARTICIPANT;PARTSTAT=NEEDS-ACTION;RSVP=TRUE;CN="Bellingwou
 t, Christopher Johannes Jacobus":MAILTO:christopher.bellingwout@edag.com
ATTENDEE;ROLE=OPT-PARTICIPANT;PARTSTAT=NEEDS-ACTION;RSVP=TRUE;CN=Klaas Tusc
 hen:MAILTO:klaas.tuschen@uni-paderborn.de
ATTENDEE;ROLE=OPT-PARTICIPANT;PARTSTAT=NEEDS-ACTION;RSVP=TRUE;CN=Philipp He
 sse:MAILTO:philipp.hesse@hni.uni-paderborn.de
ATTENDEE;ROLE=OPT-PARTICIPANT;PARTSTAT=NEEDS-ACTION;RSVP=TRUE;CN=Carmen De 
 Groote:MAILTO:degroote@additive-marking.de
ATTENDEE;ROLE=OPT-PARTICIPANT;PARTSTAT=NEEDS-ACTION;RSVP=TRUE;CN=Ronald Har
 twig:MAILTO:rh@untrouble.de
ATTENDEE;ROLE=OPT-PARTICIPANT;PARTSTAT=NEEDS-ACTION;RSVP=TRUE;CN="Carmo Cost
 a, Joao":MAILTO:joao.carmo.costa@feynsinn.de
ATTENDEE;ROLE=OPT-PARTICIPANT;PARTSTAT=NEEDS-ACTION;RSVP=TRUE;CN=Elke Lösc
 hner:MAILTO:elke.loeschner@atos.net
ATTENDEE;ROLE=OPT-PARTICIPANT;PARTSTAT=NEEDS-ACTION;RSVP=TRUE;CN=Philipp Ju
 ng:MAILTO:philipp.jung@uni-paderborn.de
ATTENDEE;ROLE=OPT-PARTICIPANT;PARTSTAT=NEEDS-ACTION;RSVP=TRUE;CN=Tim Hottow
 itz:MAILTO:th@untrouble.de
ATTENDEE;ROLE=OPT-PARTICIPANT;PARTSTAT=NEEDS-ACTION;RSVP=TRUE;CN="Tominski, 
 Johannes":MAILTO:j.tominski@krause-dimatec.de
ATTENDEE;ROLE=OPT-PARTICIPANT;PARTSTAT=NEEDS-ACTION;RSVP=TRUE;CN="Voit, Frie
 demann":MAILTO:friedemann.voit@edag.com
ATTACH:CID:image001.png@01D958C3.A06152A0
ATTACH:CID:image002.jpg@01D958C3.A06152A0
ATTACH:CID:image003.png@01D958C3.A06152A0
ATTACH:CID:image004.jpg@01D958C3.A06152A0
ATTACH:CID:image005.png@01D958C3.A09C86E0
ATTACH:CID:image006.jpg@01D958C3.A09C86E0
ATTACH:CID:image007.png@01D958C3.A09C86E0
ATTACH:CID:image008.jpg@01D958C3.A09C86E0
ATTACH:CID:image001.png@01D958C3.A0A4EB50
ATTACH:CID:image002.jpg@01D958C3.A0A4EB50
ATTACH:CID:image003.png@01D958C3.A0A4EB50
ATTACH:CID:image004.jpg@01D958C3.A0A4EB50
DESCRIPTION;LANGUAGE=de-DE:Hallo zusammen\,\n\nkönnen wir den Termin auch 
 um eine Woche nach hinten schieben? Nächste Woche werde ich es leider nic
 ht schaffen.\n\n\n\n______________________________________________________
 __________________________\nMicrosoft Teams-Besprechung\nNehmen Sie auf de
 m Computer\, in der mobilen App oder im Raumgerät teil\nHier klicken\, um
  an der Besprechung teilzunehmen<https://teams.microsoft.com/l/meetup-join
 /19%3ameeting_MzhjYTU4MzktOTMxOC00ZTUzLTgwM2YtZmZmZGJkZDNkMzUz%40thread.v2
 /0?context=%7b%22Tid%22%3a%224812a7f3-cbc9-4f88-b59f-87b73b966886%22%2c%22
 Oid%22%3a%22b1c1efe8-eec2-44d3-a655-e2126614a349%22%7d>\n\nBesprechungs-ID
 : 347 472 665 258\nPasscode: 9toM5q\nTeams herunterladen<https://www.micro
 soft.com/en-us/microsoft-teams/download-app> | Im Web beitreten<https://ww
 w.microsoft.com/microsoft-teams/join-a-meeting>\n\nOder rufen Sie an (nur 
 Audio)\n+49 69 509544208\,\,440687535#<tel:+4969509544208\,\,440687535#>  
  Germany\, Frankfurt am Main\nTelefonkonferenz-ID: 440 687 535#\nLokale Nu
 mmer suchen<https://dialin.teams.microsoft.com/3f67da00-0a17-4c8c-b3b2-52e
 62e7c790c?id=440687535> | PIN zurücksetzen<https://dialin.teams.microsoft
 .com/usp/pstnconferencing>\n[https://www.edag-engineering.de/typo3conf/ext
 /rsn_t3bootstrap/Resources/Public/Images/logo_c.png]\nWeitere Infos<https:
 //aka.ms/JoinTeamsMeeting> | Hilfe<https://weedag.sharepoint.com/sites/IT/
 de-DE/SitePages/Microsoft-Teams.aspx> | Besprechungsoptionen<https://teams
 .microsoft.com/meetingOptions/?organizerId=b1c1efe8-eec2-44d3-a655-e212661
 4a349&tenantId=4812a7f3-cbc9-4f88-b59f-87b73b966886&threadId=19_meeting_Mz
 hjYTU4MzktOTMxOC00ZTUzLTgwM2YtZmZmZGJkZDNkMzUz@thread.v2&messageId=0&langu
 age=de-DE> | Rechtliche Hinweise<https://www.edag.com/de/rechtliches/daten
 schutz-teams-e-mail>\n____________________________________________________
 ____________________________\n\n\n\n\nMit freundlichen Grüßen\nSimon Jü
 rgens\n\n\n\n\n[KRAUSE DiMaTec-Logo]\n\nSimon Jürgens M.Sc.\n\nProzessman
 agement & Digitalisierung\n\n\n\n\n\nTelefon:\n\n+49 (0)521 – 45 99 – 
 7361\n\n[600px-LinkedIn_logo_initials]<https://de.linkedin.com/company/kra
 use-dimatec-gmbh>\n\n[xing-logo-3bd7a34cb3daaa40-256x256]<https://www.xing
 .com/companies/krausedimatecgmbh>\n\n[cid:image012.jpg@01D93A41.29414950]<
 http://www.owl-3d.de/>\n\nMobil:\n\n+49 (0)172 – 239 245 2\n\nE-Mail:\n\
 ns.juergens@krause-dimatec.de<mailto:s.juergens@krause-dimatec.de>\n\nWeb:
 \n\nwww.krause-dimatec.de<http://www.krause-dimatec.de/>\n\n\n\n\n\n\n\nKr
 ause DiMaTec GmbH\, Sitz der Gesellschaft: 33649 Bielefeld\, Paul-Schwarze
 -Straße 5\n\nHandelsregister: Amtsgericht Bielefeld\, HRB 35000\, Ust.-Id
 .-Nr.: DE 811720711\n\nGeschäftsführung: Dipl.-Kauffrau Carola Landhäus
 er\n\n\n\n\n
UID:040000008200E00074C5B7101A82E00800000000F0CF4229413AD901000000000000000
 01000000052A1839AAD241F48A3D8F3ABA8F9FB07
SUMMARY;LANGUAGE=de-DE:[BIKINI] AP5 Anforderungsanalyse
DTSTART;TZID=W. Europe Standard Time:20230328T140000
DTEND;TZID=W. Europe Standard Time:20230328T153000
CLASS:PUBLIC
PRIORITY:5
DTSTAMP:20230317T102841Z
TRANSP:OPAQUE
STATUS:CONFIRMED
SEQUENCE:2
LOCATION;LANGUAGE=de-DE:Microsoft Teams-Besprechung
X-MICROSOFT-CDO-APPT-SEQUENCE:2
X-MICROSOFT-CDO-OWNERAPPTID:-714725401
X-MICROSOFT-CDO-BUSYSTATUS:TENTATIVE
X-MICROSOFT-CDO-INTENDEDSTATUS:BUSY
X-MICROSOFT-CDO-ALLDAYEVENT:FALSE
X-MICROSOFT-CDO-IMPORTANCE:1
X-MICROSOFT-CDO-INSTTYPE:0
X-MICROSOFT-DONOTFORWARDMEETING:FALSE
X-MICROSOFT-DISALLOW-COUNTER:FALSE
END:VEVENT
END:VCALENDAR
