BEGIN:VCALENDAR
METHOD:REQUEST
PRODID:Microsoft Exchange Server 2010
VERSION:2.0
BEGIN:VTIMEZONE
TZID:W. Europe Standard Time
BEGIN:STANDARD
DTSTART:16010101T030000
TZOFFSETFROM:+0200
TZOFFSETTO:+0100
RRULE:FREQ=YEARLY;INTERVAL=1;BYDAY=-1SU;BYMONTH=10
END:STANDARD
BEGIN:DAYLIGHT
DTSTART:16010101T020000
TZOFFSETFROM:+0100
TZOFFSETTO:+0200
RRULE:FREQ=YEARLY;INTERVAL=1;BYDAY=-1SU;BYMONTH=3
END:DAYLIGHT
END:VTIMEZONE
BEGIN:VEVENT
ORGANIZER;CN="Jürgens, Simon":MAILTO:s.juergens@krause-dimatec.de
ATTENDEE;ROLE=REQ-PARTICIPANT;PARTSTAT=NEEDS-ACTION;RSVP=TRUE;CN=bikini@lis
 ts.uni-paderborn.de:MAILTO:bikini@lists.uni-paderborn.de
ATTENDEE;ROLE=OPT-PARTICIPANT;PARTSTAT=NEEDS-ACTION;RSVP=TRUE;CN=Philipp Gr
 ewer:MAILTO:pg@untrouble.de
ATTENDEE;ROLE=OPT-PARTICIPANT;PARTSTAT=NEEDS-ACTION;RSVP=TRUE;CN="Neimann, T
 homas":MAILTO:t.neimann@krause-dimatec.de
ATTENDEE;ROLE=OPT-PARTICIPANT;PARTSTAT=NEEDS-ACTION;RSVP=TRUE;CN=Daniel Pre
 uß:MAILTO:daniel.preuss@uni-paderborn.de
ATTENDEE;ROLE=OPT-PARTICIPANT;PARTSTAT=NEEDS-ACTION;RSVP=TRUE;CN="Kordass, R
 ichard":MAILTO:richard.kordass@edag.com
ATTENDEE;ROLE=OPT-PARTICIPANT;PARTSTAT=NEEDS-ACTION;RSVP=TRUE;CN="Bellingwou
 t, Christopher Johannes Jacobus":MAILTO:christopher.bellingwout@edag.com
ATTENDEE;ROLE=OPT-PARTICIPANT;PARTSTAT=NEEDS-ACTION;RSVP=TRUE;CN=Klaas Tusc
 hen:MAILTO:klaas.tuschen@uni-paderborn.de
ATTENDEE;ROLE=OPT-PARTICIPANT;PARTSTAT=NEEDS-ACTION;RSVP=TRUE;CN=Philipp He
 sse:MAILTO:philipp.hesse@hni.uni-paderborn.de
ATTENDEE;ROLE=OPT-PARTICIPANT;PARTSTAT=NEEDS-ACTION;RSVP=TRUE;CN=Carmen De 
 Groote:MAILTO:degroote@additive-marking.de
ATTENDEE;ROLE=OPT-PARTICIPANT;PARTSTAT=NEEDS-ACTION;RSVP=TRUE;CN=Ronald Har
 twig:MAILTO:rh@untrouble.de
ATTENDEE;ROLE=OPT-PARTICIPANT;PARTSTAT=NEEDS-ACTION;RSVP=TRUE;CN="Carmo Cost
 a, Joao":MAILTO:joao.carmo.costa@feynsinn.de
ATTACH:CID:image005.png@01D95042.44CA42F0
ATTACH:CID:image006.jpg@01D95042.44CA42F0
ATTACH:CID:image007.png@01D95042.44CA42F0
ATTACH:CID:image008.jpg@01D95042.44CA42F0
ATTACH:CID:image001.png@01D95042.451CF6D0
ATTACH:CID:image002.jpg@01D95042.451CF6D0
ATTACH:CID:image003.png@01D95042.451CF6D0
ATTACH:CID:image004.jpg@01D95042.451CF6D0
ATTACH:CID:image005.png@01D95042.4522C330
ATTACH:CID:image006.jpg@01D95042.4522C330
ATTACH:CID:image007.png@01D95042.4522C330
ATTACH:CID:image008.jpg@01D95042.4522C330
DESCRIPTION;LANGUAGE=de-DE:________________________________________________
 ________________________________\nMicrosoft Teams-Besprechung\nNehmen Sie 
 auf dem Computer\, in der mobilen App oder im Raumgerät teil\nHier klicke
 n\, um an der Besprechung teilzunehmen<https://teams.microsoft.com/l/meetu
 p-join/19%3ameeting_MzhjYTU4MzktOTMxOC00ZTUzLTgwM2YtZmZmZGJkZDNkMzUz%40thr
 ead.v2/0?context=%7b%22Tid%22%3a%224812a7f3-cbc9-4f88-b59f-87b73b966886%22
 %2c%22Oid%22%3a%22b1c1efe8-eec2-44d3-a655-e2126614a349%22%7d>\n\nBesprechu
 ngs-ID: 347 472 665 258\nPasscode: 9toM5q\nTeams herunterladen<https://www
 .microsoft.com/en-us/microsoft-teams/download-app> | Im Web beitreten<http
 s://www.microsoft.com/microsoft-teams/join-a-meeting>\n\nOder rufen Sie an
  (nur Audio)\n+49 69 509544208\,\,440687535#<tel:+4969509544208\,\,4406875
 35#>   Germany\, Frankfurt am Main\nTelefonkonferenz-ID: 440 687 535#\nLok
 ale Nummer suchen<https://dialin.teams.microsoft.com/3f67da00-0a17-4c8c-b3
 b2-52e62e7c790c?id=440687535> | PIN zurücksetzen<https://dialin.teams.mic
 rosoft.com/usp/pstnconferencing>\n[https://www.edag-engineering.de/typo3co
 nf/ext/rsn_t3bootstrap/Resources/Public/Images/logo_c.png]\nWeitere Infos<
 https://aka.ms/JoinTeamsMeeting> | Hilfe<https://weedag.sharepoint.com/sit
 es/IT/de-DE/SitePages/Microsoft-Teams.aspx> | Besprechungsoptionen<https:/
 /teams.microsoft.com/meetingOptions/?organizerId=b1c1efe8-eec2-44d3-a655-e
 2126614a349&tenantId=4812a7f3-cbc9-4f88-b59f-87b73b966886&threadId=19_meet
 ing_MzhjYTU4MzktOTMxOC00ZTUzLTgwM2YtZmZmZGJkZDNkMzUz@thread.v2&messageId=0
 &language=de-DE> | Rechtliche Hinweise<https://www.edag.com/de/rechtliches
 /datenschutz-teams-e-mail>\n______________________________________________
 __________________________________\n\n\n\n\nMit freundlichen Grüßen\nSim
 on Jürgens\n\n\n\n\n[KRAUSE DiMaTec-Logo]\n\nSimon Jürgens M.Sc.\n\nProz
 essmanagement & Digitalisierung\n\n\n\n\n\nTelefon:\n\n+49 (0)521 – 45 9
 9 – 7361\n\n[600px-LinkedIn_logo_initials]<https://de.linkedin.com/compa
 ny/krause-dimatec-gmbh>\n\n[xing-logo-3bd7a34cb3daaa40-256x256]<https://ww
 w.xing.com/companies/krausedimatecgmbh>\n\n[cid:image012.jpg@01D93A41.2941
 4950]<http://www.owl-3d.de/>\n\nMobil:\n\n+49 (0)172 – 239 245 2\n\nE-Ma
 il:\n\ns.juergens@krause-dimatec.de<mailto:s.juergens@krause-dimatec.de>\n
 \nWeb:\n\nwww.krause-dimatec.de<http://www.krause-dimatec.de/>\n\n\n\n\n\n
 \n\nKrause DiMaTec GmbH\, Sitz der Gesellschaft: 33649 Bielefeld\, Paul-Sc
 hwarze-Straße 5\n\nHandelsregister: Amtsgericht Bielefeld\, HRB 35000\, U
 st.-Id.-Nr.: DE 811720711\n\nGeschäftsführung: Dipl.-Kauffrau Carola Lan
 dhäuser\n\n\n\n\n
UID:040000008200E00074C5B7101A82E00800000000F0CF4229413AD901000000000000000
 01000000052A1839AAD241F48A3D8F3ABA8F9FB07
SUMMARY;LANGUAGE=de-DE:[BIKINI] AP5 Anforderungsanalyse
DTSTART;TZID=W. Europe Standard Time:20230321T140000
DTEND;TZID=W. Europe Standard Time:20230321T153000
CLASS:PUBLIC
PRIORITY:5
DTSTAMP:20230306T144233Z
TRANSP:OPAQUE
STATUS:CONFIRMED
SEQUENCE:1
LOCATION;LANGUAGE=de-DE:Microsoft Teams-Besprechung
X-MICROSOFT-CDO-APPT-SEQUENCE:1
X-MICROSOFT-CDO-OWNERAPPTID:-714725401
X-MICROSOFT-CDO-BUSYSTATUS:TENTATIVE
X-MICROSOFT-CDO-INTENDEDSTATUS:BUSY
X-MICROSOFT-CDO-ALLDAYEVENT:FALSE
X-MICROSOFT-CDO-IMPORTANCE:1
X-MICROSOFT-CDO-INSTTYPE:0
X-MICROSOFT-DONOTFORWARDMEETING:FALSE
X-MICROSOFT-DISALLOW-COUNTER:FALSE
END:VEVENT
END:VCALENDAR
