BEGIN:VCALENDAR
METHOD:REQUEST
PRODID:Microsoft Exchange Server 2010
VERSION:2.0
BEGIN:VTIMEZONE
TZID:W. Europe Standard Time
BEGIN:STANDARD
DTSTART:16010101T030000
TZOFFSETFROM:+0200
TZOFFSETTO:+0100
RRULE:FREQ=YEARLY;INTERVAL=1;BYDAY=-1SU;BYMONTH=10
END:STANDARD
BEGIN:DAYLIGHT
DTSTART:16010101T020000
TZOFFSETFROM:+0100
TZOFFSETTO:+0200
RRULE:FREQ=YEARLY;INTERVAL=1;BYDAY=-1SU;BYMONTH=3
END:DAYLIGHT
END:VTIMEZONE
BEGIN:VEVENT
ORGANIZER;CN="Jürgens, Simon":MAILTO:s.juergens@krause-dimatec.de
ATTENDEE;ROLE=REQ-PARTICIPANT;PARTSTAT=NEEDS-ACTION;RSVP=TRUE;CN=bikini@lis
 ts.uni-paderborn.de:MAILTO:bikini@lists.uni-paderborn.de
ATTENDEE;ROLE=REQ-PARTICIPANT;PARTSTAT=NEEDS-ACTION;RSVP=TRUE;CN=Gudrun Tsc
 hirner-Vinke:MAILTO:gudrun.tschirner-vinke@atos.net
ATTACH:CID:image001.png@01D95057.2A14BFC0
ATTACH:CID:image002.jpg@01D95057.2A14BFC0
ATTACH:CID:image003.png@01D95057.2A14BFC0
ATTACH:CID:image004.jpg@01D95057.2A14BFC0
ATTACH:CID:image005.png@01D95057.2A30AC30
ATTACH:CID:image006.jpg@01D95057.2A30AC30
ATTACH:CID:image007.png@01D95057.2A30AC30
ATTACH:CID:image008.jpg@01D95057.2A30AC30
ATTACH:CID:image001.png@01D95057.2A3762F0
ATTACH:CID:image002.jpg@01D95057.2A3762F0
ATTACH:CID:image003.png@01D95057.2A3762F0
ATTACH:CID:image004.jpg@01D95057.2A3762F0
DESCRIPTION;LANGUAGE=de-DE:Hallo zusammen\,\n\nwie besprochen anbei noch de
 r Termin zur weiteren Besprechung des UI.\n\n\n-       Detaillierte Abstim
 mung zur GUI\n\n-       Vorgehen bei der Implementierung innerhalb der Kom
 ponenten\n\n-       Umsetzung übergeordnete GUI\n\nLink zur Viko:\n\nhttp
 s://teams.live.com/meet/9442394547871?p=Lu2r27mu0mByCSTv1y\n\n\nMit freund
 lichen Grüßen\nSimon Jürgens\n\n\n\n\n[KRAUSE DiMaTec-Logo]\n\nSimon J
 ürgens M.Sc.\n\nProzessmanagement & Digitalisierung\n\n\n\n\n\nTelefon:\n
 \n+49 (0)521 – 45 99 – 7361\n\n[600px-LinkedIn_logo_initials]<https://
 de.linkedin.com/company/krause-dimatec-gmbh>\n\n[xing-logo-3bd7a34cb3daaa4
 0-256x256]<https://www.xing.com/companies/krausedimatecgmbh>\n\n[cid:image
 012.jpg@01D95057.29F85E20]<http://www.owl-3d.de/>\n\nMobil:\n\n+49 (0)172 
 – 239 245 2\n\nE-Mail:\n\ns.juergens@krause-dimatec.de<mailto:s.juergens
 @krause-dimatec.de>\n\nWeb:\n\nwww.krause-dimatec.de<http://www.krause-dim
 atec.de/>\n\n\n\n\n\n\n\nKrause DiMaTec GmbH\, Sitz der Gesellschaft: 3364
 9 Bielefeld\, Paul-Schwarze-Straße 5\n\nHandelsregister: Amtsgericht Biel
 efeld\, HRB 35000\, Ust.-Id.-Nr.: DE 811720711\n\nGeschäftsführung: Dipl
 .-Kauffrau Carola Landhäuser\n\n\n\n\n
UID:040000008200E00074C5B7101A82E00800000000401DFB295750D901000000000000000
 01000000007F60894D81AE140A20B1691BBEBB77B
SUMMARY;LANGUAGE=de-DE:[BIKINI] Design Guide | Mock-Ups | Implementierung
DTSTART;TZID=W. Europe Standard Time:20230317T100000
DTEND;TZID=W. Europe Standard Time:20230317T110000
CLASS:PUBLIC
PRIORITY:5
DTSTAMP:20230306T171208Z
TRANSP:OPAQUE
STATUS:CONFIRMED
SEQUENCE:0
LOCATION;LANGUAGE=de-DE:MS-Teams Besprechung
X-MICROSOFT-CDO-APPT-SEQUENCE:0
X-MICROSOFT-CDO-OWNERAPPTID:-1736034329
X-MICROSOFT-CDO-BUSYSTATUS:TENTATIVE
X-MICROSOFT-CDO-INTENDEDSTATUS:BUSY
X-MICROSOFT-CDO-ALLDAYEVENT:FALSE
X-MICROSOFT-CDO-IMPORTANCE:1
X-MICROSOFT-CDO-INSTTYPE:0
X-MICROSOFT-DONOTFORWARDMEETING:FALSE
X-MICROSOFT-DISALLOW-COUNTER:FALSE
BEGIN:VALARM
DESCRIPTION:REMINDER
TRIGGER;RELATED=START:-PT15M
ACTION:DISPLAY
END:VALARM
END:VEVENT
END:VCALENDAR
