BEGIN:VCALENDAR
METHOD:REQUEST
PRODID:Microsoft Exchange Server 2010
VERSION:2.0
BEGIN:VTIMEZONE
TZID:W. Europe Standard Time
BEGIN:STANDARD
DTSTART:16010101T030000
TZOFFSETFROM:+0200
TZOFFSETTO:+0100
RRULE:FREQ=YEARLY;INTERVAL=1;BYDAY=-1SU;BYMONTH=10
END:STANDARD
BEGIN:DAYLIGHT
DTSTART:16010101T020000
TZOFFSETFROM:+0100
TZOFFSETTO:+0200
RRULE:FREQ=YEARLY;INTERVAL=1;BYDAY=-1SU;BYMONTH=3
END:DAYLIGHT
END:VTIMEZONE
BEGIN:VEVENT
ORGANIZER;CN=Tim Hottowitz:mailto:th@untrouble.de
ATTENDEE;ROLE=REQ-PARTICIPANT;PARTSTAT=NEEDS-ACTION;RSVP=TRUE;CN=Philipp Gr
 ewer:mailto:pg@untrouble.de
ATTENDEE;ROLE=REQ-PARTICIPANT;PARTSTAT=NEEDS-ACTION;RSVP=TRUE;CN=gudrun.tsc
 hirner-vinke@atos.net:mailto:gudrun.tschirner-vinke@atos.net
ATTENDEE;ROLE=REQ-PARTICIPANT;PARTSTAT=NEEDS-ACTION;RSVP=TRUE;CN=daniel.pre
 uss@uni-paderborn.de:mailto:daniel.preuss@uni-paderborn.de
ATTENDEE;ROLE=REQ-PARTICIPANT;PARTSTAT=NEEDS-ACTION;RSVP=TRUE;CN=s.juergens
 @krause-dimatec.de:mailto:s.juergens@krause-dimatec.de
ATTENDEE;ROLE=OPT-PARTICIPANT;PARTSTAT=NEEDS-ACTION;RSVP=TRUE;CN=bikini@lis
 ts.uni-paderborn.de:mailto:bikini@lists.uni-paderborn.de
DESCRIPTION;LANGUAGE=en-US:\n\n\n__________________________________________
 ______________________________________\nMicrosoft Teams-Besprechung\nNehme
 n Sie auf dem Computer\, in der mobilen App oder im Raumgerät teil\nHier 
 klicken\, um an der Besprechung teilzunehmen<https://teams.microsoft.com/l
 /meetup-join/19%3ameeting_NmFmM2U4NTYtYzBiMC00M2I0LTg0MTUtOTlhOGY1NzI1MGIz
 %40thread.v2/0?context=%7b%22Tid%22%3a%22012a8d8c-f8df-4999-abdc-1cfd11d1c
 2f7%22%2c%22Oid%22%3a%22afd1b286-38de-44e9-89d2-41e7ad7247a5%22%7d>\nBespr
 echungs-ID: 340 011 982 786\nPasscode: YiJ7xW\nTeams herunterladen<https:/
 /www.microsoft.com/en-us/microsoft-teams/download-app> | Im Web beitreten<
 https://www.microsoft.com/microsoft-teams/join-a-meeting>\nWeitere Infos<h
 ttps://aka.ms/JoinTeamsMeeting> | Besprechungsoptionen<https://teams.micro
 soft.com/meetingOptions/?organizerId=afd1b286-38de-44e9-89d2-41e7ad7247a5&
 tenantId=012a8d8c-f8df-4999-abdc-1cfd11d1c2f7&threadId=19_meeting_NmFmM2U4
 NTYtYzBiMC00M2I0LTg0MTUtOTlhOGY1NzI1MGIz@thread.v2&messageId=0&language=de
 -DE>\n____________________________________________________________________
 ____________\n
UID:040000008200E00074C5B7101A82E00800000000EC3E5B73283AD901000000000000000
 01000000095F687D0205AC340ADB7BA2012205553
SUMMARY;LANGUAGE=en-US:Abstimmung BIKINI-Design
DTSTART;TZID=W. Europe Standard Time:20230223T120000
DTEND;TZID=W. Europe Standard Time:20230223T130000
CLASS:PUBLIC
PRIORITY:5
DTSTAMP:20230206T124220Z
TRANSP:OPAQUE
STATUS:CONFIRMED
SEQUENCE:0
X-MICROSOFT-CDO-APPT-SEQUENCE:0
X-MICROSOFT-CDO-OWNERAPPTID:2121413612
X-MICROSOFT-CDO-BUSYSTATUS:TENTATIVE
X-MICROSOFT-CDO-INTENDEDSTATUS:BUSY
X-MICROSOFT-CDO-ALLDAYEVENT:FALSE
X-MICROSOFT-CDO-IMPORTANCE:1
X-MICROSOFT-CDO-INSTTYPE:0
X-MICROSOFT-ONLINEMEETINGINFORMATION:{"OnlineMeetingChannelId":null\,"Onlin
 eMeetingProvider":3}
X-MICROSOFT-SKYPETEAMSMEETINGURL:https://teams.microsoft.com/l/meetup-join/
 19%3ameeting_NmFmM2U4NTYtYzBiMC00M2I0LTg0MTUtOTlhOGY1NzI1MGIz%40thread.v2/
 0?context=%7b%22Tid%22%3a%22012a8d8c-f8df-4999-abdc-1cfd11d1c2f7%22%2c%22O
 id%22%3a%22afd1b286-38de-44e9-89d2-41e7ad7247a5%22%7d
X-MICROSOFT-SCHEDULINGSERVICEUPDATEURL:https://api.scheduler.teams.microsof
 t.com/teams/012a8d8c-f8df-4999-abdc-1cfd11d1c2f7/afd1b286-38de-44e9-89d2-4
 1e7ad7247a5/19_meeting_NmFmM2U4NTYtYzBiMC00M2I0LTg0MTUtOTlhOGY1NzI1MGIz@th
 read.v2/0
X-MICROSOFT-SKYPETEAMSPROPERTIES:{"cid":"19:meeting_NmFmM2U4NTYtYzBiMC00M2I
 0LTg0MTUtOTlhOGY1NzI1MGIz@thread.v2"\,"rid":0\,"mid":0\,"uid":null\,"priva
 te":true\,"type":0}
X-MICROSOFT-ONLINEMEETINGCONFLINK:conf:sip:th@untrouble.de\;gruu\;opaque=ap
 p:conf:focus:id:teams:2:0!19:meeting_NmFmM2U4NTYtYzBiMC00M2I0LTg0MTUtOTlhO
 GY1NzI1MGIz-thread.v2!afd1b28638de44e989d241e7ad7247a5!012a8d8cf8df4999abd
 c1cfd11d1c2f7
X-MICROSOFT-DONOTFORWARDMEETING:FALSE
X-MICROSOFT-DISALLOW-COUNTER:FALSE
BEGIN:VALARM
DESCRIPTION:REMINDER
TRIGGER;RELATED=START:-PT15M
ACTION:DISPLAY
END:VALARM
END:VEVENT
END:VCALENDAR
