BEGIN:VCALENDAR
METHOD:REQUEST
PRODID:Microsoft Exchange Server 2010
VERSION:2.0
BEGIN:VTIMEZONE
TZID:W. Europe Standard Time
BEGIN:STANDARD
DTSTART:16010101T030000
TZOFFSETFROM:+0200
TZOFFSETTO:+0100
RRULE:FREQ=YEARLY;INTERVAL=1;BYDAY=-1SU;BYMONTH=10
END:STANDARD
BEGIN:DAYLIGHT
DTSTART:16010101T020000
TZOFFSETFROM:+0100
TZOFFSETTO:+0200
RRULE:FREQ=YEARLY;INTERVAL=1;BYDAY=-1SU;BYMONTH=3
END:DAYLIGHT
END:VTIMEZONE
BEGIN:VEVENT
ORGANIZER;CN=Daniel Preuß:MAILTO:daniel.preuss@uni-paderborn.de
ATTENDEE;ROLE=REQ-PARTICIPANT;PARTSTAT=NEEDS-ACTION;RSVP=TRUE;CN=bikini@lis
 ts.uni-paderborn.de:MAILTO:bikini@lists.uni-paderborn.de
DESCRIPTION;LANGUAGE=de-DE:Hallo zusammen\,\n\nwährend des Termins besprec
 hen wir das BIKINI 2.0 Konzept und das weitere Vorgehen.\n\nViele Grüße\
 ,\nDaniel\n_______________________________________________________________
 _________________\nMicrosoft Teams-Besprechung\nNehmen Sie auf dem Compute
 r\, in der mobilen App oder im Raumgerät teil\nHier klicken\, um an der B
 esprechung teilzunehmen<https://teams.microsoft.com/l/meetup-join/19%3amee
 ting_YmM4ODA2NjYtZmNiZi00YzVmLTk4MjEtZWJmNDk3OWFmNGMx%40thread.v2/0?contex
 t=%7b%22Tid%22%3a%228ec81f80-0933-4f58-a816-f68d3a86cd99%22%2c%22Oid%22%3a
 %22f07b30e4-f0f6-4053-b7ac-9982244d396b%22%7d>\nBesprechungs-ID: 316 762 0
 69 801\nPasscode: 4anNWR\nTeams herunterladen<https://www.microsoft.com/en
 -us/microsoft-teams/download-app> | Im Web beitreten<https://www.microsoft
 .com/microsoft-teams/join-a-meeting>\nWeitere Infos<https://aka.ms/JoinTea
 msMeeting> | Besprechungsoptionen<https://teams.microsoft.com/meetingOptio
 ns/?organizerId=f07b30e4-f0f6-4053-b7ac-9982244d396b&tenantId=8ec81f80-093
 3-4f58-a816-f68d3a86cd99&threadId=19_meeting_YmM4ODA2NjYtZmNiZi00YzVmLTk4M
 jEtZWJmNDk3OWFmNGMx@thread.v2&messageId=0&language=de-DE>\n_______________
 _________________________________________________________________\n\n
SUMMARY;LANGUAGE=de-DE:BIKINI 2.0 Abstimmung
DTSTART;TZID=W. Europe Standard Time:20230227T090000
DTEND;TZID=W. Europe Standard Time:20230227T100000
UID:040000008200E00074C5B7101A82E00800000000D084B058233AD901000000000000000
 0100000008A81F4596D2A554CAB6A00DE65342A67
CLASS:PUBLIC
PRIORITY:5
DTSTAMP:20230206T110713Z
TRANSP:OPAQUE
STATUS:CONFIRMED
SEQUENCE:0
LOCATION;LANGUAGE=de-DE:Microsoft Teams-Besprechung
X-MICROSOFT-CDO-APPT-SEQUENCE:0
X-MICROSOFT-CDO-OWNERAPPTID:-1159321625
X-MICROSOFT-CDO-BUSYSTATUS:TENTATIVE
X-MICROSOFT-CDO-INTENDEDSTATUS:BUSY
X-MICROSOFT-CDO-ALLDAYEVENT:FALSE
X-MICROSOFT-CDO-IMPORTANCE:1
X-MICROSOFT-CDO-INSTTYPE:0
X-MICROSOFT-DISALLOW-COUNTER:FALSE
BEGIN:VALARM
DESCRIPTION:REMINDER
TRIGGER;RELATED=START:-PT15M
ACTION:DISPLAY
END:VALARM
END:VEVENT
END:VCALENDAR
