BEGIN:VCALENDAR
METHOD:REQUEST
PRODID:Microsoft Exchange Server 2010
VERSION:2.0
BEGIN:VTIMEZONE
TZID:W. Europe Standard Time
BEGIN:STANDARD
DTSTART:16010101T030000
TZOFFSETFROM:+0200
TZOFFSETTO:+0100
RRULE:FREQ=YEARLY;INTERVAL=1;BYDAY=-1SU;BYMONTH=10
END:STANDARD
BEGIN:DAYLIGHT
DTSTART:16010101T020000
TZOFFSETFROM:+0100
TZOFFSETTO:+0200
RRULE:FREQ=YEARLY;INTERVAL=1;BYDAY=-1SU;BYMONTH=3
END:DAYLIGHT
END:VTIMEZONE
BEGIN:VEVENT
ORGANIZER;CN="Jürgens, Simon":MAILTO:s.juergens@krause-dimatec.de
ATTENDEE;ROLE=REQ-PARTICIPANT;PARTSTAT=NEEDS-ACTION;RSVP=TRUE;CN=bikini@lis
 ts.uni-paderborn.de:MAILTO:bikini@lists.uni-paderborn.de
ATTACH:CID:image001.png@01D91F88.95DA1110
ATTACH:CID:image002.png@01D91F88.95EED190
ATTACH:CID:image001.png@01D91F88.95F75D10
DESCRIPTION;LANGUAGE=de-DE:Hallo zusammen\,\n\nim AP5 Regeltermin haben wir
  uns darauf geeinigt die Ergebnisse des Arbeitstreffens in einem gemeinsam
 en Workshop auszuwerten und direkt in die Anforderungsdefinition überzuge
 hen.\n\nDazu anbei ein erster Vorschlag für den Workshop in digitaler For
 m.\n\nSollte der Termin nicht passen gerne kurze Rückmeldung an mich.\n\n
 \n\n\n\nSimon Jürgens lädt Sie zu einem geplanten Zoom-Meeting ein.\n\nZ
 oom-Meeting beitreten\nhttps://us02web.zoom.us/j/81059670293?pwd=TTRWcSs5W
 mhoTVdyS0MwS2RFUWR6UT09\n\nMeeting-ID: 810 5967 0293\nKenncode: 819072\nSc
 hnelleinwahl mobil\n+13602095623\,\,81059670293#\,\,\,\,*819072# Vereinigt
 e Staaten\n+13863475053\,\,81059670293#\,\,\,\,*819072# Vereinigte Staaten
 \n\nEinwahl nach aktuellem Standort\n        +1 360 209 5623 Vereinigte St
 aaten\n        +1 386 347 5053 Vereinigte Staaten\n        +1 507 473 4847
  Vereinigte Staaten\n        +1 564 217 2000 Vereinigte Staaten\n        +
 1 646 558 8656 Vereinigte Staaten (New York)\n        +1 646 931 3860 Vere
 inigte Staaten\n        +1 669 444 9171 Vereinigte Staaten\n        +1 669
  900 9128 Vereinigte Staaten (San Jose)\n        +1 689 278 1000 Vereinigt
 e Staaten\n        +1 719 359 4580 Vereinigte Staaten\n        +1 253 205 
 0468 Vereinigte Staaten\n        +1 253 215 8782 Vereinigte Staaten (Tacom
 a)\n        +1 301 715 8592 Vereinigte Staaten (Washington DC)\n        +1
  305 224 1968 Vereinigte Staaten\n        +1 309 205 3325 Vereinigte Staat
 en\n        +1 312 626 6799 Vereinigte Staaten (Chicago)\n        +1 346 2
 48 7799 Vereinigte Staaten (Houston)\nMeeting-ID: 810 5967 0293\nKenncode:
  819072\nOrtseinwahl suchen: https://us02web.zoom.us/u/kbN35gQgKC\n\n\n\nM
 it freundlichen Grüßen\nSimon Jürgens\n\n\n\n\n[KRAUSE DiMaTec-Logo]\n\
 nSimon Jürgens M.Sc.\n\nProzessmanagement & Digitalisierung\n\n\n\n\n\nTe
 lefon:\n\n+49 (0)521 – 45 99 – 7361\n\n\nMobil:\n\n+49 (0)172 – 239 
 245 2\n\nE-Mail:\n\ns.juergens@krause-dimatec.de<mailto:s.juergens@krause-
 dimatec.de>\n\nWeb:\n\nwww.krause-dimatec.de<http://www.krause-dimatec.de/
 >\n\n\n\n\n\n\n\nKrause DiMaTec GmbH\, Sitz der Gesellschaft: 33649 Bielef
 eld\, Paul-Schwarze-Straße 5\n\nHandelsregister: Amtsgericht Bielefeld\, 
 HRB 35000\, Ust.-Id.-Nr.: DE 811720711\n\nGeschäftsführung: Dipl.-Kauffr
 au Carola Landhäuser\n\n\n\n\n\n
UID:040000008200E00074C5B7101A82E0080000000010DE184A871FD901000000000000000
 010000000BA16A9E3264B9341B202F8BD44F1707F
SUMMARY;LANGUAGE=de-DE:[BIKINI] AP5 Anschlussworkshop
DTSTART;TZID=W. Europe Standard Time:20230206T140000
DTEND;TZID=W. Europe Standard Time:20230206T170000
CLASS:PUBLIC
PRIORITY:5
DTSTAMP:20230103T143227Z
TRANSP:OPAQUE
STATUS:CONFIRMED
SEQUENCE:0
LOCATION;LANGUAGE=de-DE:https://us02web.zoom.us/j/81059670293?pwd=TTRWcSs5W
 mhoTVdyS0MwS2RFUWR6UT09
X-MICROSOFT-CDO-APPT-SEQUENCE:0
X-MICROSOFT-CDO-OWNERAPPTID:-326952985
X-MICROSOFT-CDO-BUSYSTATUS:TENTATIVE
X-MICROSOFT-CDO-INTENDEDSTATUS:BUSY
X-MICROSOFT-CDO-ALLDAYEVENT:FALSE
X-MICROSOFT-CDO-IMPORTANCE:1
X-MICROSOFT-CDO-INSTTYPE:0
X-MICROSOFT-DONOTFORWARDMEETING:FALSE
X-MICROSOFT-DISALLOW-COUNTER:FALSE
BEGIN:VALARM
DESCRIPTION:REMINDER
TRIGGER;RELATED=START:-PT15M
ACTION:DISPLAY
END:VALARM
END:VEVENT
END:VCALENDAR
