BEGIN:VCALENDAR
METHOD:CANCEL
PRODID:Microsoft Exchange Server 2010
VERSION:2.0
BEGIN:VTIMEZONE
TZID:W. Europe Standard Time
BEGIN:STANDARD
DTSTART:16010101T030000
TZOFFSETFROM:+0200
TZOFFSETTO:+0100
RRULE:FREQ=YEARLY;INTERVAL=1;BYDAY=-1SU;BYMONTH=10
END:STANDARD
BEGIN:DAYLIGHT
DTSTART:16010101T020000
TZOFFSETFROM:+0100
TZOFFSETTO:+0200
RRULE:FREQ=YEARLY;INTERVAL=1;BYDAY=-1SU;BYMONTH=3
END:DAYLIGHT
END:VTIMEZONE
BEGIN:VEVENT
ORGANIZER;CN=Daniel Preuß:MAILTO:daniel.preuss@uni-paderborn.de
ATTENDEE;ROLE=REQ-PARTICIPANT;PARTSTAT=NEEDS-ACTION;RSVP=TRUE;CN=bikini@lis
 ts.uni-paderborn.de:MAILTO:bikini@lists.uni-paderborn.de
ATTENDEE;ROLE=OPT-PARTICIPANT;PARTSTAT=NEEDS-ACTION;RSVP=TRUE;CN="Hammer, Ch
 ristophe":MAILTO:christophe.hammer@feynsinn.de
ATTENDEE;ROLE=OPT-PARTICIPANT;PARTSTAT=NEEDS-ACTION;RSVP=TRUE;CN="Jürgens, 
 Simon":MAILTO:s.juergens@krause-dimatec.de
ATTENDEE;ROLE=OPT-PARTICIPANT;PARTSTAT=NEEDS-ACTION;RSVP=TRUE;CN="Voit, Frie
 demann":MAILTO:friedemann.voit@edag.com
ATTENDEE;ROLE=OPT-PARTICIPANT;PARTSTAT=NEEDS-ACTION;RSVP=TRUE;CN=Philipp He
 sse:MAILTO:philipp.hesse@hni.uni-paderborn.de
ATTENDEE;ROLE=OPT-PARTICIPANT;PARTSTAT=NEEDS-ACTION;RSVP=TRUE;CN=Kathrin Sc
 herlebeck:MAILTO:ks@untrouble.de
ATTENDEE;ROLE=OPT-PARTICIPANT;PARTSTAT=NEEDS-ACTION;RSVP=TRUE;CN="Kordass, R
 ichard":MAILTO:richard.kordass@edag.com
ATTENDEE;ROLE=OPT-PARTICIPANT;PARTSTAT=NEEDS-ACTION;RSVP=TRUE;CN=Ronald Har
 twig:MAILTO:rh@untrouble.de
ATTENDEE;ROLE=OPT-PARTICIPANT;PARTSTAT=NEEDS-ACTION;RSVP=TRUE;CN=Klaas Tusc
 hen:MAILTO:klaas.tuschen@uni-paderborn.de
ATTENDEE;ROLE=OPT-PARTICIPANT;PARTSTAT=NEEDS-ACTION;RSVP=TRUE;CN=Philipp Ju
 ng:MAILTO:philipp.jung@uni-paderborn.de
ATTENDEE;ROLE=OPT-PARTICIPANT;PARTSTAT=NEEDS-ACTION;RSVP=TRUE;CN="Neimann, T
 homas":MAILTO:t.neimann@krause-dimatec.de
DESCRIPTION;LANGUAGE=de-DE:Hallo zusammen\,\n\nSimon ist leider krank. Woll
 en wir im neuen Jahr mit dem Regeltermin fortführen oder gibt es dringend
 en Abstimmungsbedarf?\n\nViele Grüße\,\nDaniel\n\n----------------------
 --------------------------------------------------------------------------
 ------------\nHallo zusammen\,\n\nhier der Termin für den regelmäßigen 
 Austausch in AP5.\n\nEs sollen anstehende Aufgaben\, Fortschritte und Rüc
 kfragen in einem kurzen Termin geklärt werden\, um bei der Entwicklung ei
 ner Nachhaltigkeitsbewertung für BIKINI voran zu kommen.\n\nRelevante Lin
 ks:\n[BIKINI] AP1 Value Proposition Design: https://miro.com/app/board/o9J
 _l5kPrEM=/\nAnalyse Nachhaltigkeitsbewertung: https://miro.com/app/board/u
 XjVO_Dihk0=/?share_link_id=74350925961\n\nViele Grüße\,\nDaniel\n_______
 _________________________________________________________________________\
 nMicrosoft Teams-Besprechung\nNehmen Sie auf dem Computer oder in der mobi
 len App teil\nHier klicken\, um an der Besprechung teilzunehmen<https://te
 ams.microsoft.com/l/meetup-join/19%3ameeting_NzUyOTU3YzctZTAzYy00NzcwLTkxN
 mUtMDYyODY4ZWVjYWRm%40thread.v2/0?context=%7b%22Tid%22%3a%228ec81f80-0933-
 4f58-a816-f68d3a86cd99%22%2c%22Oid%22%3a%22f07b30e4-f0f6-4053-b7ac-9982244
 d396b%22%7d>\nBesprechungs-ID: 370 915 111 381\nPasscode: 7d9i2L\nTeams he
 runterladen<https://www.microsoft.com/en-us/microsoft-teams/download-app> 
 | Im Web beitreten<https://www.microsoft.com/microsoft-teams/join-a-meetin
 g>\nWeitere Infos<https://aka.ms/JoinTeamsMeeting> | Besprechungsoptionen<
 https://teams.microsoft.com/meetingOptions/?organizerId=f07b30e4-f0f6-4053
 -b7ac-9982244d396b&tenantId=8ec81f80-0933-4f58-a816-f68d3a86cd99&threadId=
 19_meeting_NzUyOTU3YzctZTAzYy00NzcwLTkxNmUtMDYyODY4ZWVjYWRm@thread.v2&mess
 ageId=0&language=de-DE>\n_________________________________________________
 _______________________________\n\n
SUMMARY;LANGUAGE=de-DE:Abgesagt: BIKINI: Regeltermin AP 5
DTSTART;TZID=W. Europe Standard Time:20221220T150000
DTEND;TZID=W. Europe Standard Time:20221220T153000
UID:040000008200E00074C5B7101A82E00800000000B03024E606E3D801000000000000000
 01000000073EBB924E0514C4D8B81E58E809E70FC
RECURRENCE-ID;TZID=W. Europe Standard Time:20221220T150000
CLASS:PUBLIC
PRIORITY:1
DTSTAMP:20221220T120724Z
TRANSP:OPAQUE
STATUS:CANCELLED
SEQUENCE:3
LOCATION;LANGUAGE=de-DE:Microsoft Teams-Besprechung
X-MICROSOFT-CDO-APPT-SEQUENCE:3
X-MICROSOFT-CDO-OWNERAPPTID:-923621402
X-MICROSOFT-CDO-BUSYSTATUS:FREE
X-MICROSOFT-CDO-INTENDEDSTATUS:FREE
X-MICROSOFT-CDO-ALLDAYEVENT:FALSE
X-MICROSOFT-CDO-IMPORTANCE:2
X-MICROSOFT-CDO-INSTTYPE:3
X-MICROSOFT-DISALLOW-COUNTER:FALSE
END:VEVENT
END:VCALENDAR
