BEGIN:VCALENDAR
METHOD:REQUEST
PRODID:Microsoft Exchange Server 2010
VERSION:2.0
BEGIN:VTIMEZONE
TZID:W. Europe Standard Time
BEGIN:STANDARD
DTSTART:16010101T030000
TZOFFSETFROM:+0200
TZOFFSETTO:+0100
RRULE:FREQ=YEARLY;INTERVAL=1;BYDAY=-1SU;BYMONTH=10
END:STANDARD
BEGIN:DAYLIGHT
DTSTART:16010101T020000
TZOFFSETFROM:+0100
TZOFFSETTO:+0200
RRULE:FREQ=YEARLY;INTERVAL=1;BYDAY=-1SU;BYMONTH=3
END:DAYLIGHT
END:VTIMEZONE
BEGIN:VEVENT
ORGANIZER;CN="Kordass, Richard":mailto:richard.kordass@edag.com
ATTENDEE;ROLE=REQ-PARTICIPANT;PARTSTAT=NEEDS-ACTION;RSVP=TRUE;CN="Schramm, M
 ichael":mailto:michael.schramm@edag.com
ATTENDEE;ROLE=REQ-PARTICIPANT;PARTSTAT=NEEDS-ACTION;RSVP=TRUE;CN="Hofmann, M
 artin":mailto:martin.i.hofmann@edag.com
ATTENDEE;ROLE=REQ-PARTICIPANT;PARTSTAT=NEEDS-ACTION;RSVP=TRUE;CN="Carmo Cost
 a, Joao":mailto:joao.carmo.costa@feynsinn.de
ATTENDEE;ROLE=REQ-PARTICIPANT;PARTSTAT=NEEDS-ACTION;RSVP=TRUE;CN=bikini@lis
 ts.uni-paderborn.de:mailto:bikini@lists.uni-paderborn.de
DESCRIPTION;LANGUAGE=de-DE:\n
UID:040000008200E00074C5B7101A82E00800000000E02459A7B104D901000000000000000
 010000000EA0673C4DE1BB442A02B920F0470E39C
SUMMARY;LANGUAGE=de-DE:Bikini-Projekttreffen Blocker
DTSTART;VALUE=DATE:20230523
DTEND;VALUE=DATE:20230525
CLASS:PUBLIC
PRIORITY:5
DTSTAMP:20221130T105136Z
TRANSP:OPAQUE
STATUS:CONFIRMED
SEQUENCE:0
LOCATION;LANGUAGE=de-DE:Fulda
X-MICROSOFT-CDO-APPT-SEQUENCE:0
X-MICROSOFT-CDO-OWNERAPPTID:-385959962
X-MICROSOFT-CDO-BUSYSTATUS:TENTATIVE
X-MICROSOFT-CDO-INTENDEDSTATUS:FREE
X-MICROSOFT-CDO-ALLDAYEVENT:TRUE
X-MICROSOFT-CDO-IMPORTANCE:1
X-MICROSOFT-CDO-INSTTYPE:0
X-MICROSOFT-SKYPETEAMSMEETINGURL:
X-MICROSOFT-SCHEDULINGSERVICEUPDATEURL:
X-MICROSOFT-SKYPETEAMSPROPERTIES:
X-MICROSOFT-ONLINEMEETINGCONFLINK:
X-MICROSOFT-DONOTFORWARDMEETING:FALSE
X-MICROSOFT-DISALLOW-COUNTER:FALSE
X-MICROSOFT-LOCATIONS:[ { "DisplayName" : "Fulda"\, "LocationAnnotation" : 
 ""\, "LocationSource" : 0\, "Unresolved" : true\, "LocationUri" : "" } ]
BEGIN:VALARM
DESCRIPTION:REMINDER
TRIGGER;RELATED=START:-PT18H
ACTION:DISPLAY
END:VALARM
END:VEVENT
END:VCALENDAR
