BEGIN:VCALENDAR
METHOD:REQUEST
PRODID:Microsoft Exchange Server 2010
VERSION:2.0
BEGIN:VTIMEZONE
TZID:W. Europe Standard Time
BEGIN:STANDARD
DTSTART:16010101T030000
TZOFFSETFROM:+0200
TZOFFSETTO:+0100
RRULE:FREQ=YEARLY;INTERVAL=1;BYDAY=-1SU;BYMONTH=10
END:STANDARD
BEGIN:DAYLIGHT
DTSTART:16010101T020000
TZOFFSETFROM:+0100
TZOFFSETTO:+0200
RRULE:FREQ=YEARLY;INTERVAL=1;BYDAY=-1SU;BYMONTH=3
END:DAYLIGHT
END:VTIMEZONE
BEGIN:VEVENT
ORGANIZER;CN="Kordass, Richard";SENT-BY="MAILTO:s.juergens@krause-dimatec.de":M
 AILTO:richard.kordass@edag.com
ATTENDEE;ROLE=REQ-PARTICIPANT;PARTSTAT=NEEDS-ACTION;RSVP=TRUE;CN=bikini@lis
 ts.uni-paderborn.de:MAILTO:bikini@lists.uni-paderborn.de
ATTACH:CID:0C6A952D0E23A7418ADC343450512A2E@DEUP281.PROD.OUTLOOK.COM
DESCRIPTION;LANGUAGE=de-DE:Neue BesprechungTag 2!\n\n-----Ursprünglicher T
 ermin-----\nVon: Kordass\, Richard <richard.kordass@edag.com>\nGesendet: D
 ienstag\, 8. November 2022 14:24\nAn: Kordass\, Richard\; d.meiling@fz-jue
 lich.de\nCc: Jürgens\, Simon\nBetreff: [Bikini]: Zusammenfassung Projektt
 reffen\nZeit: Mittwoch\, 30. November 2022 13:00-13:45 (UTC+01:00) Amsterd
 am\, Berlin\, Bern\, Rom\, Stockholm\, Wien.\nOrt: Microsoft Teams-Besprec
 hung\n\nHallo Herr Meiling\,\n\nwie besprochen\, hier die Einladung zur Zu
 sammenfassung des Projekttreffens. Schade\, dass Sie nicht persönlich vor
  Ort sein können.\n\nDie vorläufige Agenda habe ich mit angehängt.\n\nV
 iele Grüße\nRichard Kordaß\n___________________________________________
 _____________________________________\nMicrosoft Teams-Besprechung\nNehmen
  Sie auf dem Computer oder in der mobilen App teil\nHier klicken\, um an d
 er Besprechung teilzunehmen<https://teams.microsoft.com/l/meetup-join/19%3
 ameeting_MjUyMzM0NTgtYTc0YS00MmQ5LTg5OWYtODIxYTFmNTc0MTU5%40thread.v2/0?co
 ntext=%7b%22Tid%22%3a%224812a7f3-cbc9-4f88-b59f-87b73b966886%22%2c%22Oid%2
 2%3a%22b1c1efe8-eec2-44d3-a655-e2126614a349%22%7d>\nBesprechungs-ID: 334 5
 18 629 774\nPasscode: bVhpsM\nTeams herunterladen<https://www.microsoft.co
 m/en-us/microsoft-teams/download-app> | Im Web beitreten<https://www.micro
 soft.com/microsoft-teams/join-a-meeting>\nOder rufen Sie an (nur Audio)\n+
 49 69 509544208\,\,441376772#<tel:+4969509544208\,\,441376772#>   Germany\
 , Frankfurt am Main\nTelefonkonferenz-ID: 441 376 772#\nLokale Nummer such
 en<https://dialin.teams.microsoft.com/3f67da00-0a17-4c8c-b3b2-52e62e7c790c
 ?id=441376772> | PIN zurücksetzen<https://dialin.teams.microsoft.com/usp/
 pstnconferencing>\n[https://www.edag-engineering.de/typo3conf/ext/rsn_t3bo
 otstrap/Resources/Public/Images/logo_c.png]\nWeitere Infos<https://aka.ms/
 JoinTeamsMeeting> | Hilfe<https://weedag.sharepoint.com/sites/IT/de-DE/Sit
 ePages/Microsoft-Teams.aspx> | Besprechungsoptionen<https://teams.microsof
 t.com/meetingOptions/?organizerId=b1c1efe8-eec2-44d3-a655-e2126614a349&ten
 antId=4812a7f3-cbc9-4f88-b59f-87b73b966886&threadId=19_meeting_MjUyMzM0NTg
 tYTc0YS00MmQ5LTg5OWYtODIxYTFmNTc0MTU5@thread.v2&messageId=0&language=de-DE
 > | Rechtliche Hinweise<https://www.edag.com/de/rechtliches/datenschutzhin
 weise-verwendung-videokonferenztools>\n___________________________________
 _____________________________________________\n\n
UID:040000008200E00074C5B7101A82E00800000000506B68AE7DF3D801000000000000000
 01000000043633BAFD558724F96E7A27F84927AD7
SUMMARY;LANGUAGE=de-DE:WG: [Bikini]: Zusammenfassung Projekttreffen
DTSTART;TZID=W. Europe Standard Time:20221130T130000
DTEND;TZID=W. Europe Standard Time:20221130T134500
CLASS:PUBLIC
PRIORITY:5
DTSTAMP:20221125T114234Z
TRANSP:OPAQUE
STATUS:CONFIRMED
SEQUENCE:1
LOCATION;LANGUAGE=de-DE:Microsoft Teams-Besprechung
X-MICROSOFT-CDO-APPT-SEQUENCE:1
X-MICROSOFT-CDO-OWNERAPPTID:-2081900570
X-MICROSOFT-CDO-BUSYSTATUS:TENTATIVE
X-MICROSOFT-CDO-INTENDEDSTATUS:BUSY
X-MICROSOFT-CDO-ALLDAYEVENT:FALSE
X-MICROSOFT-CDO-IMPORTANCE:1
X-MICROSOFT-CDO-INSTTYPE:0
X-MICROSOFT-DONOTFORWARDMEETING:FALSE
X-MICROSOFT-DISALLOW-COUNTER:FALSE
BEGIN:VALARM
DESCRIPTION:REMINDER
TRIGGER;RELATED=START:-PT15M
ACTION:DISPLAY
END:VALARM
END:VEVENT
END:VCALENDAR
