BEGIN:VCALENDAR
METHOD:REQUEST
PRODID:Microsoft Exchange Server 2010
VERSION:2.0
BEGIN:VTIMEZONE
TZID:W. Europe Standard Time
BEGIN:STANDARD
DTSTART:16010101T030000
TZOFFSETFROM:+0200
TZOFFSETTO:+0100
RRULE:FREQ=YEARLY;INTERVAL=1;BYDAY=-1SU;BYMONTH=10
END:STANDARD
BEGIN:DAYLIGHT
DTSTART:16010101T020000
TZOFFSETFROM:+0100
TZOFFSETTO:+0200
RRULE:FREQ=YEARLY;INTERVAL=1;BYDAY=-1SU;BYMONTH=3
END:DAYLIGHT
END:VTIMEZONE
BEGIN:VEVENT
ORGANIZER;CN="Jürgens, Simon":MAILTO:s.juergens@krause-dimatec.de
ATTENDEE;ROLE=REQ-PARTICIPANT;PARTSTAT=NEEDS-ACTION;RSVP=TRUE;CN=bikini@lis
 ts.uni-paderborn.de:MAILTO:bikini@lists.uni-paderborn.de
ATTENDEE;ROLE=REQ-PARTICIPANT;PARTSTAT=NEEDS-ACTION;RSVP=TRUE;CN=Gudrun Tsc
 hirner-Vinke:MAILTO:gudrun.tschirner-vinke@atos.net
ATTENDEE;ROLE=REQ-PARTICIPANT;PARTSTAT=NEEDS-ACTION;RSVP=TRUE;CN=Lukas Bran
 dt:MAILTO:lukas.brandt@atos.net
ATTENDEE;ROLE=REQ-PARTICIPANT;PARTSTAT=NEEDS-ACTION;RSVP=TRUE;CN="Neimann, T
 homas":MAILTO:t.neimann@krause-dimatec.de
ATTACH:CID:image001.png@01D900CD.AC0B55E0
ATTACH:CID:image002.jpg@01D900CD.AC0B55E0
ATTACH:CID:image003.png@01D900CD.AC0B55E0
ATTACH:CID:image004.jpg@01D900CD.AC0B55E0
ATTACH:CID:image005.png@01D900CD.AC23BFE0
ATTACH:CID:image006.jpg@01D900CD.AC23BFE0
ATTACH:CID:image007.png@01D900CD.AC23BFE0
ATTACH:CID:image008.jpg@01D900CD.AC23BFE0
ATTACH:CID:image001.png@01D900CD.AC2D35C0
ATTACH:CID:image002.jpg@01D900CD.AC2D35C0
ATTACH:CID:image003.png@01D900CD.AC2D35C0
ATTACH:CID:image004.jpg@01D900CD.AC2D35C0
DESCRIPTION;LANGUAGE=de-DE:Break-Out Session 3 – GUI\, Frontend etc.\n\nA
 Ps: AP5\, AP6\, AP7 und AP8\n\nhttps://teams.live.com/meet/942220087188\n\
 n\nLink Prototypen:\n\nhttps://5ru00r.axshare.com/#id=iybmak\n\n\n\n\n\n\n
 \n[KRAUSE DiMaTec-Logo]<https://www.krause-dimatec.de/>\n\nSimon Jürgens 
 M.Sc.\n\nProzessmanagement & Digitalisierung\n\n\n\n\n\nTelefon:\n\n+49 (0
 )521 – 45 99 – 7361\n\n[600px-LinkedIn_logo_initials]<https://de.linke
 din.com/company/krause-dimatec-gmbh>\n\n[xing-logo-3bd7a34cb3daaa40-256x25
 6]<https://www.xing.com/companies/krausedimatecgmbh>\n\n[cid:image012.jpg@
 01D900CD.ABFCAFE0]<http://www.owl-3d.de/>\n\nMobil:\n\n+49 (0)172 – 239 
 245 2\n\nE-Mail:\n\ns.juergens@krause-dimatec.de<mailto:s.juergens@krause-
 dimatec.de>\n\nWeb:\n\nwww.krause-dimatec.de<http://www.krause-dimatec.de/
 >\n\n\n\n\n\n\n\nKrause DiMaTec GmbH\, Sitz der Gesellschaft: 33649 Bielef
 eld\, Paul-Schwarze-Straße 5\n\nHandelsregister: Amtsgericht Bielefeld\, 
 HRB 35000\, Ust.-Id.-Nr.: DE 811720711\n\nGeschäftsführung: Dipl.-Kauffr
 au Carola Landhäuser\n\n\n\n\n
UID:040000008200E00074C5B7101A82E0080000000050C1FDABCD00D901000000000000000
 0100000009532332B19DF354A8A99C77A099CBC74
SUMMARY;LANGUAGE=de-DE:[BIKINI] Break-Out Session 3 - GUI\, Frontend etc.
DTSTART;TZID=W. Europe Standard Time:20221129T133000
DTEND;TZID=W. Europe Standard Time:20221129T143000
CLASS:PUBLIC
PRIORITY:5
DTSTAMP:20221125T115853Z
TRANSP:OPAQUE
STATUS:CONFIRMED
SEQUENCE:0
LOCATION;LANGUAGE=de-DE:Microsoft Teams-Besprechung
X-MICROSOFT-CDO-APPT-SEQUENCE:0
X-MICROSOFT-CDO-OWNERAPPTID:1834596326
X-MICROSOFT-CDO-BUSYSTATUS:TENTATIVE
X-MICROSOFT-CDO-INTENDEDSTATUS:BUSY
X-MICROSOFT-CDO-ALLDAYEVENT:FALSE
X-MICROSOFT-CDO-IMPORTANCE:1
X-MICROSOFT-CDO-INSTTYPE:0
X-MICROSOFT-DONOTFORWARDMEETING:FALSE
X-MICROSOFT-DISALLOW-COUNTER:FALSE
BEGIN:VALARM
DESCRIPTION:REMINDER
TRIGGER;RELATED=START:-PT15M
ACTION:DISPLAY
END:VALARM
END:VEVENT
END:VCALENDAR
