BEGIN:VCALENDAR
METHOD:REQUEST
PRODID:Microsoft Exchange Server 2010
VERSION:2.0
BEGIN:VTIMEZONE
TZID:W. Europe Standard Time
BEGIN:STANDARD
DTSTART:16010101T030000
TZOFFSETFROM:+0200
TZOFFSETTO:+0100
RRULE:FREQ=YEARLY;INTERVAL=1;BYDAY=-1SU;BYMONTH=10
END:STANDARD
BEGIN:DAYLIGHT
DTSTART:16010101T020000
TZOFFSETFROM:+0100
TZOFFSETTO:+0200
RRULE:FREQ=YEARLY;INTERVAL=1;BYDAY=-1SU;BYMONTH=3
END:DAYLIGHT
END:VTIMEZONE
BEGIN:VEVENT
ORGANIZER;CN="Jürgens, Simon":MAILTO:s.juergens@krause-dimatec.de
ATTENDEE;ROLE=REQ-PARTICIPANT;PARTSTAT=NEEDS-ACTION;RSVP=TRUE;CN=bikini@lis
 ts.uni-paderborn.de:MAILTO:bikini@lists.uni-paderborn.de
ATTENDEE;ROLE=REQ-PARTICIPANT;PARTSTAT=NEEDS-ACTION;RSVP=TRUE;CN=Gudrun Tsc
 hirner-Vinke:MAILTO:gudrun.tschirner-vinke@atos.net
ATTENDEE;ROLE=REQ-PARTICIPANT;PARTSTAT=NEEDS-ACTION;RSVP=TRUE;CN=Lukas Bran
 dt:MAILTO:lukas.brandt@atos.net
ATTENDEE;ROLE=REQ-PARTICIPANT;PARTSTAT=NEEDS-ACTION;RSVP=TRUE;CN="Neimann, T
 homas":MAILTO:t.neimann@krause-dimatec.de
ATTENDEE;ROLE=OPT-PARTICIPANT;PARTSTAT=NEEDS-ACTION;RSVP=TRUE;CN=Daniel Pre
 uß:MAILTO:daniel.preuss@uni-paderborn.de
ATTACH:CID:image005.png@01D900CC.53EDEBD0
ATTACH:CID:image006.jpg@01D900CC.53EDEBD0
ATTACH:CID:image007.png@01D900CC.53EDEBD0
ATTACH:CID:image008.jpg@01D900CC.53EDEBD0
ATTACH:CID:image001.png@01D900CC.5400FEA0
ATTACH:CID:image002.jpg@01D900CC.5400FEA0
ATTACH:CID:image003.png@01D900CC.5400FEA0
ATTACH:CID:image004.jpg@01D900CC.5400FEA0
ATTACH:CID:image005.png@01D900CC.54040BE0
ATTACH:CID:image006.jpg@01D900CC.54040BE0
ATTACH:CID:image007.png@01D900CC.54040BE0
ATTACH:CID:image008.jpg@01D900CC.54040BE0
DESCRIPTION;LANGUAGE=de-DE:Allgemeines Teams-Meeting für Tag 1:\n\nhttps:/
 /teams.live.com/meet/946670793280\n\n\nMiro-Boards:\n\nAP1:\nhttps://miro.
 com/app/board/o9J_l5kPrEM=/\nPW: BIKINI#2021\n\n\nAP5:\nhttps://miro.com/a
 pp/board/uXjVO_Dihk0=/\nPW: bikini22\n\n\n\n\n\n\n\n\n[KRAUSE DiMaTec-Logo
 ]<https://www.krause-dimatec.de/>\n\nSimon Jürgens M.Sc.\n\nProzessmanage
 ment & Digitalisierung\n\n\n\n\n\nTelefon:\n\n+49 (0)521 – 45 99 – 736
 1\n\n[600px-LinkedIn_logo_initials]<https://de.linkedin.com/company/krause
 -dimatec-gmbh>\n\n[xing-logo-3bd7a34cb3daaa40-256x256]<https://www.xing.co
 m/companies/krausedimatecgmbh>\n\n[cid:image012.jpg@01D900CB.8AC1FB70]<htt
 p://www.owl-3d.de/>\n\nMobil:\n\n+49 (0)172 – 239 245 2\n\nE-Mail:\n\ns.
 juergens@krause-dimatec.de<mailto:s.juergens@krause-dimatec.de>\n\nWeb:\n\
 nwww.krause-dimatec.de<http://www.krause-dimatec.de/>\n\n\n\n\n\n\n\nKraus
 e DiMaTec GmbH\, Sitz der Gesellschaft: 33649 Bielefeld\, Paul-Schwarze-St
 raße 5\n\nHandelsregister: Amtsgericht Bielefeld\, HRB 35000\, Ust.-Id.-N
 r.: DE 811720711\n\nGeschäftsführung: Dipl.-Kauffrau Carola Landhäuser\
 n\n\n\n\n
UID:040000008200E00074C5B7101A82E00800000000501EC48ACB00D901000000000000000
 010000000B2EF2F434C64E84AABC4FE8E7FA7D8AE
SUMMARY;LANGUAGE=de-DE:[BIKINI] Projekttreffen Tag 1
DTSTART;TZID=W. Europe Standard Time:20221129T123000
DTEND;TZID=W. Europe Standard Time:20221129T180000
CLASS:PUBLIC
PRIORITY:5
DTSTAMP:20221125T114916Z
TRANSP:OPAQUE
STATUS:CONFIRMED
SEQUENCE:2
LOCATION;LANGUAGE=de-DE:Microsoft Teams-Besprechung
X-MICROSOFT-CDO-APPT-SEQUENCE:2
X-MICROSOFT-CDO-OWNERAPPTID:1803139046
X-MICROSOFT-CDO-BUSYSTATUS:TENTATIVE
X-MICROSOFT-CDO-INTENDEDSTATUS:BUSY
X-MICROSOFT-CDO-ALLDAYEVENT:FALSE
X-MICROSOFT-CDO-IMPORTANCE:1
X-MICROSOFT-CDO-INSTTYPE:0
X-MICROSOFT-DONOTFORWARDMEETING:FALSE
X-MICROSOFT-DISALLOW-COUNTER:FALSE
BEGIN:VALARM
DESCRIPTION:REMINDER
TRIGGER;RELATED=START:-PT15M
ACTION:DISPLAY
END:VALARM
END:VEVENT
END:VCALENDAR
