BEGIN:VCALENDAR
METHOD:REQUEST
PRODID:Microsoft Exchange Server 2010
VERSION:2.0
BEGIN:VTIMEZONE
TZID:W. Europe Standard Time
BEGIN:STANDARD
DTSTART:16010101T030000
TZOFFSETFROM:+0200
TZOFFSETTO:+0100
RRULE:FREQ=YEARLY;INTERVAL=1;BYDAY=-1SU;BYMONTH=10
END:STANDARD
BEGIN:DAYLIGHT
DTSTART:16010101T020000
TZOFFSETFROM:+0100
TZOFFSETTO:+0200
RRULE:FREQ=YEARLY;INTERVAL=1;BYDAY=-1SU;BYMONTH=3
END:DAYLIGHT
END:VTIMEZONE
BEGIN:VEVENT
ORGANIZER;CN="Jürgens, Simon":MAILTO:s.juergens@krause-dimatec.de
ATTENDEE;ROLE=REQ-PARTICIPANT;PARTSTAT=NEEDS-ACTION;RSVP=TRUE;CN=bikini@lis
 ts.uni-paderborn.de:MAILTO:bikini@lists.uni-paderborn.de
ATTENDEE;ROLE=REQ-PARTICIPANT;PARTSTAT=NEEDS-ACTION;RSVP=TRUE;CN=Gudrun Tsc
 hirner-Vinke:MAILTO:gudrun.tschirner-vinke@atos.net
ATTENDEE;ROLE=REQ-PARTICIPANT;PARTSTAT=NEEDS-ACTION;RSVP=TRUE;CN=Lukas Bran
 dt:MAILTO:lukas.brandt@atos.net
ATTENDEE;ROLE=REQ-PARTICIPANT;PARTSTAT=NEEDS-ACTION;RSVP=TRUE;CN="Neimann, T
 homas":MAILTO:t.neimann@krause-dimatec.de
ATTENDEE;ROLE=OPT-PARTICIPANT;PARTSTAT=NEEDS-ACTION;RSVP=TRUE;CN=Daniel Pre
 uß:MAILTO:daniel.preuss@uni-paderborn.de
ATTACH:CID:image005.png@01D900CC.6CD86670
ATTACH:CID:image006.jpg@01D900CC.6CD86670
ATTACH:CID:image007.png@01D900CC.6CD86670
ATTACH:CID:image008.jpg@01D900CC.6CD86670
ATTACH:CID:image001.png@01D900CC.6CF00D20
ATTACH:CID:image002.jpg@01D900CC.6CF00D20
ATTACH:CID:image003.png@01D900CC.6CF00D20
ATTACH:CID:image004.jpg@01D900CC.6CF00D20
ATTACH:CID:image005.png@01D900CC.6CF73910
ATTACH:CID:image006.jpg@01D900CC.6CF73910
ATTACH:CID:image007.png@01D900CC.6CF73910
ATTACH:CID:image008.jpg@01D900CC.6CF73910
DESCRIPTION;LANGUAGE=de-DE:Allgemeines Teams-Meeting für Tag 1:\n\nhttps:/
 /teams.live.com/meet/9478419938886\n\nMiro-Boards:\n\nAP1:\nhttps://miro.c
 om/app/board/o9J_l5kPrEM=/\nPW: BIKINI#2021\n\n\nAP5:\nhttps://miro.com/ap
 p/board/uXjVO_Dihk0=/\nPW: bikini22\n\n\n\n\n\n\n\n[KRAUSE DiMaTec-Logo]<h
 ttps://www.krause-dimatec.de/>\n\nSimon Jürgens M.Sc.\n\nProzessmanagemen
 t & Digitalisierung\n\n\n\n\n\nTelefon:\n\n+49 (0)521 – 45 99 – 7361\n
 \n[600px-LinkedIn_logo_initials]<https://de.linkedin.com/company/krause-di
 matec-gmbh>\n\n[xing-logo-3bd7a34cb3daaa40-256x256]<https://www.xing.com/c
 ompanies/krausedimatecgmbh>\n\n[cid:image012.jpg@01D900CC.2DF639A0]<http:/
 /www.owl-3d.de/>\n\nMobil:\n\n+49 (0)172 – 239 245 2\n\nE-Mail:\n\ns.jue
 rgens@krause-dimatec.de<mailto:s.juergens@krause-dimatec.de>\n\nWeb:\n\nww
 w.krause-dimatec.de<http://www.krause-dimatec.de/>\n\n\n\n\n\n\n\nKrause D
 iMaTec GmbH\, Sitz der Gesellschaft: 33649 Bielefeld\, Paul-Schwarze-Stra
 ße 5\n\nHandelsregister: Amtsgericht Bielefeld\, HRB 35000\, Ust.-Id.-Nr.
 : DE 811720711\n\nGeschäftsführung: Dipl.-Kauffrau Carola Landhäuser\n\
 n\n\n\n
UID:040000008200E00074C5B7101A82E008000000003099F72DCC00D901000000000000000
 01000000051F578DBEE951448B2B4DAF3CB6D6FE8
SUMMARY;LANGUAGE=de-DE:[BIKINI] Projekttreffen Tag 2
DTSTART;TZID=W. Europe Standard Time:20221130T090000
DTEND;TZID=W. Europe Standard Time:20221130T150000
CLASS:PUBLIC
PRIORITY:5
DTSTAMP:20221125T114958Z
TRANSP:OPAQUE
STATUS:CONFIRMED
SEQUENCE:1
LOCATION;LANGUAGE=de-DE:Microsoft Teams-Besprechung
X-MICROSOFT-CDO-APPT-SEQUENCE:1
X-MICROSOFT-CDO-OWNERAPPTID:1813624806
X-MICROSOFT-CDO-BUSYSTATUS:TENTATIVE
X-MICROSOFT-CDO-INTENDEDSTATUS:BUSY
X-MICROSOFT-CDO-ALLDAYEVENT:FALSE
X-MICROSOFT-CDO-IMPORTANCE:1
X-MICROSOFT-CDO-INSTTYPE:0
X-MICROSOFT-DONOTFORWARDMEETING:FALSE
X-MICROSOFT-DISALLOW-COUNTER:FALSE
BEGIN:VALARM
DESCRIPTION:REMINDER
TRIGGER;RELATED=START:-PT15M
ACTION:DISPLAY
END:VALARM
END:VEVENT
END:VCALENDAR
