BEGIN:VCALENDAR
METHOD:CANCEL
PRODID:Microsoft Exchange Server 2010
VERSION:2.0
BEGIN:VTIMEZONE
TZID:W. Europe Standard Time
BEGIN:STANDARD
DTSTART:16010101T030000
TZOFFSETFROM:+0200
TZOFFSETTO:+0100
RRULE:FREQ=YEARLY;INTERVAL=1;BYDAY=-1SU;BYMONTH=10
END:STANDARD
BEGIN:DAYLIGHT
DTSTART:16010101T020000
TZOFFSETFROM:+0100
TZOFFSETTO:+0200
RRULE:FREQ=YEARLY;INTERVAL=1;BYDAY=-1SU;BYMONTH=3
END:DAYLIGHT
END:VTIMEZONE
BEGIN:VEVENT
ORGANIZER;CN=Tim Wittenborg:MAILTO:tim.wittenborg@hni.uni-paderborn.de
ATTENDEE;ROLE=REQ-PARTICIPANT;PARTSTAT=NEEDS-ACTION;RSVP=TRUE;CN=bikini@lis
 ts.uni-paderborn.de:MAILTO:bikini@lists.uni-paderborn.de
ATTENDEE;ROLE=OPT-PARTICIPANT;PARTSTAT=NEEDS-ACTION;RSVP=TRUE;CN=Philipp Ju
 ng:MAILTO:jung@cik.uni-paderborn.de
ATTENDEE;ROLE=OPT-PARTICIPANT;PARTSTAT=NEEDS-ACTION;RSVP=TRUE;CN=Daniel Pre
 uß:MAILTO:daniel.preuss@uni-paderborn.de
ATTENDEE;ROLE=OPT-PARTICIPANT;PARTSTAT=NEEDS-ACTION;RSVP=TRUE;CN=Klaas Tusc
 hen:MAILTO:tuschen@cik.uni-paderborn.de
ATTENDEE;ROLE=OPT-PARTICIPANT;PARTSTAT=NEEDS-ACTION;RSVP=TRUE;CN=Ronald Har
 twig:MAILTO:rh@untrouble.de
ATTENDEE;ROLE=OPT-PARTICIPANT;PARTSTAT=NEEDS-ACTION;RSVP=TRUE;CN=Elke Lösc
 hner:MAILTO:elke.loeschner@atos.net
ATTENDEE;ROLE=OPT-PARTICIPANT;PARTSTAT=NEEDS-ACTION;RSVP=TRUE;CN="Jürgens, 
 Simon":MAILTO:s.juergens@krause-dimatec.de
ATTENDEE;ROLE=OPT-PARTICIPANT;PARTSTAT=NEEDS-ACTION;RSVP=TRUE;CN=Kathrin Sc
 herlebeck:MAILTO:ks@untrouble.de
ATTENDEE;ROLE=OPT-PARTICIPANT;PARTSTAT=NEEDS-ACTION;RSVP=TRUE;CN=Tim Hottow
 itz:MAILTO:th@untrouble.de
ATTENDEE;ROLE=OPT-PARTICIPANT;PARTSTAT=NEEDS-ACTION;RSVP=TRUE;CN="Kordass, R
 ichard":MAILTO:richard.kordass@edag.com
ATTENDEE;ROLE=OPT-PARTICIPANT;PARTSTAT=NEEDS-ACTION;RSVP=TRUE;CN="Neimann, T
 homas":MAILTO:t.neimann@krause-dimatec.de
DESCRIPTION;LANGUAGE=de-DE:Hallo zusammen\,\n\nhier der Termin für den reg
 elmäßigen Austausch in AP5.\n\nEs sollen anstehende Aufgaben\, Fortschri
 tte und Rückfragen in einem kurzen Termin geklärt werden\, um bei der En
 twicklung einer Nachhaltigkeitsbewertung für BIKINI voran zu kommen.\n\nR
 elevante Links:\n\n  *   [BIKINI] AP1 Value Proposition Design\nhttps://mi
 ro.com/app/board/o9J_l5kPrEM=/\n  *   Analyse Nachhaltigkeitsbewertung\nht
 tps://miro.com/app/board/uXjVO_Dihk0=/?share_link_id=74350925961\n\n______
 __________________________________________________________________________
 \nMicrosoft Teams-Besprechung\nNehmen Sie auf dem Computer oder in der mob
 ilen App teil\nHier klicken\, um an der Besprechung teilzunehmen<https://t
 eams.microsoft.com/l/meetup-join/19%3ameeting_YTVmMGU5Y2EtNjQ0NC00MjNhLWFi
 YWEtYjQyZTBiNzY1MmVj%40thread.v2/0?context=%7b%22Tid%22%3a%228ec81f80-0933
 -4f58-a816-f68d3a86cd99%22%2c%22Oid%22%3a%22ae446b1a-2811-41d3-8daf-1f0bfd
 90d14e%22%7d>\nBesprechungs-ID: 360 563 165 480\nKenncode: ACcHy5\nTeams h
 erunterladen<https://www.microsoft.com/en-us/microsoft-teams/download-app>
  | Im Web beitreten<https://www.microsoft.com/microsoft-teams/join-a-meeti
 ng>\nWeitere Infos<https://aka.ms/JoinTeamsMeeting> | Besprechungsoptionen
 <https://teams.microsoft.com/meetingOptions/?organizerId=ae446b1a-2811-41d
 3-8daf-1f0bfd90d14e&tenantId=8ec81f80-0933-4f58-a816-f68d3a86cd99&threadId
 =19_meeting_YTVmMGU5Y2EtNjQ0NC00MjNhLWFiYWEtYjQyZTBiNzY1MmVj@thread.v2&mes
 sageId=0&language=de-DE>\n________________________________________________
 ________________________________\n\n
SUMMARY;LANGUAGE=de-DE:Abgesagt: [BIKINI] AP5 Regeltermin
DTSTART;TZID=W. Europe Standard Time:20221101T150000
DTEND;TZID=W. Europe Standard Time:20221101T153000
UID:040000008200E00074C5B7101A82E00800000000609EB6E0DCC1D801000000000000000
 010000000AA4E5EA2E786EF4098541373F53F09BF
RECURRENCE-ID;TZID=W. Europe Standard Time:20221101T150000
CLASS:PUBLIC
PRIORITY:1
DTSTAMP:20221018T133202Z
TRANSP:OPAQUE
STATUS:CANCELLED
SEQUENCE:2
LOCATION;LANGUAGE=de-DE:Microsoft Teams-Besprechung
X-MICROSOFT-CDO-APPT-SEQUENCE:2
X-MICROSOFT-CDO-OWNERAPPTID:541497318
X-MICROSOFT-CDO-BUSYSTATUS:FREE
X-MICROSOFT-CDO-INTENDEDSTATUS:FREE
X-MICROSOFT-CDO-ALLDAYEVENT:FALSE
X-MICROSOFT-CDO-IMPORTANCE:2
X-MICROSOFT-CDO-INSTTYPE:3
X-MICROSOFT-DISALLOW-COUNTER:FALSE
END:VEVENT
END:VCALENDAR
