BEGIN:VCALENDAR
METHOD:CANCEL
PRODID:Microsoft Exchange Server 2010
VERSION:2.0
BEGIN:VTIMEZONE
TZID:W. Europe Standard Time
BEGIN:STANDARD
DTSTART:16010101T030000
TZOFFSETFROM:+0200
TZOFFSETTO:+0100
RRULE:FREQ=YEARLY;INTERVAL=1;BYDAY=-1SU;BYMONTH=10
END:STANDARD
BEGIN:DAYLIGHT
DTSTART:16010101T020000
TZOFFSETFROM:+0100
TZOFFSETTO:+0200
RRULE:FREQ=YEARLY;INTERVAL=1;BYDAY=-1SU;BYMONTH=3
END:DAYLIGHT
END:VTIMEZONE
BEGIN:VEVENT
ORGANIZER;CN=Daniel Preuß:MAILTO:daniel.preuss@uni-paderborn.de
ATTENDEE;ROLE=REQ-PARTICIPANT;PARTSTAT=NEEDS-ACTION;RSVP=TRUE;CN=bikini@lis
 ts.uni-paderborn.de:MAILTO:bikini@lists.uni-paderborn.de
DESCRIPTION;LANGUAGE=de-DE:Hallo zusammen\,\n\nhier der Termin für den reg
 elmäßigen Austausch in AP5.\n\nEs sollen anstehende Aufgaben\, Fortschri
 tte und Rückfragen in einem kurzen Termin geklärt werden\, um bei der En
 twicklung einer Nachhaltigkeitsbewertung für BIKINI voran zu kommen.\n\nR
 elevante Links:\n[BIKINI] AP1 Value Proposition Design: https://miro.com/a
 pp/board/o9J_l5kPrEM=/\nAnalyse Nachhaltigkeitsbewertung: https://miro.com
 /app/board/uXjVO_Dihk0=/?share_link_id=74350925961\n\nViele Grüße\,\nDan
 iel\n_____________________________________________________________________
 ___________\nMicrosoft Teams-Besprechung\nNehmen Sie auf dem Computer oder
  in der mobilen App teil\nHier klicken\, um an der Besprechung teilzunehme
 n<https://teams.microsoft.com/l/meetup-join/19%3ameeting_NzUyOTU3YzctZTAzY
 y00NzcwLTkxNmUtMDYyODY4ZWVjYWRm%40thread.v2/0?context=%7b%22Tid%22%3a%228e
 c81f80-0933-4f58-a816-f68d3a86cd99%22%2c%22Oid%22%3a%22f07b30e4-f0f6-4053-
 b7ac-9982244d396b%22%7d>\nBesprechungs-ID: 370 915 111 381\nPasscode: 7d9i
 2L\nTeams herunterladen<https://www.microsoft.com/en-us/microsoft-teams/do
 wnload-app> | Im Web beitreten<https://www.microsoft.com/microsoft-teams/j
 oin-a-meeting>\nWeitere Infos<https://aka.ms/JoinTeamsMeeting> | Besprechu
 ngsoptionen<https://teams.microsoft.com/meetingOptions/?organizerId=f07b30
 e4-f0f6-4053-b7ac-9982244d396b&tenantId=8ec81f80-0933-4f58-a816-f68d3a86cd
 99&threadId=19_meeting_NzUyOTU3YzctZTAzYy00NzcwLTkxNmUtMDYyODY4ZWVjYWRm@th
 read.v2&messageId=0&language=de-DE>\n_____________________________________
 ___________________________________________\n\n
SUMMARY;LANGUAGE=de-DE:Abgesagt: BIKINI: Regeltermin AP 5
DTSTART;TZID=W. Europe Standard Time:20221122T150000
DTEND;TZID=W. Europe Standard Time:20221122T153000
UID:040000008200E00074C5B7101A82E00800000000B03024E606E3D801000000000000000
 01000000073EBB924E0514C4D8B81E58E809E70FC
RECURRENCE-ID;TZID=W. Europe Standard Time:20221122T150000
CLASS:PUBLIC
PRIORITY:1
DTSTAMP:20221018T133609Z
TRANSP:OPAQUE
STATUS:CANCELLED
SEQUENCE:1
LOCATION;LANGUAGE=de-DE:Microsoft Teams-Besprechung
X-MICROSOFT-CDO-APPT-SEQUENCE:1
X-MICROSOFT-CDO-OWNERAPPTID:-923621402
X-MICROSOFT-CDO-BUSYSTATUS:FREE
X-MICROSOFT-CDO-INTENDEDSTATUS:FREE
X-MICROSOFT-CDO-ALLDAYEVENT:FALSE
X-MICROSOFT-CDO-IMPORTANCE:2
X-MICROSOFT-CDO-INSTTYPE:3
X-MICROSOFT-DISALLOW-COUNTER:FALSE
END:VEVENT
END:VCALENDAR
