BEGIN:VCALENDAR
METHOD:REQUEST
PRODID:Microsoft Exchange Server 2010
VERSION:2.0
BEGIN:VTIMEZONE
TZID:W. Europe Standard Time
BEGIN:STANDARD
DTSTART:16010101T030000
TZOFFSETFROM:+0200
TZOFFSETTO:+0100
RRULE:FREQ=YEARLY;INTERVAL=1;BYDAY=-1SU;BYMONTH=10
END:STANDARD
BEGIN:DAYLIGHT
DTSTART:16010101T020000
TZOFFSETFROM:+0100
TZOFFSETTO:+0200
RRULE:FREQ=YEARLY;INTERVAL=1;BYDAY=-1SU;BYMONTH=3
END:DAYLIGHT
END:VTIMEZONE
BEGIN:VEVENT
ORGANIZER;CN="Jürgens, Simon":MAILTO:s.juergens@krause-dimatec.de
ATTENDEE;ROLE=REQ-PARTICIPANT;PARTSTAT=NEEDS-ACTION;RSVP=TRUE;CN=bikini@lis
 ts.uni-paderborn.de:MAILTO:bikini@lists.uni-paderborn.de
ATTACH:CID:image001.png@01D8DCC1.4CD843B0
ATTACH:CID:image009.png@01D8DCC1.4CD843B0
ATTACH:CID:image002.png@01D8DCC1.4D098CE0
ATTACH:CID:image003.jpg@01D8DCC1.4D098CE0
ATTACH:CID:image004.png@01D8DCC1.4D098CE0
ATTACH:CID:image005.jpg@01D8DCC1.4D098CE0
ATTACH:CID:image006.png@01D8DCC1.4D098CE0
ATTACH:CID:image007.png@01D8DCC1.4D3B9960
ATTACH:CID:image008.jpg@01D8DCC1.4D3B9960
ATTACH:CID:image010.png@01D8DCC1.4D3B9960
ATTACH:CID:image011.jpg@01D8DCC1.4D3B9960
ATTACH:CID:image012.png@01D8DCC1.4D3B9960
ATTACH:CID:image002.png@01D8DCC1.4D422910
ATTACH:CID:image003.jpg@01D8DCC1.4D422910
ATTACH:CID:image004.png@01D8DCC1.4D422910
ATTACH:CID:image005.jpg@01D8DCC1.4D422910
ATTACH:CID:image006.png@01D8DCC1.4D422910
DESCRIPTION;LANGUAGE=de-DE:Hallo zusammen\,\n\nwie im heutigen Regeltermin 
 besprochen\, anbei der Termin für das Projekttreffen bei uns in Bielefeld
  (vorausgesetzt Corona lässt es zu).\n\nAls zeitlichen Rahmen würde ich 
 folgendes vorschlagen:\n\n\n-       Dienstag\, 29.11: Anreise bis 12:00 Uh
 r\n\n-       Mittwoch\, 30.11: Programm bis 14/15:00 Uhr\n\nUm die passend
 en Räumlichkeiten zu reservieren würde ich Euch um eine Rückmeldung in 
 doodle bitten:\n\nhttps://doodle.com/meeting/participate/id/dPZ4Gxza\n\n\n
 -       Zusage: nehme Teil & bin vor Ort\n\n-       Unter Vorbehalt: Onlin
 e / nicht vor Ort\n\n-       Absage: nehme nicht teil\n\n\nNach Rücksprac
 he mit einer Kollegin kann ich neben den allseits bekannten Hotelketten in
  Bielefeld zwei Hotels empfehlen.\n\n\n1.    In der Nähe zu unserer Firma
 : Brackweder Hof\; https://www.brackweder-hof.de/\; ca. 7-9 min. mit dem A
 uto.\n\n2.    Im Bielefelder Zentrum: Bielefelder Hof\; https://bielefelde
 r-hof.de/\; ca. 15-25 min mit dem Auto.\n\n\n\nEssenswünsche und Unvertr
 äglichkeiten bitte vorab an mich.\n\nViele Grüße\nSimon\n\nMit freundli
 chen Grüßen\nSimon Jürgens\n\n\n\n\n\n\n\n\n\n[KRAUSE DiMaTec-Logo]\n\n
 Simon Jürgens M.Sc.\n\nProzessmanagement & Digitalisierung\n\n\n\n\n\nTel
 efon:\n\n+49 (0)521 – 45 99 – 7361\n\n[600px-LinkedIn_logo_initials]<h
 ttps://de.linkedin.com/company/krause-dimatec-gmbh>\n\n[xing-logo-3bd7a34c
 b3daaa40-256x256]<https://www.xing.com/companies/krausedimatecgmbh>\n\n[ci
 d:image015.jpg@01D8DCC1.4CE710C0]<http://www.owl-3d.de/>\n\nMobil:\n\n+49 
 (0)172 – 239 245 2\n\nE-Mail:\n\ns.juergens@krause-dimatec.de<mailto:k.p
 agel@krause.de>\n\nWeb:\n\nwww.krause-dimatec.de<http://www.krause-dimatec
 .de/>\n\n\n\n\n\n\n\nKrause DiMaTec GmbH\, Sitz der Gesellschaft: 33649 Bi
 elefeld\, Paul-Schwarze-Straße 5\n\nHandelsregister: Amtsgericht Bielefel
 d\, HRB 35000\, Ust.-Id.-Nr.: DE 811720711\n\nGeschäftsführung: Dipl.-Ka
 uffrau Carola Landhäuser\n\n\n[ue-banner(1)]\n\n[Banner_formnext]\n\n\n
UID:040000008200E00074C5B7101A82E0080000000030828B74B9DCD801000000000000000
 0100000009575B4297BF9F640BFAED6F0D8CB4C6A
SUMMARY;LANGUAGE=de-DE:[BIKINI] Projekttreffen Bielefeld
DTSTART;VALUE=DATE:20221129
DTEND;VALUE=DATE:20221201
CLASS:PUBLIC
PRIORITY:5
DTSTAMP:20221010T135938Z
TRANSP:OPAQUE
STATUS:CONFIRMED
SEQUENCE:0
LOCATION;LANGUAGE=de-DE:Krause DiMaTec GmbH\, Paul-Schwarze-Str. 5\, 33649 
 Bielefeld
X-MICROSOFT-CDO-APPT-SEQUENCE:0
X-MICROSOFT-CDO-OWNERAPPTID:736798694
X-MICROSOFT-CDO-BUSYSTATUS:TENTATIVE
X-MICROSOFT-CDO-INTENDEDSTATUS:FREE
X-MICROSOFT-CDO-ALLDAYEVENT:TRUE
X-MICROSOFT-CDO-IMPORTANCE:1
X-MICROSOFT-CDO-INSTTYPE:0
X-MICROSOFT-DONOTFORWARDMEETING:FALSE
X-MICROSOFT-DISALLOW-COUNTER:FALSE
BEGIN:VALARM
DESCRIPTION:REMINDER
TRIGGER;RELATED=START:-PT12H
ACTION:DISPLAY
END:VALARM
END:VEVENT
END:VCALENDAR
