BEGIN:VCALENDAR
METHOD:REQUEST
PRODID:Microsoft Exchange Server 2010
VERSION:2.0
BEGIN:VTIMEZONE
TZID:W. Europe Standard Time
BEGIN:STANDARD
DTSTART:16010101T030000
TZOFFSETFROM:+0200
TZOFFSETTO:+0100
RRULE:FREQ=YEARLY;INTERVAL=1;BYDAY=-1SU;BYMONTH=10
END:STANDARD
BEGIN:DAYLIGHT
DTSTART:16010101T020000
TZOFFSETFROM:+0100
TZOFFSETTO:+0200
RRULE:FREQ=YEARLY;INTERVAL=1;BYDAY=-1SU;BYMONTH=3
END:DAYLIGHT
END:VTIMEZONE
BEGIN:VEVENT
ORGANIZER;CN="Jürgens, Simon":MAILTO:s.juergens@krause-dimatec.de
ATTENDEE;ROLE=REQ-PARTICIPANT;PARTSTAT=NEEDS-ACTION;RSVP=TRUE;CN=bikini@lis
 ts.uni-paderborn.de:MAILTO:bikini@lists.uni-paderborn.de
ATTENDEE;ROLE=OPT-PARTICIPANT;PARTSTAT=NEEDS-ACTION;RSVP=TRUE;CN=Ronald Har
 twig:MAILTO:rh@untrouble.de
ATTENDEE;ROLE=OPT-PARTICIPANT;PARTSTAT=NEEDS-ACTION;RSVP=TRUE;CN=Philipp Gr
 ewer:MAILTO:pg@untrouble.de
ATTENDEE;ROLE=OPT-PARTICIPANT;PARTSTAT=NEEDS-ACTION;RSVP=TRUE;CN=Elke Lösc
 hner:MAILTO:elke.loeschner@atos.net
ATTENDEE;ROLE=OPT-PARTICIPANT;PARTSTAT=NEEDS-ACTION;RSVP=TRUE;CN=Klaas Tusc
 hen:MAILTO:tuschen@cik.uni-paderborn.de
ATTENDEE;ROLE=OPT-PARTICIPANT;PARTSTAT=NEEDS-ACTION;RSVP=TRUE;CN=Tim Witten
 borg:MAILTO:tim.wittenborg@hni.uni-paderborn.de
ATTENDEE;ROLE=OPT-PARTICIPANT;PARTSTAT=NEEDS-ACTION;RSVP=TRUE;CN=Philipp Ju
 ng:MAILTO:jung@cik.uni-paderborn.de
ATTENDEE;ROLE=OPT-PARTICIPANT;PARTSTAT=NEEDS-ACTION;RSVP=TRUE;CN="Voit, Frie
 demann":MAILTO:friedemann.voit@edag.com
ATTACH:CID:image001.png@01D8C1FA.FAB880D0
ATTACH:CID:image009.png@01D8C1FA.FAB880D0
ATTACH:CID:image006.png@01D8C201.D44E0B70
ATTACH:CID:image007.jpg@01D8C201.D44E0B70
ATTACH:CID:image008.png@01D8C201.D44E0B70
ATTACH:CID:image010.jpg@01D8C201.D44E0B70
ATTACH:CID:image002.png@01D8C201.D463B650
ATTACH:CID:image003.jpg@01D8C201.D463B650
ATTACH:CID:image004.png@01D8C201.D463B650
ATTACH:CID:image005.jpg@01D8C201.D463B650
ATTACH:CID:image006.png@01D8C201.D46A9420
ATTACH:CID:image007.jpg@01D8C201.D46A9420
ATTACH:CID:image008.png@01D8C201.D46A9420
ATTACH:CID:image010.jpg@01D8C201.D46A9420
DESCRIPTION;LANGUAGE=de-DE:\n\n\nhttps://teams.live.com/meet/942916476004\n
 \n\n\nMit freundlichen Grüßen\nSimon Jürgens\n\n\n\n\n\n\n\n\n\n[KRAUSE
  DiMaTec-Logo]\n\nSimon Jürgens M.Sc.\n\nProzessmanagement & Digitalisier
 ung\n\n\n\n\n\nTelefon:\n\n+49 (0)521 – 45 99 – 7361\n\n[600px-LinkedI
 n_logo_initials]<https://de.linkedin.com/company/krause-dimatec-gmbh>\n\n[
 xing-logo-3bd7a34cb3daaa40-256x256]<https://www.xing.com/companies/kraused
 imatecgmbh>\n\n[cid:image013.jpg@01D8C1FA.FAC13360]<http://www.owl-3d.de/>
 \n\nMobil:\n\n+49 (0)172 – 239 245 2\n\nE-Mail:\n\ns.juergens@krause-dim
 atec.de<mailto:k.pagel@krause.de>\n\nWeb:\n\nwww.krause-dimatec.de<http://
 www.krause-dimatec.de/>\n\n\n\n\n\n\n\nKrause DiMaTec GmbH\, Sitz der Gese
 llschaft: 33649 Bielefeld\, Paul-Schwarze-Straße 5\n\nHandelsregister: Am
 tsgericht Bielefeld\, HRB 35000\, Ust.-Id.-Nr.: DE 811720711\n\nGeschäfts
 führung: Dipl.-Kauffrau Carola Landhäuser\n\n\n[ue-banner(1)]\n\n\n\n\n
UID:040000008200E00074C5B7101A82E00800000000302FC3FAFAC1D801000000000000000
 01000000089BFDA84B755CE429B5034BB42CF8978
SUMMARY;LANGUAGE=de-DE:[BIKINI] AP5 Regeltermin
DTSTART;TZID=W. Europe Standard Time:20220920T150000
DTEND;TZID=W. Europe Standard Time:20220920T153000
CLASS:PUBLIC
PRIORITY:5
DTSTAMP:20220906T130331Z
TRANSP:OPAQUE
STATUS:CONFIRMED
SEQUENCE:1
LOCATION;LANGUAGE=de-DE:Mircosoft Teams-Besprechung
X-MICROSOFT-CDO-APPT-SEQUENCE:1
X-MICROSOFT-CDO-OWNERAPPTID:918984678
X-MICROSOFT-CDO-BUSYSTATUS:TENTATIVE
X-MICROSOFT-CDO-INTENDEDSTATUS:BUSY
X-MICROSOFT-CDO-ALLDAYEVENT:FALSE
X-MICROSOFT-CDO-IMPORTANCE:1
X-MICROSOFT-CDO-INSTTYPE:0
X-MICROSOFT-DONOTFORWARDMEETING:FALSE
X-MICROSOFT-DISALLOW-COUNTER:FALSE
BEGIN:VALARM
DESCRIPTION:REMINDER
TRIGGER;RELATED=START:-PT15M
ACTION:DISPLAY
END:VALARM
END:VEVENT
END:VCALENDAR
