BEGIN:VCALENDAR
METHOD:REQUEST
PRODID:Microsoft Exchange Server 2010
VERSION:2.0
BEGIN:VTIMEZONE
TZID:W. Europe Standard Time
BEGIN:STANDARD
DTSTART:16010101T030000
TZOFFSETFROM:+0200
TZOFFSETTO:+0100
RRULE:FREQ=YEARLY;INTERVAL=1;BYDAY=-1SU;BYMONTH=10
END:STANDARD
BEGIN:DAYLIGHT
DTSTART:16010101T020000
TZOFFSETFROM:+0100
TZOFFSETTO:+0200
RRULE:FREQ=YEARLY;INTERVAL=1;BYDAY=-1SU;BYMONTH=3
END:DAYLIGHT
END:VTIMEZONE
BEGIN:VEVENT
ORGANIZER;CN="Jürgens, Simon":MAILTO:s.juergens@krause-dimatec.de
ATTENDEE;ROLE=REQ-PARTICIPANT;PARTSTAT=NEEDS-ACTION;RSVP=TRUE;CN=bikini@lis
 ts.uni-paderborn.de:MAILTO:bikini@lists.uni-paderborn.de
ATTACH:CID:image001.png@01D8C11C.60A9B790
ATTACH:CID:image002.png@01D8C11C.60C2E4E0
ATTACH:CID:image003.jpg@01D8C11C.60C2E4E0
ATTACH:CID:image004.png@01D8C11C.60C2E4E0
ATTACH:CID:image005.jpg@01D8C11C.60C2E4E0
ATTACH:CID:image006.png@01D8C11C.60DC3940
ATTACH:CID:image007.jpg@01D8C11C.60DC3940
ATTACH:CID:image008.png@01D8C11C.60DC3940
ATTACH:CID:image009.jpg@01D8C11C.60DC3940
ATTACH:CID:image002.png@01D8C11C.60E2C8F0
ATTACH:CID:image003.jpg@01D8C11C.60E2C8F0
ATTACH:CID:image004.png@01D8C11C.60E2C8F0
ATTACH:CID:image005.jpg@01D8C11C.60E2C8F0
DESCRIPTION;LANGUAGE=de-DE:Hallo zusammen\,\n\nanbei der neue Termin für m
 orgen.\n\nZugang bitte über folgenden Link:\n\nhttps://teams.live.com/mee
 t/9463787170011\n\n\nDa es bei uns aktuell bei der Integration von Teams i
 n Outlook hapert\, kann ich nur obigen Link zur Verfügung stellen. Ich ho
 ffe das alle von Euch darüber am Meeting teilnehmen können.\n\n\nThemen 
 für morgen:\n\n\n-       Terminfindung neuer Regeltermin\n\n-       Aktue
 ller Stand der jeweiligen Partner\n\n-       Weiteres Vorgehen in AP5\n\n\
 n\nMit freundlichen Grüßen\nSimon Jürgens\n\n\n\n\n\n\n\n\n\n[KRAUSE Di
 MaTec-Logo]\n\nSimon Jürgens M.Sc.\n\nProzessmanagement & Digitalisierung
 \n\n\n\n\n\nTelefon:\n\n+49 (0)521 – 45 99 – 7361\n\n[600px-LinkedIn_l
 ogo_initials]<https://de.linkedin.com/company/krause-dimatec-gmbh>\n\n[xin
 g-logo-3bd7a34cb3daaa40-256x256]<https://www.xing.com/companies/krausedima
 tecgmbh>\n\n[cid:image012.jpg@01D8C11C.60B1F4F0]<http://www.owl-3d.de/>\n\
 nMobil:\n\n+49 (0)172 – 239 245 2\n\nE-Mail:\n\ns.juergens@krause-dimate
 c.de<mailto:k.pagel@krause.de>\n\nWeb:\n\nwww.krause-dimatec.de<http://www
 .krause-dimatec.de/>\n\n\n\n\n\n\n\nKrause DiMaTec GmbH\, Sitz der Gesells
 chaft: 33649 Bielefeld\, Paul-Schwarze-Straße 5\n\nHandelsregister: Amtsg
 ericht Bielefeld\, HRB 35000\, Ust.-Id.-Nr.: DE 811720711\n\nGeschäftsfü
 hrung: Dipl.-Kauffrau Carola Landhäuser\n\n\n\n\n\n\n\n
UID:040000008200E00074C5B7101A82E008000000008054B3601CC1D801000000000000000
 010000000CDBDDDC1F2414C49B3088FCA7672E40F
SUMMARY;LANGUAGE=de-DE:[BIKINI] AP5 Rücksprache aktueller Stand und weiter
 es Vorgehen
DTSTART;TZID=W. Europe Standard Time:20220906T100000
DTEND;TZID=W. Europe Standard Time:20220906T103000
CLASS:PUBLIC
PRIORITY:5
DTSTAMP:20220905T094103Z
TRANSP:OPAQUE
STATUS:CONFIRMED
SEQUENCE:0
LOCATION;LANGUAGE=de-DE:Mircosoft Teams-Besprechung
X-MICROSOFT-CDO-APPT-SEQUENCE:0
X-MICROSOFT-CDO-OWNERAPPTID:1873123302
X-MICROSOFT-CDO-BUSYSTATUS:TENTATIVE
X-MICROSOFT-CDO-INTENDEDSTATUS:BUSY
X-MICROSOFT-CDO-ALLDAYEVENT:FALSE
X-MICROSOFT-CDO-IMPORTANCE:1
X-MICROSOFT-CDO-INSTTYPE:0
X-MICROSOFT-DONOTFORWARDMEETING:FALSE
X-MICROSOFT-DISALLOW-COUNTER:FALSE
BEGIN:VALARM
DESCRIPTION:REMINDER
TRIGGER;RELATED=START:-PT15M
ACTION:DISPLAY
END:VALARM
END:VEVENT
END:VCALENDAR
