BEGIN:VCALENDAR
METHOD:CANCEL
PRODID:Microsoft Exchange Server 2010
VERSION:2.0
BEGIN:VTIMEZONE
TZID:W. Europe Standard Time
BEGIN:STANDARD
DTSTART:16010101T030000
TZOFFSETFROM:+0200
TZOFFSETTO:+0100
RRULE:FREQ=YEARLY;INTERVAL=1;BYDAY=-1SU;BYMONTH=10
END:STANDARD
BEGIN:DAYLIGHT
DTSTART:16010101T020000
TZOFFSETFROM:+0100
TZOFFSETTO:+0200
RRULE:FREQ=YEARLY;INTERVAL=1;BYDAY=-1SU;BYMONTH=3
END:DAYLIGHT
END:VTIMEZONE
BEGIN:VEVENT
ORGANIZER;CN="Jürgens, Simon":MAILTO:s.juergens@krause-dimatec.de
ATTENDEE;ROLE=REQ-PARTICIPANT;PARTSTAT=NEEDS-ACTION;RSVP=TRUE;CN=bikini@lis
 ts.uni-paderborn.de:MAILTO:bikini@lists.uni-paderborn.de
ATTENDEE;ROLE=OPT-PARTICIPANT;PARTSTAT=NEEDS-ACTION;RSVP=TRUE;CN=Tim Witten
 borg:MAILTO:tim.wittenborg@hni.uni-paderborn.de
ATTENDEE;ROLE=OPT-PARTICIPANT;PARTSTAT=NEEDS-ACTION;RSVP=TRUE;CN=Daniel Pre
 uß:MAILTO:daniel.preuss@uni-paderborn.de
ATTENDEE;ROLE=OPT-PARTICIPANT;PARTSTAT=NEEDS-ACTION;RSVP=TRUE;CN="Fluegel, S
 ebastian":MAILTO:sebastian.fluegel@edag.com
ATTENDEE;ROLE=OPT-PARTICIPANT;PARTSTAT=NEEDS-ACTION;RSVP=TRUE;CN="Löschner,
  Elke":MAILTO:elke.loeschner@atos.net
ATTENDEE;ROLE=OPT-PARTICIPANT;PARTSTAT=NEEDS-ACTION;RSVP=TRUE;CN="Tominski, 
 Johannes":MAILTO:j.tominski@krause-dimatec.de
ATTENDEE;ROLE=OPT-PARTICIPANT;PARTSTAT=NEEDS-ACTION;RSVP=TRUE;CN=Kathrin Sc
 herlebeck:MAILTO:ks@untrouble.de
ATTENDEE;ROLE=OPT-PARTICIPANT;PARTSTAT=NEEDS-ACTION;RSVP=TRUE;CN=Philipp Gr
 ewer:MAILTO:pg@untrouble.de
ATTENDEE;ROLE=OPT-PARTICIPANT;PARTSTAT=NEEDS-ACTION;RSVP=TRUE;CN=Philipp Ju
 ng:MAILTO:jung@cik.uni-paderborn.de
ATTENDEE;ROLE=OPT-PARTICIPANT;PARTSTAT=NEEDS-ACTION;RSVP=TRUE;CN=Nikolai Ro
 dehutskors:MAILTO:rodehutskors@additive-marking.de
ATTENDEE;ROLE=OPT-PARTICIPANT;PARTSTAT=NEEDS-ACTION;RSVP=TRUE;CN="Bellingwou
 t, Chris":MAILTO:chris.bellingwout@edag.nl
ATTENDEE;ROLE=OPT-PARTICIPANT;PARTSTAT=NEEDS-ACTION;RSVP=TRUE;CN="Kordass, R
 ichard":MAILTO:richard.kordass@edag.com
ATTENDEE;ROLE=OPT-PARTICIPANT;PARTSTAT=NEEDS-ACTION;RSVP=TRUE;CN=Ronald Har
 twig:MAILTO:rh@untrouble.de
ATTENDEE;ROLE=OPT-PARTICIPANT;PARTSTAT=NEEDS-ACTION;RSVP=TRUE;CN=Klaas Tusc
 hen:MAILTO:tuschen@cik.uni-paderborn.de
ATTENDEE;ROLE=OPT-PARTICIPANT;PARTSTAT=NEEDS-ACTION;RSVP=TRUE;CN="Bellingwou
 t, Christopher Johannes Jacobus":MAILTO:christopher.bellingwout@edag.com
ATTACH:CID:image001.png@01D83DDE.AA583090
ATTACH:CID:image002.png@01D8C11B.AF9672E0
ATTACH:CID:image003.jpg@01D8C11B.AF9672E0
ATTACH:CID:image004.png@01D8C11B.AF9672E0
ATTACH:CID:image005.jpg@01D8C11B.AF9672E0
ATTACH:CID:image006.png@01D8C11B.AFB0D8B0
ATTACH:CID:image007.jpg@01D8C11B.AFB0D8B0
ATTACH:CID:image008.png@01D8C11B.AFB0D8B0
ATTACH:CID:image009.jpg@01D8C11B.AFB0D8B0
ATTACH:CID:image002.png@01D8C11B.AFB45B20
ATTACH:CID:image003.jpg@01D8C11B.AFB45B20
ATTACH:CID:image004.png@01D8C11B.AFB45B20
ATTACH:CID:image005.jpg@01D8C11B.AFB45B20
DESCRIPTION;LANGUAGE=de-DE:Da es bei uns eine Änderung der Teams-Lizenzen 
 gegeben hat\, muss ich diese Terminserie absagen.\n\nEin neuer Termin mit 
 Link folgt…\n\n\n\n\nHallo zusammen\,\n\nanbei ein Termin für den regel
 mäßigen Austausch in AP5.\n\nEs sollen anstehende Aufgaben\, Fortschritt
 e und Rückfragen in einem kurzen Termin geklärt werden\, um bei der Entw
 icklung einer Nachhaltigkeitsbewertung /-kennzahl für BIKINI voran zu kom
 men.\n\nWer am AP beteiligt ist und Interesse hat ist herzlich eingeladen.
  Sollte der Termin ungünstig sein\, bitte ich um Klärung im nächsten Re
 geltermin.\n\nViele Grüße\nSimon\n\n\n__________________________________
 ______________________________________________\nMicrosoft Teams-Besprechun
 g\nNehmen Sie von Ihrem Computer oder der mobilen App aus teil\nKlicken Si
 e hier\, um an der Besprechung teilzunehmen<https://teams.microsoft.com/l/
 meetup-join/19%3ameeting_YWIyYzFmMGYtNWUyOC00YzY1LWI1NDktNDlkNjIyNmRlMTI3%
 40thread.v2/0?context=%7b%22Tid%22%3a%2277102c30-f651-4cda-81a4-7da2912cb7
 a8%22%2c%22Oid%22%3a%22f327ced0-849e-4e98-9eda-1c4a941813f8%22%7d>\nWeiter
 e Infos<https://aka.ms/JoinTeamsMeeting> | Besprechungsoptionen<https://te
 ams.microsoft.com/meetingOptions/?organizerId=f327ced0-849e-4e98-9eda-1c4a
 941813f8&tenantId=77102c30-f651-4cda-81a4-7da2912cb7a8&threadId=19_meeting
 _YWIyYzFmMGYtNWUyOC00YzY1LWI1NDktNDlkNjIyNmRlMTI3@thread.v2&messageId=0&la
 nguage=de-DE>\n___________________________________________________________
 _____________________\n\n\n\n\n\n\n\n\n\n[KRAUSE DiMaTec-Logo]\n\nSimon J
 ürgens M.Sc.\n\nProzessmanagement & Digitalisierung\n\n\n\n\n\nTelefon:\n
 \n+49 (0)521 – 45 99 – 7361\n\n[600px-LinkedIn_logo_initials]<https://
 de.linkedin.com/company/krause-dimatec-gmbh>\n\n[xing-logo-3bd7a34cb3daaa4
 0-256x256]<https://www.xing.com/companies/krausedimatecgmbh>\n\n[cid:image
 012.jpg@01D83DDE.AA66AF80]<http://www.owl-3d.de/>\n\nMobil:\n\n+49 (0)172 
 – 239 245 2\n\nE-Mail:\n\ns.juergens@krause-dimatec.de<mailto:k.pagel@kr
 ause.de>\n\nWeb:\n\nwww.krause-dimatec.de<http://www.krause-dimatec.de/>\n
 \n\n\n\n\n\n\nKrause DiMaTec GmbH\, Sitz der Gesellschaft: 33649 Bielefeld
 \, Paul-Schwarze-Straße 5\n\nHandelsregister: Amtsgericht Bielefeld\, HRB
  35000\, Ust.-Id.-Nr.: DE 811720711\n\nGeschäftsführung: Dipl.-Kauffrau 
 Carola Landhäuser\n\n\n\n\n\n\n\n
RRULE:FREQ=WEEKLY;INTERVAL=2;BYDAY=TU;WKST=SU
EXDATE;TZID=W. Europe Standard Time:20220531T100000,20220628T100000,2022072
 6T100000,20220809T100000
UID:040000008200E00074C5B7101A82E00800000000E02EB394DC3DD801000000000000000
 0100000009CD51AE99FF84C4F9D12E2728105F138
SUMMARY;LANGUAGE=de-DE:Abgesagt: [BIKINI] AP5 Regeltermin
DTSTART;TZID=W. Europe Standard Time:20220405T100000
DTEND;TZID=W. Europe Standard Time:20220405T103000
CLASS:PUBLIC
PRIORITY:1
DTSTAMP:20220905T093606Z
TRANSP:TRANSPARENT
STATUS:CANCELLED
SEQUENCE:7
LOCATION;LANGUAGE=de-DE:Microsoft Teams Meeting
X-MICROSOFT-CDO-APPT-SEQUENCE:7
X-MICROSOFT-CDO-OWNERAPPTID:16136166
X-MICROSOFT-CDO-BUSYSTATUS:FREE
X-MICROSOFT-CDO-INTENDEDSTATUS:FREE
X-MICROSOFT-CDO-ALLDAYEVENT:FALSE
X-MICROSOFT-CDO-IMPORTANCE:2
X-MICROSOFT-CDO-INSTTYPE:1
X-MICROSOFT-SKYPETEAMSMEETINGURL:https://teams.microsoft.com/l/meetup-join/
 19%3ameeting_YWIyYzFmMGYtNWUyOC00YzY1LWI1NDktNDlkNjIyNmRlMTI3%40thread.v2/
 0?context=%7b%22Tid%22%3a%2277102c30-f651-4cda-81a4-7da2912cb7a8%22%2c%22O
 id%22%3a%22f327ced0-849e-4e98-9eda-1c4a941813f8%22%7d
X-MICROSOFT-SCHEDULINGSERVICEUPDATEURL:https://api.scheduler.teams.microsof
 t.com/teams/77102c30-f651-4cda-81a4-7da2912cb7a8/f327ced0-849e-4e98-9eda-1
 c4a941813f8/19_meeting_YWIyYzFmMGYtNWUyOC00YzY1LWI1NDktNDlkNjIyNmRlMTI3@th
 read.v2/0
X-MICROSOFT-SKYPETEAMSPROPERTIES:{"cid":"19:meeting_YWIyYzFmMGYtNWUyOC00YzY
 1LWI1NDktNDlkNjIyNmRlMTI3@thread.v2"\,"private":true\,"type":0\,"mid":0\,"
 rid":0\,"uid":null}
X-MICROSOFT-ONLINEMEETINGCONFLINK:conf:sip:s.juergens@3d-individuell.de\;gr
 uu\;opaque=app:conf:focus:id:teams:2:0!19:meeting_YWIyYzFmMGYtNWUyOC00YzY1
 LWI1NDktNDlkNjIyNmRlMTI3-thread.v2!f327ced0849e4e989eda1c4a941813f8!77102c
 30f6514cda81a47da2912cb7a8
X-MICROSOFT-DONOTFORWARDMEETING:FALSE
X-MICROSOFT-DISALLOW-COUNTER:FALSE
END:VEVENT
END:VCALENDAR
