BEGIN:VCALENDAR
METHOD:CANCEL
PRODID:Microsoft Exchange Server 2010
VERSION:2.0
BEGIN:VTIMEZONE
TZID:W. Europe Standard Time
BEGIN:STANDARD
DTSTART:16010101T030000
TZOFFSETFROM:+0200
TZOFFSETTO:+0100
RRULE:FREQ=YEARLY;INTERVAL=1;BYDAY=-1SU;BYMONTH=10
END:STANDARD
BEGIN:DAYLIGHT
DTSTART:16010101T020000
TZOFFSETFROM:+0100
TZOFFSETTO:+0200
RRULE:FREQ=YEARLY;INTERVAL=1;BYDAY=-1SU;BYMONTH=3
END:DAYLIGHT
END:VTIMEZONE
BEGIN:VEVENT
ORGANIZER;CN="Jürgens, Simon":MAILTO:s.juergens@krause-dimatec.de
ATTENDEE;ROLE=REQ-PARTICIPANT;PARTSTAT=NEEDS-ACTION;RSVP=TRUE;CN=bikini@lis
 ts.uni-paderborn.de:MAILTO:bikini@lists.uni-paderborn.de
ATTENDEE;ROLE=OPT-PARTICIPANT;PARTSTAT=NEEDS-ACTION;RSVP=TRUE;CN=Tim Witten
 borg:MAILTO:tim.wittenborg@hni.uni-paderborn.de
ATTENDEE;ROLE=OPT-PARTICIPANT;PARTSTAT=NEEDS-ACTION;RSVP=TRUE;CN=Daniel Pre
 uß:MAILTO:daniel.preuss@uni-paderborn.de
ATTENDEE;ROLE=OPT-PARTICIPANT;PARTSTAT=NEEDS-ACTION;RSVP=TRUE;CN="Fluegel, S
 ebastian":MAILTO:sebastian.fluegel@edag.com
ATTENDEE;ROLE=OPT-PARTICIPANT;PARTSTAT=NEEDS-ACTION;RSVP=TRUE;CN="Löschner,
  Elke":MAILTO:elke.loeschner@atos.net
ATTENDEE;ROLE=OPT-PARTICIPANT;PARTSTAT=NEEDS-ACTION;RSVP=TRUE;CN="Tominski, 
 Johannes":MAILTO:j.tominski@krause-dimatec.de
ATTENDEE;ROLE=OPT-PARTICIPANT;PARTSTAT=NEEDS-ACTION;RSVP=TRUE;CN=Kathrin Sc
 herlebeck:MAILTO:ks@untrouble.de
ATTENDEE;ROLE=OPT-PARTICIPANT;PARTSTAT=NEEDS-ACTION;RSVP=TRUE;CN=Philipp Gr
 ewer:MAILTO:pg@untrouble.de
ATTENDEE;ROLE=OPT-PARTICIPANT;PARTSTAT=NEEDS-ACTION;RSVP=TRUE;CN=Philipp Ju
 ng:MAILTO:jung@cik.uni-paderborn.de
ATTENDEE;ROLE=OPT-PARTICIPANT;PARTSTAT=NEEDS-ACTION;RSVP=TRUE;CN=Nikolai Ro
 dehutskors:MAILTO:rodehutskors@additive-marking.de
ATTENDEE;ROLE=OPT-PARTICIPANT;PARTSTAT=NEEDS-ACTION;RSVP=TRUE;CN="Bellingwou
 t, Chris":MAILTO:chris.bellingwout@edag.nl
ATTENDEE;ROLE=OPT-PARTICIPANT;PARTSTAT=NEEDS-ACTION;RSVP=TRUE;CN="Kordass, R
 ichard":MAILTO:richard.kordass@edag.com
ATTENDEE;ROLE=OPT-PARTICIPANT;PARTSTAT=NEEDS-ACTION;RSVP=TRUE;CN=Ronald Har
 twig:MAILTO:rh@untrouble.de
ATTENDEE;ROLE=OPT-PARTICIPANT;PARTSTAT=NEEDS-ACTION;RSVP=TRUE;CN="Brandt, Lu
 kas":MAILTO:lukas.brandt@atos.net
ATTENDEE;ROLE=OPT-PARTICIPANT;PARTSTAT=NEEDS-ACTION;RSVP=TRUE;CN="Krebs, Ale
 xander":MAILTO:alexander.krebs@atos.net
ATTENDEE;ROLE=OPT-PARTICIPANT;PARTSTAT=NEEDS-ACTION;RSVP=TRUE;CN=Klaas Tusc
 hen:MAILTO:tuschen@cik.uni-paderborn.de
ATTACH:CID:image001.png@01D83DDE.AA583090
ATTACH:CID:image010.jpg@01D83DDE.AA66AF80
ATTACH:CID:image011.png@01D83DDE.AA66AF80
ATTACH:CID:image012.jpg@01D83DDE.AA66AF80
ATTACH:CID:image002.png@01D8A0C3.ECFE8640
ATTACH:CID:image003.jpg@01D8A0C3.ECFE8640
ATTACH:CID:image004.png@01D8A0C3.ECFE8640
ATTACH:CID:image005.jpg@01D8A0C3.ECFE8640
ATTACH:CID:image006.png@01D8A0C3.ED7786D0
ATTACH:CID:image007.jpg@01D8A0C3.ED7786D0
ATTACH:CID:image008.png@01D8A0C3.ED7786D0
ATTACH:CID:image009.jpg@01D8A0C3.ED7786D0
ATTACH:CID:image002.png@01D8A0C3.ED801250
ATTACH:CID:image003.jpg@01D8A0C3.ED801250
ATTACH:CID:image004.png@01D8A0C3.ED801250
ATTACH:CID:image005.jpg@01D8A0C3.ED801250
DESCRIPTION;LANGUAGE=de-DE:Hallo zusammen\,\n\nanbei ein Termin für den re
 gelmäßigen Austausch in AP5.\n\nEs sollen anstehende Aufgaben\, Fortschr
 itte und Rückfragen in einem kurzen Termin geklärt werden\, um bei der E
 ntwicklung einer Nachhaltigkeitsbewertung /-kennzahl für BIKINI voran zu 
 kommen.\n\nWer am AP beteiligt ist und Interesse hat ist herzlich eingelad
 en. Sollte der Termin ungünstig sein\, bitte ich um Klärung im nächsten
  Regeltermin.\n\nViele Grüße\nSimon\n\n\n_______________________________
 _________________________________________________\nMicrosoft Teams-Besprec
 hung\nNehmen Sie von Ihrem Computer oder der mobilen App aus teil\nKlicken
  Sie hier\, um an der Besprechung teilzunehmen<https://teams.microsoft.com
 /l/meetup-join/19%3ameeting_YWIyYzFmMGYtNWUyOC00YzY1LWI1NDktNDlkNjIyNmRlMT
 I3%40thread.v2/0?context=%7b%22Tid%22%3a%2277102c30-f651-4cda-81a4-7da2912
 cb7a8%22%2c%22Oid%22%3a%22f327ced0-849e-4e98-9eda-1c4a941813f8%22%7d>\nWei
 tere Infos<https://aka.ms/JoinTeamsMeeting> | Besprechungsoptionen<https:/
 /teams.microsoft.com/meetingOptions/?organizerId=f327ced0-849e-4e98-9eda-1
 c4a941813f8&tenantId=77102c30-f651-4cda-81a4-7da2912cb7a8&threadId=19_meet
 ing_YWIyYzFmMGYtNWUyOC00YzY1LWI1NDktNDlkNjIyNmRlMTI3@thread.v2&messageId=0
 &language=de-DE>\n________________________________________________________
 ________________________\n\n\n\n\n\n\n\n\n\n[KRAUSE DiMaTec-Logo]\n\nSimon
  Jürgens M.Sc.\n\nProzessmanagement & Digitalisierung\n\n\n\n\n\nTelefon:
 \n\n+49 (0)521 – 45 99 – 7361\n\n[600px-LinkedIn_logo_initials]<https:
 //de.linkedin.com/company/krause-dimatec-gmbh>\n\n[xing-logo-3bd7a34cb3daa
 a40-256x256]<https://www.xing.com/companies/krausedimatecgmbh>\n\n[cid:ima
 ge012.jpg@01D83DDE.AA66AF80]<http://www.owl-3d.de/>\n\nMobil:\n\n+49 (0)17
 2 – 239 245 2\n\nE-Mail:\n\ns.juergens@krause-dimatec.de<mailto:k.pagel@
 krause.de>\n\nWeb:\n\nwww.krause-dimatec.de<http://www.krause-dimatec.de/>
 \n\n\n\n\n\n\n\nKrause DiMaTec GmbH\, Sitz der Gesellschaft: 33649 Bielefe
 ld\, Paul-Schwarze-Straße 5\n\nHandelsregister: Amtsgericht Bielefeld\, H
 RB 35000\, Ust.-Id.-Nr.: DE 811720711\n\nGeschäftsführung: Dipl.-Kauffra
 u Carola Landhäuser\n\n\n\n\n\n\n\n
UID:040000008200E00074C5B7101A82E00800000000E02EB394DC3DD801000000000000000
 0100000009CD51AE99FF84C4F9D12E2728105F138
RECURRENCE-ID;TZID=W. Europe Standard Time:20220726T100000
SUMMARY;LANGUAGE=de-DE:Abgesagt: [BIKINI] AP5 Regeltermin
DTSTART;TZID=W. Europe Standard Time:20220726T110000
DTEND;TZID=W. Europe Standard Time:20220726T113000
CLASS:PUBLIC
PRIORITY:1
DTSTAMP:20220726T054716Z
TRANSP:TRANSPARENT
STATUS:CANCELLED
SEQUENCE:5
LOCATION;LANGUAGE=de-DE:Microsoft Teams Meeting
X-MICROSOFT-CDO-APPT-SEQUENCE:5
X-MICROSOFT-CDO-OWNERAPPTID:16136166
X-MICROSOFT-CDO-BUSYSTATUS:FREE
X-MICROSOFT-CDO-INTENDEDSTATUS:FREE
X-MICROSOFT-CDO-ALLDAYEVENT:FALSE
X-MICROSOFT-CDO-IMPORTANCE:2
X-MICROSOFT-CDO-INSTTYPE:3
X-MICROSOFT-SKYPETEAMSMEETINGURL:https://teams.microsoft.com/l/meetup-join/
 19%3ameeting_YWIyYzFmMGYtNWUyOC00YzY1LWI1NDktNDlkNjIyNmRlMTI3%40thread.v2/
 0?context=%7b%22Tid%22%3a%2277102c30-f651-4cda-81a4-7da2912cb7a8%22%2c%22O
 id%22%3a%22f327ced0-849e-4e98-9eda-1c4a941813f8%22%7d
X-MICROSOFT-SCHEDULINGSERVICEUPDATEURL:https://api.scheduler.teams.microsof
 t.com/teams/77102c30-f651-4cda-81a4-7da2912cb7a8/f327ced0-849e-4e98-9eda-1
 c4a941813f8/19_meeting_YWIyYzFmMGYtNWUyOC00YzY1LWI1NDktNDlkNjIyNmRlMTI3@th
 read.v2/0
X-MICROSOFT-SKYPETEAMSPROPERTIES:{"cid":"19:meeting_YWIyYzFmMGYtNWUyOC00YzY
 1LWI1NDktNDlkNjIyNmRlMTI3@thread.v2"\,"private":true\,"type":0\,"mid":0\,"
 rid":0\,"uid":null}
X-MICROSOFT-ONLINEMEETINGCONFLINK:conf:sip:s.juergens@3d-individuell.de\;gr
 uu\;opaque=app:conf:focus:id:teams:2:0!19:meeting_YWIyYzFmMGYtNWUyOC00YzY1
 LWI1NDktNDlkNjIyNmRlMTI3-thread.v2!f327ced0849e4e989eda1c4a941813f8!77102c
 30f6514cda81a47da2912cb7a8
X-MICROSOFT-DONOTFORWARDMEETING:FALSE
X-MICROSOFT-DISALLOW-COUNTER:FALSE
END:VEVENT
END:VCALENDAR
