BEGIN:VCALENDAR
METHOD:REQUEST
PRODID:Microsoft Exchange Server 2010
VERSION:2.0
BEGIN:VTIMEZONE
TZID:W. Europe Standard Time
BEGIN:STANDARD
DTSTART:16010101T030000
TZOFFSETFROM:+0200
TZOFFSETTO:+0100
RRULE:FREQ=YEARLY;INTERVAL=1;BYDAY=-1SU;BYMONTH=10
END:STANDARD
BEGIN:DAYLIGHT
DTSTART:16010101T020000
TZOFFSETFROM:+0100
TZOFFSETTO:+0200
RRULE:FREQ=YEARLY;INTERVAL=1;BYDAY=-1SU;BYMONTH=3
END:DAYLIGHT
END:VTIMEZONE
BEGIN:VEVENT
ORGANIZER;CN="Fluegel, Sebastian":mailto:sebastian.fluegel@edag.com
ATTENDEE;ROLE=REQ-PARTICIPANT;PARTSTAT=NEEDS-ACTION;RSVP=TRUE;CN=bikini@lis
 ts.uni-paderborn.de:mailto:bikini@lists.uni-paderborn.de
DESCRIPTION;LANGUAGE=de-DE:\n______________________________________________
 __________________________________\nMicrosoft Teams-Besprechung\nNehmen Si
 e von Ihrem Computer oder der mobilen App aus teil\nKlicken Sie hier\, um 
 an der Besprechung teilzunehmen<https://teams.microsoft.com/l/meetup-join/
 19%3ameeting_OWFjNzhhMzUtYTc3ZS00NmQwLWE3OTMtNmNmYzNhODMwNTlh%40thread.v2/
 0?context=%7b%22Tid%22%3a%224812a7f3-cbc9-4f88-b59f-87b73b966886%22%2c%22O
 id%22%3a%22a17aa89a-3d29-4b38-b39b-d0c79fbc6cb3%22%7d>\nOder anrufen (nur 
 Audio)\n+49 69 509544208\,\,627779105#<tel:+4969509544208\,\,627779105#>  
  Germany\, Frankfurt am Main\nTelefonkonferenz-ID: 627 779 105#\nLokale Nu
 mmer suchen<https://dialin.teams.microsoft.com/3f67da00-0a17-4c8c-b3b2-52e
 62e7c790c?id=627779105> | PIN zurücksetzen<https://dialin.teams.microsoft
 .com/usp/pstnconferencing>\n[https://www.edag-engineering.de/typo3conf/ext
 /rsn_t3bootstrap/Resources/Public/Images/logo_c.png]\nWeitere Infos<https:
 //aka.ms/JoinTeamsMeeting> | Hilfe<https://weedag.sharepoint.com/sites/IT/
 de-DE/SitePages/Microsoft-Teams.aspx> | Besprechungsoptionen<https://teams
 .microsoft.com/meetingOptions/?organizerId=a17aa89a-3d29-4b38-b39b-d0c79fb
 c6cb3&tenantId=4812a7f3-cbc9-4f88-b59f-87b73b966886&threadId=19_meeting_OW
 FjNzhhMzUtYTc3ZS00NmQwLWE3OTMtNmNmYzNhODMwNTlh@thread.v2&messageId=0&langu
 age=de-DE> | Rechtliche Hinweise<https://www.edag.com/de/rechtliches/daten
 schutzhinweise-verwendung-videokonferenztools>\n__________________________
 ______________________________________________________\n\n
UID:040000008200E00074C5B7101A82E00800000000A07096EA087CD801000000000000000
 010000000A217472D5AF86E4996E1D4C4C91FB73B
SUMMARY;LANGUAGE=de-DE:Workshop Demonstrator-Workflow 2
DTSTART;TZID=W. Europe Standard Time:20220610T130000
DTEND;TZID=W. Europe Standard Time:20220610T140000
CLASS:PUBLIC
PRIORITY:5
DTSTAMP:20220609T115826Z
TRANSP:OPAQUE
STATUS:CONFIRMED
SEQUENCE:0
LOCATION;LANGUAGE=de-DE:Microsoft Teams-Besprechung
X-MICROSOFT-CDO-APPT-SEQUENCE:0
X-MICROSOFT-CDO-OWNERAPPTID:-1597413402
X-MICROSOFT-CDO-BUSYSTATUS:TENTATIVE
X-MICROSOFT-CDO-INTENDEDSTATUS:BUSY
X-MICROSOFT-CDO-ALLDAYEVENT:FALSE
X-MICROSOFT-CDO-IMPORTANCE:1
X-MICROSOFT-CDO-INSTTYPE:0
X-MICROSOFT-SKYPETEAMSMEETINGURL:https://teams.microsoft.com/l/meetup-join/
 19%3ameeting_OWFjNzhhMzUtYTc3ZS00NmQwLWE3OTMtNmNmYzNhODMwNTlh%40thread.v2/
 0?context=%7b%22Tid%22%3a%224812a7f3-cbc9-4f88-b59f-87b73b966886%22%2c%22O
 id%22%3a%22a17aa89a-3d29-4b38-b39b-d0c79fbc6cb3%22%7d
X-MICROSOFT-SCHEDULINGSERVICEUPDATEURL:https://api.scheduler.teams.microsof
 t.com/teams/4812a7f3-cbc9-4f88-b59f-87b73b966886/a17aa89a-3d29-4b38-b39b-d
 0c79fbc6cb3/19_meeting_OWFjNzhhMzUtYTc3ZS00NmQwLWE3OTMtNmNmYzNhODMwNTlh@th
 read.v2/0
X-MICROSOFT-SKYPETEAMSPROPERTIES:{"cid":"19:meeting_OWFjNzhhMzUtYTc3ZS00NmQ
 wLWE3OTMtNmNmYzNhODMwNTlh@thread.v2"\,"private":true\,"type":0\,"mid":0\,"
 rid":0\,"uid":null}
X-MICROSOFT-ONLINEMEETINGCONFLINK:conf:sip:sebastian.fluegel@edag.com\;gruu
 \;opaque=app:conf:focus:id:teams:2:0!19:meeting_OWFjNzhhMzUtYTc3ZS00NmQwLW
 E3OTMtNmNmYzNhODMwNTlh-thread.v2!a17aa89a3d294b38b39bd0c79fbc6cb3!4812a7f3
 cbc94f88b59f87b73b966886
X-MICROSOFT-DONOTFORWARDMEETING:FALSE
X-MICROSOFT-DISALLOW-COUNTER:FALSE
X-MICROSOFT-LOCATIONS:[{"DisplayName":"Microsoft Teams-Besprechung"\,"Locat
 ionAnnotation":""\,"LocationUri":""\,"LocationStreet":""\,"LocationCity":"
 "\,"LocationState":""\,"LocationCountry":""\,"LocationPostalCode":""\,"Loc
 ationFullAddress":""}]
BEGIN:VALARM
DESCRIPTION:REMINDER
TRIGGER;RELATED=START:-PT15M
ACTION:DISPLAY
END:VALARM
END:VEVENT
END:VCALENDAR
