BEGIN:VCALENDAR
METHOD:REQUEST
PRODID:Microsoft Exchange Server 2010
VERSION:2.0
BEGIN:VTIMEZONE
TZID:W. Europe Standard Time
BEGIN:STANDARD
DTSTART:16010101T030000
TZOFFSETFROM:+0200
TZOFFSETTO:+0100
RRULE:FREQ=YEARLY;INTERVAL=1;BYDAY=-1SU;BYMONTH=10
END:STANDARD
BEGIN:DAYLIGHT
DTSTART:16010101T020000
TZOFFSETFROM:+0100
TZOFFSETTO:+0200
RRULE:FREQ=YEARLY;INTERVAL=1;BYDAY=-1SU;BYMONTH=3
END:DAYLIGHT
END:VTIMEZONE
BEGIN:VEVENT
ORGANIZER;CN="Kordass, Richard":mailto:richard.kordass@edag.com
ATTENDEE;ROLE=REQ-PARTICIPANT;PARTSTAT=NEEDS-ACTION;RSVP=TRUE;CN=bikini@lis
 ts.uni-paderborn.de:mailto:bikini@lists.uni-paderborn.de
DESCRIPTION;LANGUAGE=de-DE:Hallo zusammen\,\n\nleider finden sich nicht meh
 r so viele mögliche Daten vor meinem und nach Sebastians Urlaub.\n\nIch h
 offe\, der Termin passt bei den meisten…\n\nGrüße aus Fulda\,\nRichard
 \n________________________________________________________________________
 ________\nMicrosoft Teams-Besprechung\nNehmen Sie von Ihrem Computer oder 
 der mobilen App aus teil\nKlicken Sie hier\, um an der Besprechung teilzun
 ehmen<https://teams.microsoft.com/l/meetup-join/19%3ameeting_YmM3NTYwZWQtO
 WUxMi00OWJkLWI2ODMtYjgxN2UxNmE3OTc0%40thread.v2/0?context=%7b%22Tid%22%3a%
 224812a7f3-cbc9-4f88-b59f-87b73b966886%22%2c%22Oid%22%3a%22b1c1efe8-eec2-4
 4d3-a655-e2126614a349%22%7d>\nOder anrufen (nur Audio)\n+49 69 509544208\,
 \,699323608#<tel:+4969509544208\,\,699323608#>   Germany\, Frankfurt am Ma
 in\nTelefonkonferenz-ID: 699 323 608#\nLokale Nummer suchen<https://dialin
 .teams.microsoft.com/3f67da00-0a17-4c8c-b3b2-52e62e7c790c?id=699323608> | 
 PIN zurücksetzen<https://dialin.teams.microsoft.com/usp/pstnconferencing>
 \n[https://www.edag-engineering.de/typo3conf/ext/rsn_t3bootstrap/Resources
 /Public/Images/logo_c.png]\nWeitere Infos<https://aka.ms/JoinTeamsMeeting>
  | Hilfe<https://weedag.sharepoint.com/sites/IT/de-DE/SitePages/Microsoft-
 Teams.aspx> | Besprechungsoptionen<https://teams.microsoft.com/meetingOpti
 ons/?organizerId=b1c1efe8-eec2-44d3-a655-e2126614a349&tenantId=4812a7f3-cb
 c9-4f88-b59f-87b73b966886&threadId=19_meeting_YmM3NTYwZWQtOWUxMi00OWJkLWI2
 ODMtYjgxN2UxNmE3OTc0@thread.v2&messageId=0&language=de-DE> | Rechtliche Hi
 nweise<https://www.edag.com/de/rechtliches/datenschutzhinweise-verwendung-
 videokonferenztools>\n____________________________________________________
 ____________________________\n\n
UID:040000008200E00074C5B7101A82E00800000000D083BD5E0074D801000000000000000
 010000000BCE420778368A44295111783F19E87A4
SUMMARY;LANGUAGE=de-DE:Workshop Demonstrator-Workflow
DTSTART;TZID=W. Europe Standard Time:20220609T130000
DTEND;TZID=W. Europe Standard Time:20220609T140000
CLASS:PUBLIC
PRIORITY:5
DTSTAMP:20220530T064149Z
TRANSP:OPAQUE
STATUS:CONFIRMED
SEQUENCE:0
LOCATION;LANGUAGE=de-DE:Microsoft Teams-Besprechung
X-MICROSOFT-CDO-APPT-SEQUENCE:0
X-MICROSOFT-CDO-OWNERAPPTID:1899911142
X-MICROSOFT-CDO-BUSYSTATUS:TENTATIVE
X-MICROSOFT-CDO-INTENDEDSTATUS:BUSY
X-MICROSOFT-CDO-ALLDAYEVENT:FALSE
X-MICROSOFT-CDO-IMPORTANCE:1
X-MICROSOFT-CDO-INSTTYPE:0
X-MICROSOFT-SKYPETEAMSMEETINGURL:https://teams.microsoft.com/l/meetup-join/
 19%3ameeting_YmM3NTYwZWQtOWUxMi00OWJkLWI2ODMtYjgxN2UxNmE3OTc0%40thread.v2/
 0?context=%7b%22Tid%22%3a%224812a7f3-cbc9-4f88-b59f-87b73b966886%22%2c%22O
 id%22%3a%22b1c1efe8-eec2-44d3-a655-e2126614a349%22%7d
X-MICROSOFT-SCHEDULINGSERVICEUPDATEURL:https://api.scheduler.teams.microsof
 t.com/teams/4812a7f3-cbc9-4f88-b59f-87b73b966886/b1c1efe8-eec2-44d3-a655-e
 2126614a349/19_meeting_YmM3NTYwZWQtOWUxMi00OWJkLWI2ODMtYjgxN2UxNmE3OTc0@th
 read.v2/0
X-MICROSOFT-SKYPETEAMSPROPERTIES:{"cid":"19:meeting_YmM3NTYwZWQtOWUxMi00OWJ
 kLWI2ODMtYjgxN2UxNmE3OTc0@thread.v2"\,"private":true\,"type":0\,"mid":0\,"
 rid":0\,"uid":null}
X-MICROSOFT-ONLINEMEETINGCONFLINK:conf:sip:richard.kordass@edag.com\;gruu\;
 opaque=app:conf:focus:id:teams:2:0!19:meeting_YmM3NTYwZWQtOWUxMi00OWJkLWI2
 ODMtYjgxN2UxNmE3OTc0-thread.v2!b1c1efe8eec244d3a655e2126614a349!4812a7f3cb
 c94f88b59f87b73b966886
X-MICROSOFT-DONOTFORWARDMEETING:FALSE
X-MICROSOFT-DISALLOW-COUNTER:FALSE
X-MICROSOFT-LOCATIONS:[ { "DisplayName" : "Microsoft Teams-Besprechung"\, "
 LocationAnnotation" : ""\, "LocationSource" : 0\, "Unresolved" : false\, "
 LocationUri" : "" } ]
BEGIN:VALARM
DESCRIPTION:REMINDER
TRIGGER;RELATED=START:-PT15M
ACTION:DISPLAY
END:VALARM
END:VEVENT
END:VCALENDAR
