BEGIN:VCALENDAR
METHOD:REQUEST
PRODID:Microsoft Exchange Server 2010
VERSION:2.0
BEGIN:VTIMEZONE
TZID:W. Europe Standard Time
BEGIN:STANDARD
DTSTART:16010101T030000
TZOFFSETFROM:+0200
TZOFFSETTO:+0100
RRULE:FREQ=YEARLY;INTERVAL=1;BYDAY=-1SU;BYMONTH=10
END:STANDARD
BEGIN:DAYLIGHT
DTSTART:16010101T020000
TZOFFSETFROM:+0100
TZOFFSETTO:+0200
RRULE:FREQ=YEARLY;INTERVAL=1;BYDAY=-1SU;BYMONTH=3
END:DAYLIGHT
END:VTIMEZONE
BEGIN:VEVENT
ORGANIZER;CN="Jürgens, Simon":MAILTO:s.juergens@krause-dimatec.de
ATTENDEE;ROLE=REQ-PARTICIPANT;PARTSTAT=NEEDS-ACTION;RSVP=TRUE;CN=bikini@lis
 ts.uni-paderborn.de:MAILTO:bikini@lists.uni-paderborn.de
DESCRIPTION;LANGUAGE=de-DE:Hallo zusammen\,\n\nwie besprochen anbei der Fol
 getermin.\n\nVG\nSimon\n__________________________________________________
 ______________________________\nMicrosoft Teams-Besprechung\nNehmen Sie vo
 n Ihrem Computer oder der mobilen App aus teil\nKlicken Sie hier\, um an d
 er Besprechung teilzunehmen<https://teams.microsoft.com/l/meetup-join/19%3
 ameeting_MDAwMTAzNWMtMjc2Ni00ZGRkLTgwNDktZmM2MGU0MGJkMTJk%40thread.v2/0?co
 ntext=%7b%22Tid%22%3a%2277102c30-f651-4cda-81a4-7da2912cb7a8%22%2c%22Oid%2
 2%3a%22f327ced0-849e-4e98-9eda-1c4a941813f8%22%7d>\nWeitere Infos<https://
 aka.ms/JoinTeamsMeeting> | Besprechungsoptionen<https://teams.microsoft.co
 m/meetingOptions/?organizerId=f327ced0-849e-4e98-9eda-1c4a941813f8&tenantI
 d=77102c30-f651-4cda-81a4-7da2912cb7a8&threadId=19_meeting_MDAwMTAzNWMtMjc
 2Ni00ZGRkLTgwNDktZmM2MGU0MGJkMTJk@thread.v2&messageId=0&language=de-DE>\n_
 __________________________________________________________________________
 _____\n\n
UID:040000008200E00074C5B7101A82E008000000000082A71F983FD801000000000000000
 0100000007EBCA1FA2F6E6142A0C3996F172A6D30
SUMMARY;LANGUAGE=de-DE:Fortsetzung Diskussion Gesamtworkflow
DTSTART;TZID=W. Europe Standard Time:20220331T140000
DTEND;TZID=W. Europe Standard Time:20220331T160000
CLASS:PUBLIC
PRIORITY:5
DTSTAMP:20220324T150037Z
TRANSP:OPAQUE
STATUS:CONFIRMED
SEQUENCE:0
LOCATION;LANGUAGE=de-DE:Microsoft Teams Meeting
X-MICROSOFT-CDO-APPT-SEQUENCE:0
X-MICROSOFT-CDO-OWNERAPPTID:-1944569882
X-MICROSOFT-CDO-BUSYSTATUS:TENTATIVE
X-MICROSOFT-CDO-INTENDEDSTATUS:BUSY
X-MICROSOFT-CDO-ALLDAYEVENT:FALSE
X-MICROSOFT-CDO-IMPORTANCE:1
X-MICROSOFT-CDO-INSTTYPE:0
X-MICROSOFT-SKYPETEAMSMEETINGURL:https://teams.microsoft.com/l/meetup-join/
 19%3ameeting_MDAwMTAzNWMtMjc2Ni00ZGRkLTgwNDktZmM2MGU0MGJkMTJk%40thread.v2/
 0?context=%7b%22Tid%22%3a%2277102c30-f651-4cda-81a4-7da2912cb7a8%22%2c%22O
 id%22%3a%22f327ced0-849e-4e98-9eda-1c4a941813f8%22%7d
X-MICROSOFT-SCHEDULINGSERVICEUPDATEURL:https://api.scheduler.teams.microsof
 t.com/teams/77102c30-f651-4cda-81a4-7da2912cb7a8/f327ced0-849e-4e98-9eda-1
 c4a941813f8/19_meeting_MDAwMTAzNWMtMjc2Ni00ZGRkLTgwNDktZmM2MGU0MGJkMTJk@th
 read.v2/0
X-MICROSOFT-SKYPETEAMSPROPERTIES:{"cid":"19:meeting_MDAwMTAzNWMtMjc2Ni00ZGR
 kLTgwNDktZmM2MGU0MGJkMTJk@thread.v2"\,"private":true\,"type":0\,"mid":0\,"
 rid":0\,"uid":null}
X-MICROSOFT-ONLINEMEETINGCONFLINK:conf:sip:s.juergens@3d-individuell.de\;gr
 uu\;opaque=app:conf:focus:id:teams:2:0!19:meeting_MDAwMTAzNWMtMjc2Ni00ZGRk
 LTgwNDktZmM2MGU0MGJkMTJk-thread.v2!f327ced0849e4e989eda1c4a941813f8!77102c
 30f6514cda81a47da2912cb7a8
X-MICROSOFT-DONOTFORWARDMEETING:FALSE
X-MICROSOFT-DISALLOW-COUNTER:FALSE
BEGIN:VALARM
DESCRIPTION:REMINDER
TRIGGER;RELATED=START:-PT15M
ACTION:DISPLAY
END:VALARM
END:VEVENT
END:VCALENDAR
