BEGIN:VCALENDAR
METHOD:REQUEST
PRODID:Microsoft Exchange Server 2010
VERSION:2.0
BEGIN:VTIMEZONE
TZID:W. Europe Standard Time
BEGIN:STANDARD
DTSTART:16010101T030000
TZOFFSETFROM:+0200
TZOFFSETTO:+0100
RRULE:FREQ=YEARLY;INTERVAL=1;BYDAY=-1SU;BYMONTH=10
END:STANDARD
BEGIN:DAYLIGHT
DTSTART:16010101T020000
TZOFFSETFROM:+0100
TZOFFSETTO:+0200
RRULE:FREQ=YEARLY;INTERVAL=1;BYDAY=-1SU;BYMONTH=3
END:DAYLIGHT
END:VTIMEZONE
BEGIN:VEVENT
ORGANIZER;CN="Jürgens, Simon":MAILTO:s.juergens@krause-dimatec.de
ATTENDEE;ROLE=REQ-PARTICIPANT;PARTSTAT=NEEDS-ACTION;RSVP=TRUE;CN=bikini@lis
 ts.uni-paderborn.de:MAILTO:bikini@lists.uni-paderborn.de
ATTACH:CID:image001.png@01D83DE7.06BA9320
ATTACH:CID:image002.png@01D83DE7.06ED62F0
ATTACH:CID:image003.jpg@01D83DE7.06ED62F0
ATTACH:CID:image004.png@01D83DE7.06ED62F0
ATTACH:CID:image005.jpg@01D83DE7.06ED62F0
ATTACH:CID:image006.png@01D83DE7.07092850
ATTACH:CID:image007.jpg@01D83DE7.07092850
ATTACH:CID:image008.png@01D83DE7.07092850
ATTACH:CID:image009.jpg@01D83DE7.07092850
ATTACH:CID:image002.png@01D83DE7.0711DAE0
ATTACH:CID:image003.jpg@01D83DE7.0711DAE0
ATTACH:CID:image004.png@01D83DE7.0711DAE0
ATTACH:CID:image005.jpg@01D83DE7.0711DAE0
DESCRIPTION;LANGUAGE=de-DE:Hallo zusammen\,\n\nwie bereits angekündigt hie
 r noch der Termin zur Besprechung des BIKINI-Gesamtworkflows.\n\nAgenda:\n
 \n-       Darstellung BIKINI-Gesamtworkflow im Entwurfsprozess (EDAG)\n\n-
        Definition Use-Cases BIKINI-Gesamtanwendung (alle)\n\n-       In- u
 nd Outputs der APs und ihrer Anwendungen (alle)\n\n-       Zusätzlich ben
 ötigte Tools die innerhalb und außerhalb der AP Lösungen benötigt werd
 en (alle)\n\n-       Diskussion (alle)\n\n\nErarbeitung findet in folgende
 m Miro-Board statt:\nhttps://miro.com/app/board/o9J_l5kPrEM=/\nPW: BIKINI#
 2021\n\n\n________________________________________________________________
 ________________\nMicrosoft Teams-Besprechung\nNehmen Sie von Ihrem Comput
 er oder der mobilen App aus teil\nKlicken Sie hier\, um an der Besprechung
  teilzunehmen<https://teams.microsoft.com/l/meetup-join/19%3ameeting_YjY0Z
 jE4NzEtNjliZi00YTRjLWI0ZTEtZjQwZWUzNzM0YzI3%40thread.v2/0?context=%7b%22Ti
 d%22%3a%2277102c30-f651-4cda-81a4-7da2912cb7a8%22%2c%22Oid%22%3a%22f327ced
 0-849e-4e98-9eda-1c4a941813f8%22%7d>\nWeitere Infos<https://aka.ms/JoinTea
 msMeeting> | Besprechungsoptionen<https://teams.microsoft.com/meetingOptio
 ns/?organizerId=f327ced0-849e-4e98-9eda-1c4a941813f8&tenantId=77102c30-f65
 1-4cda-81a4-7da2912cb7a8&threadId=19_meeting_YjY0ZjE4NzEtNjliZi00YTRjLWI0Z
 TEtZjQwZWUzNzM0YzI3@thread.v2&messageId=0&language=de-DE>\n_______________
 _________________________________________________________________\n\nViele
  Grüße\nSimon\n\n\n\n\n\n\n\n\n\n\n[KRAUSE DiMaTec-Logo]\n\nSimon Jürge
 ns M.Sc.\n\nProzessmanagement & Digitalisierung\n\n\n\n\n\nTelefon:\n\n+49
  (0)521 – 45 99 – 7361\n\n[600px-LinkedIn_logo_initials]<https://de.li
 nkedin.com/company/krause-dimatec-gmbh>\n\n[xing-logo-3bd7a34cb3daaa40-256
 x256]<https://www.xing.com/companies/krausedimatecgmbh>\n\n[cid:image012.j
 pg@01D83DE7.06C43010]<http://www.owl-3d.de/>\n\nMobil:\n\n+49 (0)172 – 2
 39 245 2\n\nE-Mail:\n\ns.juergens@krause-dimatec.de<mailto:k.pagel@krause.
 de>\n\nWeb:\n\nwww.krause-dimatec.de<http://www.krause-dimatec.de/>\n\n\n\
 n\n\n\n\nKrause DiMaTec GmbH\, Sitz der Gesellschaft: 33649 Bielefeld\, Pa
 ul-Schwarze-Straße 5\n\nHandelsregister: Amtsgericht Bielefeld\, HRB 3500
 0\, Ust.-Id.-Nr.: DE 811720711\n\nGeschäftsführung: Dipl.-Kauffrau Carol
 a Landhäuser\n\n\n\n\n\n\n\n
UID:040000008200E00074C5B7101A82E00800000000B0FBAB87E53DD801000000000000000
 010000000C78AB41D9B77E742B40CF6FC768DAFBF
SUMMARY;LANGUAGE=de-DE:[BIKINI] Erarbeitung Gesamtworkflow
DTSTART;TZID=W. Europe Standard Time:20220324T140000
DTEND;TZID=W. Europe Standard Time:20220324T160000
CLASS:PUBLIC
PRIORITY:5
DTSTAMP:20220322T111906Z
TRANSP:OPAQUE
STATUS:CONFIRMED
SEQUENCE:0
LOCATION;LANGUAGE=de-DE:Microsoft Teams Meeting
X-MICROSOFT-CDO-APPT-SEQUENCE:0
X-MICROSOFT-CDO-OWNERAPPTID:141965286
X-MICROSOFT-CDO-BUSYSTATUS:TENTATIVE
X-MICROSOFT-CDO-INTENDEDSTATUS:BUSY
X-MICROSOFT-CDO-ALLDAYEVENT:FALSE
X-MICROSOFT-CDO-IMPORTANCE:1
X-MICROSOFT-CDO-INSTTYPE:0
X-MICROSOFT-SKYPETEAMSMEETINGURL:https://teams.microsoft.com/l/meetup-join/
 19%3ameeting_YjY0ZjE4NzEtNjliZi00YTRjLWI0ZTEtZjQwZWUzNzM0YzI3%40thread.v2/
 0?context=%7b%22Tid%22%3a%2277102c30-f651-4cda-81a4-7da2912cb7a8%22%2c%22O
 id%22%3a%22f327ced0-849e-4e98-9eda-1c4a941813f8%22%7d
X-MICROSOFT-SCHEDULINGSERVICEUPDATEURL:https://api.scheduler.teams.microsof
 t.com/teams/77102c30-f651-4cda-81a4-7da2912cb7a8/f327ced0-849e-4e98-9eda-1
 c4a941813f8/19_meeting_YjY0ZjE4NzEtNjliZi00YTRjLWI0ZTEtZjQwZWUzNzM0YzI3@th
 read.v2/0
X-MICROSOFT-SKYPETEAMSPROPERTIES:{"cid":"19:meeting_YjY0ZjE4NzEtNjliZi00YTR
 jLWI0ZTEtZjQwZWUzNzM0YzI3@thread.v2"\,"private":true\,"type":0\,"mid":0\,"
 rid":0\,"uid":null}
X-MICROSOFT-ONLINEMEETINGCONFLINK:conf:sip:s.juergens@3d-individuell.de\;gr
 uu\;opaque=app:conf:focus:id:teams:2:0!19:meeting_YjY0ZjE4NzEtNjliZi00YTRj
 LWI0ZTEtZjQwZWUzNzM0YzI3-thread.v2!f327ced0849e4e989eda1c4a941813f8!77102c
 30f6514cda81a47da2912cb7a8
X-MICROSOFT-DONOTFORWARDMEETING:FALSE
X-MICROSOFT-DISALLOW-COUNTER:FALSE
BEGIN:VALARM
DESCRIPTION:REMINDER
TRIGGER;RELATED=START:-PT15M
ACTION:DISPLAY
END:VALARM
END:VEVENT
END:VCALENDAR
