BEGIN:VCALENDAR
METHOD:REQUEST
PRODID:Microsoft Exchange Server 2010
VERSION:2.0
BEGIN:VTIMEZONE
TZID:W. Europe Standard Time
BEGIN:STANDARD
DTSTART:16010101T030000
TZOFFSETFROM:+0200
TZOFFSETTO:+0100
RRULE:FREQ=YEARLY;INTERVAL=1;BYDAY=-1SU;BYMONTH=10
END:STANDARD
BEGIN:DAYLIGHT
DTSTART:16010101T020000
TZOFFSETFROM:+0100
TZOFFSETTO:+0200
RRULE:FREQ=YEARLY;INTERVAL=1;BYDAY=-1SU;BYMONTH=3
END:DAYLIGHT
END:VTIMEZONE
BEGIN:VEVENT
ORGANIZER;CN="Brandt, Lukas":MAILTO:lukas.brandt@atos.net
ATTENDEE;ROLE=REQ-PARTICIPANT;PARTSTAT=NEEDS-ACTION;RSVP=TRUE;CN=bikini@lis
 ts.uni-paderborn.de:MAILTO:bikini@lists.uni-paderborn.de
DESCRIPTION;LANGUAGE=de-DE:Hallo zusammen\,\n\nim Doodle war das hier der T
 ermin für den Architektur Workshop\, bei dem alle konnten\, und deshalb h
 ier schon mal eine Termineinladung.\n\nAllerdings gab es insgesamt leider 
 auch nicht allzu viele Teilnehmer im Doodle und ich glaube es wäre gut\, 
 wenn von jedem Projektpartner\, bei dem eine oder mehrere Softwarekomponen
 ten entwickelt werden\, mindestens eine Person teilnehmen würde\, weil di
 e Integration der Komponenten und die Architektur Planung spätestens beim
  Zusammenstellen eines Demonstrators alle APs betreffen wird.\nDeshalb hof
 fe ich\, dass beim eigentlichen Termin noch ein paar mehr Teilnehmer dazuk
 ommen werden als sich im Doodle aktuell eingetragen haben.\n\nSollte es an
 sonsten vor Mittwoch noch Rückmeldung geben (am besten weiterhin über de
 n ursprünglichen Doodle: https://doodle.com/meeting/participate/id/7e50Bk
 Xd )\, dass ein anderer Termin einem größeren Teil des Konsortiums besse
 r passen würde\, können wir den Termin selbstverständlich auch noch ein
 mal umplanen.\n\nViele Grüße und schönes Wochenende\nLukas\n___________
 _____________________________________________________________________\nMic
 rosoft Teams-Besprechung\nNehmen Sie von Ihrem Computer oder der mobilen A
 pp aus teil\nKlicken Sie hier\, um an der Besprechung teilzunehmen<https:/
 /teams.microsoft.com/l/meetup-join/19%3ameeting_OGU3ODg2ZjgtZmJhMy00ZWViLW
 ExM2UtMzA2OGI4NjVmZmIz%40thread.v2/0?context=%7b%22Tid%22%3a%2233440fc6-b7
 c7-412c-bb73-0e70b0198d5a%22%2c%22Oid%22%3a%22fd635551-0f5f-46af-ace1-95aa
 2f4f08f7%22%7d>\nWeitere Infos<https://aka.ms/JoinTeamsMeeting> | Besprech
 ungsoptionen<https://teams.microsoft.com/meetingOptions/?organizerId=fd635
 551-0f5f-46af-ace1-95aa2f4f08f7&tenantId=33440fc6-b7c7-412c-bb73-0e70b0198
 d5a&threadId=19_meeting_OGU3ODg2ZjgtZmJhMy00ZWViLWExM2UtMzA2OGI4NjVmZmIz@t
 hread.v2&messageId=0&language=de-DE>\n____________________________________
 ____________________________________________\n\n
UID:040000008200E00074C5B7101A82E0080000000060A44F7E6435D801000000000000000
 010000000110A5A729E6E354DB13947386A8B5170
SUMMARY;LANGUAGE=de-DE:[BIKINI] Software Architektur/Integrations Workshop
DTSTART;TZID=W. Europe Standard Time:20220316T140000
DTEND;TZID=W. Europe Standard Time:20220316T160000
CLASS:PUBLIC
PRIORITY:5
DTSTAMP:20220311T154136Z
TRANSP:OPAQUE
STATUS:CONFIRMED
SEQUENCE:0
LOCATION;LANGUAGE=de-DE:Microsoft Teams-Besprechung
X-MICROSOFT-CDO-APPT-SEQUENCE:0
X-MICROSOFT-CDO-OWNERAPPTID:1831548902
X-MICROSOFT-CDO-BUSYSTATUS:TENTATIVE
X-MICROSOFT-CDO-INTENDEDSTATUS:BUSY
X-MICROSOFT-CDO-ALLDAYEVENT:FALSE
X-MICROSOFT-CDO-IMPORTANCE:1
X-MICROSOFT-CDO-INSTTYPE:0
X-MICROSOFT-SKYPETEAMSMEETINGURL:https://teams.microsoft.com/l/meetup-join/
 19%3ameeting_OGU3ODg2ZjgtZmJhMy00ZWViLWExM2UtMzA2OGI4NjVmZmIz%40thread.v2/
 0?context=%7b%22Tid%22%3a%2233440fc6-b7c7-412c-bb73-0e70b0198d5a%22%2c%22O
 id%22%3a%22fd635551-0f5f-46af-ace1-95aa2f4f08f7%22%7d
X-MICROSOFT-SCHEDULINGSERVICEUPDATEURL:https://api.scheduler.teams.microsof
 t.com/teams/33440fc6-b7c7-412c-bb73-0e70b0198d5a/fd635551-0f5f-46af-ace1-9
 5aa2f4f08f7/19_meeting_OGU3ODg2ZjgtZmJhMy00ZWViLWExM2UtMzA2OGI4NjVmZmIz@th
 read.v2/0
X-MICROSOFT-SKYPETEAMSPROPERTIES:{"cid":"19:meeting_OGU3ODg2ZjgtZmJhMy00ZWV
 iLWExM2UtMzA2OGI4NjVmZmIz@thread.v2"\,"private":true\,"type":0\,"mid":0\,"
 rid":0\,"uid":null}
X-MICROSOFT-ONLINEMEETINGCONFLINK:conf:sip:lukas.brandt@atos.net\;gruu\;opa
 que=app:conf:focus:id:teams:2:0!19:meeting_OGU3ODg2ZjgtZmJhMy00ZWViLWExM2U
 tMzA2OGI4NjVmZmIz-thread.v2!fd6355510f5f46aface195aa2f4f08f7!33440fc6b7c74
 12cbb730e70b0198d5a
X-MICROSOFT-DONOTFORWARDMEETING:FALSE
X-MICROSOFT-DISALLOW-COUNTER:FALSE
BEGIN:VALARM
DESCRIPTION:REMINDER
TRIGGER;RELATED=START:-PT15M
ACTION:DISPLAY
END:VALARM
END:VEVENT
END:VCALENDAR
