BEGIN:VCALENDAR
METHOD:REQUEST
PRODID:Microsoft Exchange Server 2010
VERSION:2.0
BEGIN:VTIMEZONE
TZID:W. Europe Standard Time
BEGIN:STANDARD
DTSTART:16010101T030000
TZOFFSETFROM:+0200
TZOFFSETTO:+0100
RRULE:FREQ=YEARLY;INTERVAL=1;BYDAY=-1SU;BYMONTH=10
END:STANDARD
BEGIN:DAYLIGHT
DTSTART:16010101T020000
TZOFFSETFROM:+0100
TZOFFSETTO:+0200
RRULE:FREQ=YEARLY;INTERVAL=1;BYDAY=-1SU;BYMONTH=3
END:DAYLIGHT
END:VTIMEZONE
BEGIN:VEVENT
ORGANIZER;CN="Jürgens, Simon":MAILTO:s.juergens@krause-dimatec.de
ATTENDEE;ROLE=REQ-PARTICIPANT;PARTSTAT=NEEDS-ACTION;RSVP=TRUE;CN=bikini@lis
 ts.uni-paderborn.de:MAILTO:bikini@lists.uni-paderborn.de
ATTACH:CID:image001.png@01D83230.46CCDE40
ATTACH:CID:image002.png@01D83230.47037EA0
ATTACH:CID:image003.jpg@01D83230.47037EA0
ATTACH:CID:image004.png@01D83230.47037EA0
ATTACH:CID:image005.jpg@01D83230.47037EA0
ATTACH:CID:image006.png@01D83230.471977A0
ATTACH:CID:image007.jpg@01D83230.471977A0
ATTACH:CID:image008.png@01D83230.471977A0
ATTACH:CID:image009.jpg@01D83230.471977A0
ATTACH:CID:image002.png@01D83230.471F1CF0
ATTACH:CID:image003.jpg@01D83230.471F1CF0
ATTACH:CID:image004.png@01D83230.471F1CF0
ATTACH:CID:image005.jpg@01D83230.471F1CF0
DESCRIPTION;LANGUAGE=de-DE:Hallo zusammen\,\n\nanbei der Termin für den Wo
 rkshop zu AP5 am Mittwoch.\n\nZiel des Workshops ist es Einflussfaktoren a
 uf die Nachhaltigkeit je Produktlebensphase zu identifizieren.\n\nEinen Ü
 berblick könnt Ihr euch gerne bereits vorher in folgendem Miro-Board hole
 n:\n\nhttps://miro.com/app/board/uXjVOJEJjUY=/\nPasswort: BIKINI#2021\n\nD
 amit alle Teilnehmer am Mittwoch im Thema sind\, würde ich euch bitten vo
 rab noch einmal die Rechercheergebnisse(eigene und die der Partner) in Tea
 ms durchzugehen.\n\n______________________________________________________
 __________________________\nMicrosoft Teams-Besprechung\nNehmen Sie von Ih
 rem Computer oder der mobilen App aus teil\nKlicken Sie hier\, um an der B
 esprechung teilzunehmen<https://teams.microsoft.com/l/meetup-join/19%3amee
 ting_ZjgyMGRhM2YtZGRlMy00MzdkLTk3MWQtNmRhZTZjMjZmZjgz%40thread.v2/0?contex
 t=%7b%22Tid%22%3a%2277102c30-f651-4cda-81a4-7da2912cb7a8%22%2c%22Oid%22%3a
 %22f327ced0-849e-4e98-9eda-1c4a941813f8%22%7d>\nWeitere Infos<https://aka.
 ms/JoinTeamsMeeting> | Besprechungsoptionen<https://teams.microsoft.com/me
 etingOptions/?organizerId=f327ced0-849e-4e98-9eda-1c4a941813f8&tenantId=77
 102c30-f651-4cda-81a4-7da2912cb7a8&threadId=19_meeting_ZjgyMGRhM2YtZGRlMy0
 0MzdkLTk3MWQtNmRhZTZjMjZmZjgz@thread.v2&messageId=0&language=de-DE>\n_____
 __________________________________________________________________________
 _\n\nBeste Grüße\nSimon\n\n\n\n\n\n\n\n\n\n\n[KRAUSE DiMaTec-Logo]\n\nSi
 mon Jürgens M.Sc.\n\nProzessmanagement & Digitalisierung\n\n\n\n\n\nTelef
 on:\n\n+49 (0)521 – 45 99 – 7361\n\n[600px-LinkedIn_logo_initials]<htt
 ps://de.linkedin.com/company/krause-dimatec-gmbh>\n\n[xing-logo-3bd7a34cb3
 daaa40-256x256]<https://www.xing.com/companies/krausedimatecgmbh>\n\n[cid:
 image012.jpg@01D83230.46D7B3B0]<http://www.owl-3d.de/>\n\nMobil:\n\n+49 (0
 )172 – 239 245 2\n\nE-Mail:\n\ns.juergens@krause-dimatec.de<mailto:k.pag
 el@krause.de>\n\nWeb:\n\nwww.krause-dimatec.de<http://www.krause-dimatec.d
 e/>\n\n\n\n\n\n\n\nKrause DiMaTec GmbH\, Sitz der Gesellschaft: 33649 Biel
 efeld\, Paul-Schwarze-Straße 5\n\nHandelsregister: Amtsgericht Bielefeld\
 , HRB 35000\, Ust.-Id.-Nr.: DE 811720711\n\nGeschäftsführung: Dipl.-Kauf
 frau Carola Landhäuser\n\n\n\n\n\n\n\n
UID:040000008200E00074C5B7101A82E00800000000A0542CF42E32D801000000000000000
 010000000C6021AB47121D54AAF2C76B821396DF5
SUMMARY;LANGUAGE=de-DE:[BIKINI] AP5 Workshop Einflussfaktoren
DTSTART;TZID=W. Europe Standard Time:20220309T140000
DTEND;TZID=W. Europe Standard Time:20220309T160000
CLASS:PUBLIC
PRIORITY:5
DTSTAMP:20220307T133313Z
TRANSP:OPAQUE
STATUS:CONFIRMED
SEQUENCE:0
LOCATION;LANGUAGE=de-DE:Microsoft Teams Meeting
X-MICROSOFT-CDO-APPT-SEQUENCE:0
X-MICROSOFT-CDO-OWNERAPPTID:-1926809626
X-MICROSOFT-CDO-BUSYSTATUS:TENTATIVE
X-MICROSOFT-CDO-INTENDEDSTATUS:BUSY
X-MICROSOFT-CDO-ALLDAYEVENT:FALSE
X-MICROSOFT-CDO-IMPORTANCE:1
X-MICROSOFT-CDO-INSTTYPE:0
X-MICROSOFT-SKYPETEAMSMEETINGURL:https://teams.microsoft.com/l/meetup-join/
 19%3ameeting_ZjgyMGRhM2YtZGRlMy00MzdkLTk3MWQtNmRhZTZjMjZmZjgz%40thread.v2/
 0?context=%7b%22Tid%22%3a%2277102c30-f651-4cda-81a4-7da2912cb7a8%22%2c%22O
 id%22%3a%22f327ced0-849e-4e98-9eda-1c4a941813f8%22%7d
X-MICROSOFT-SCHEDULINGSERVICEUPDATEURL:https://api.scheduler.teams.microsof
 t.com/teams/77102c30-f651-4cda-81a4-7da2912cb7a8/f327ced0-849e-4e98-9eda-1
 c4a941813f8/19_meeting_ZjgyMGRhM2YtZGRlMy00MzdkLTk3MWQtNmRhZTZjMjZmZjgz@th
 read.v2/0
X-MICROSOFT-SKYPETEAMSPROPERTIES:{"cid":"19:meeting_ZjgyMGRhM2YtZGRlMy00Mzd
 kLTk3MWQtNmRhZTZjMjZmZjgz@thread.v2"\,"private":true\,"type":0\,"mid":0\,"
 rid":0\,"uid":null}
X-MICROSOFT-ONLINEMEETINGCONFLINK:conf:sip:s.juergens@3d-individuell.de\;gr
 uu\;opaque=app:conf:focus:id:teams:2:0!19:meeting_ZjgyMGRhM2YtZGRlMy00Mzdk
 LTk3MWQtNmRhZTZjMjZmZjgz-thread.v2!f327ced0849e4e989eda1c4a941813f8!77102c
 30f6514cda81a47da2912cb7a8
X-MICROSOFT-DONOTFORWARDMEETING:FALSE
X-MICROSOFT-DISALLOW-COUNTER:FALSE
BEGIN:VALARM
DESCRIPTION:REMINDER
TRIGGER;RELATED=START:-PT15M
ACTION:DISPLAY
END:VALARM
END:VEVENT
END:VCALENDAR
