BEGIN:VCALENDAR
METHOD:REQUEST
PRODID:Microsoft Exchange Server 2010
VERSION:2.0
BEGIN:VTIMEZONE
TZID:W. Europe Standard Time
BEGIN:STANDARD
DTSTART:16010101T030000
TZOFFSETFROM:+0200
TZOFFSETTO:+0100
RRULE:FREQ=YEARLY;INTERVAL=1;BYDAY=-1SU;BYMONTH=10
END:STANDARD
BEGIN:DAYLIGHT
DTSTART:16010101T020000
TZOFFSETFROM:+0100
TZOFFSETTO:+0200
RRULE:FREQ=YEARLY;INTERVAL=1;BYDAY=-1SU;BYMONTH=3
END:DAYLIGHT
END:VTIMEZONE
BEGIN:VEVENT
ORGANIZER;CN=Daniel Siegel;SENT-BY="mailto:sebastian.fluegel@edag.com":mailto
 :daniel.siegel@elise.de
ATTENDEE;ROLE=REQ-PARTICIPANT;PARTSTAT=NEEDS-ACTION;RSVP=TRUE;CN=bikini@lis
 ts.uni-paderborn.de:mailto:bikini@lists.uni-paderborn.de
ATTENDEE;ROLE=REQ-PARTICIPANT;PARTSTAT=NEEDS-ACTION;RSVP=TRUE;CN=Daniel Lö
 wen:mailto:daniel.loewen@elise.de
ATTENDEE;ROLE=REQ-PARTICIPANT;PARTSTAT=NEEDS-ACTION;RSVP=TRUE;CN="Fluegel, S
 ebastian":mailto:sebastian.fluegel@edag.com
DESCRIPTION;LANGUAGE=de-DE:Hallo zusammen\,\n\nhier leite ich euch den lang
  versprochenen Termin zur Abstimmung der ELISE Integration weiter.\nEs wer
 den verschiedene Optionen aufgezeigt\, wie wir in BIKINI entwickelte Tools
  in ELISE nutzbar machen können.\nDer Termin ist natürlich optional für
  alle\, die das Thema nicht betrifft.\n\nBeste Grüße\nSebastian\n\n\n---
 --Ursprünglicher Termin-----\nVon: Daniel Siegel <daniel.siegel@elise.de<
 mailto:daniel.siegel@elise.de>>\nGesendet: Donnerstag\, 17. Februar 2022 1
 0:21\nAn: Daniel Siegel\; Daniel Löwen\; Fluegel\, Sebastian\nBetreff: [B
 IKINI] Architektur für ELISE Tools and Daniel Siegel\nZeit: Mittwoch\, 23
 . Februar 2022 11:30-12:15 (UTC+01:00) Amsterdam\, Berlin\, Bern\, Rom\, S
 tockholm\, Wien.\nOrt: https://calendly.com/events/80016d33-a49d-4b45-ae11
 -01fb5182a290/microsoft_teams\n\n\nEvent Name: Developer Partner Program\n
 \nPlease share anything that will help prepare for our meeting.:\nHallo zu
 sammen\,\nin diesem Termin wollen wir die Anforderungen an die BIKINI Tool
 s klären\, um eine Einbindung in ELISE zu ermöglichen.\n\nNeed to make c
 hanges to this event?\nCancel: https://calendly.com/cancellations/9c724412
 -4916-4c5c-aa8e-b07d493acd25<https://deu01.safelinks.protection.outlook.co
 m/?url=https%3A%2F%2Fcalendly.com%2Fcancellations%2F9c724412-4916-4c5c-aa8
 e-b07d493acd25&data=04%7C01%7Csebastian.fluegel%40edag.com%7C4ba2fe4e69524
 b64f2bf08d9f1f63f72%7C4812a7f3cbc94f88b59f87b73b966886%7C0%7C0%7C637806864
 337149745%7CUnknown%7CTWFpbGZsb3d8eyJWIjoiMC4wLjAwMDAiLCJQIjoiV2luMzIiLCJB
 TiI6Ik1haWwiLCJXVCI6Mn0%3D%7C1000&sdata=mcXQpL%2BvuVZO%2BJ8Efd0n%2B89%2BrT
 Rc6%2FJD7JHlqXqRPPQ%3D&reserved=0>\nReschedule: https://calendly.com/resch
 edulings/9c724412-4916-4c5c-aa8e-b07d493acd25<https://deu01.safelinks.prot
 ection.outlook.com/?url=https%3A%2F%2Fcalendly.com%2Freschedulings%2F9c724
 412-4916-4c5c-aa8e-b07d493acd25&data=04%7C01%7Csebastian.fluegel%40edag.co
 m%7C4ba2fe4e69524b64f2bf08d9f1f63f72%7C4812a7f3cbc94f88b59f87b73b966886%7C
 0%7C0%7C637806864337149745%7CUnknown%7CTWFpbGZsb3d8eyJWIjoiMC4wLjAwMDAiLCJ
 QIjoiV2luMzIiLCJBTiI6Ik1haWwiLCJXVCI6Mn0%3D%7C1000&sdata=tdjK%2FP%2FjSCh%2
 BGQ1XdsFJhDV%2BG1mrLknZLH6OZsV6m2Y%3D&reserved=0>\n_______________________
 _________________________________________________________\nMicrosoft Teams
 -Besprechung\nNehmen Sie von Ihrem Computer oder der mobilen App aus teil\
 nKlicken Sie hier\, um an der Besprechung teilzunehmen<https://deu01.safel
 inks.protection.outlook.com/ap/t-59584e83/?url=https%3A%2F%2Fteams.microso
 ft.com%2Fl%2Fmeetup-join%2F19%253ameeting_ZDcwMWExOWItYjUwNC00MTliLTk0MzMt
 MGUzMWMyNDE0ZTQx%2540thread.v2%2F0%3Fcontext%3D%257b%2522Tid%2522%253a%252
 2fdefcf7d-a92b-44f3-af7f-6b11855ba8c6%2522%252c%2522Oid%2522%253a%2522f437
 9bc8-f559-4d44-ad2e-53d5a2c9d1f1%2522%257d&data=04%7C01%7Csebastian.fluege
 l%40edag.com%7C4ba2fe4e69524b64f2bf08d9f1f63f72%7C4812a7f3cbc94f88b59f87b7
 3b966886%7C0%7C0%7C637806864337149745%7CUnknown%7CTWFpbGZsb3d8eyJWIjoiMC4w
 LjAwMDAiLCJQIjoiV2luMzIiLCJBTiI6Ik1haWwiLCJXVCI6Mn0%3D%7C1000&sdata=svxffX
 K7fkkjZnJd1Zf79Q%2Bfo%2Fw%2Floe7M5cJF9lgnMI%3D&reserved=0>\nOder anrufen (
 nur Audio)\n+49 69 365057530\,\,55689523#<tel:+4969365057530\,\,55689523#>
    Germany\, Frankfurt am Main\nTelefonkonferenz-ID: 556 895 23#\nLokale N
 ummer suchen<https://deu01.safelinks.protection.outlook.com/?url=https%3A%
 2F%2Fdialin.teams.microsoft.com%2Fb795ac7b-961e-4c43-a68e-5f11755c0579%3Fi
 d%3D55689523&data=04%7C01%7Csebastian.fluegel%40edag.com%7C4ba2fe4e69524b6
 4f2bf08d9f1f63f72%7C4812a7f3cbc94f88b59f87b73b966886%7C0%7C0%7C63780686433
 7149745%7CUnknown%7CTWFpbGZsb3d8eyJWIjoiMC4wLjAwMDAiLCJQIjoiV2luMzIiLCJBTi
 I6Ik1haWwiLCJXVCI6Mn0%3D%7C1000&sdata=qnrjP46Enzv65Dw5VS5qe90wu9Iky8%2B7as
 pwPgj2GMM%3D&reserved=0> | PIN zurücksetzen<https://deu01.safelinks.prote
 ction.outlook.com/?url=https%3A%2F%2Fmysettings.lync.com%2Fpstnconferencin
 g&data=04%7C01%7Csebastian.fluegel%40edag.com%7C4ba2fe4e69524b64f2bf08d9f1
 f63f72%7C4812a7f3cbc94f88b59f87b73b966886%7C0%7C0%7C637806864337149745%7CU
 nknown%7CTWFpbGZsb3d8eyJWIjoiMC4wLjAwMDAiLCJQIjoiV2luMzIiLCJBTiI6Ik1haWwiL
 CJXVCI6Mn0%3D%7C1000&sdata=uUOFYpVhUwFqGrC2gjs8UXLz2yaE90A3MBPP%2BFPqcbA%3
 D&reserved=0>\n[https://www.elise.de/wp-content/themes/elise/images/elise-
 logo.png]\nWeitere Infos<https://deu01.safelinks.protection.outlook.com/?u
 rl=https%3A%2F%2Faka.ms%2FJoinTeamsMeeting&data=04%7C01%7Csebastian.fluege
 l%40edag.com%7C4ba2fe4e69524b64f2bf08d9f1f63f72%7C4812a7f3cbc94f88b59f87b7
 3b966886%7C0%7C0%7C637806864337149745%7CUnknown%7CTWFpbGZsb3d8eyJWIjoiMC4w
 LjAwMDAiLCJQIjoiV2luMzIiLCJBTiI6Ik1haWwiLCJXVCI6Mn0%3D%7C1000&sdata=1UpvTf
 hujw3WNzWDW8zbQ4n2qdqKNMAEAsMVQzv89vE%3D&reserved=0> | Besprechungsoptione
 n<https://deu01.safelinks.protection.outlook.com/?url=https%3A%2F%2Fteams.
 microsoft.com%2FmeetingOptions%2F%3ForganizerId%3Df4379bc8-f559-4d44-ad2e-
 53d5a2c9d1f1%26tenantId%3Dfdefcf7d-a92b-44f3-af7f-6b11855ba8c6%26threadId%
 3D19_meeting_ZDcwMWExOWItYjUwNC00MTliLTk0MzMtMGUzMWMyNDE0ZTQx%40thread.v2%
 26messageId%3D0%26language%3Dde-DE&data=04%7C01%7Csebastian.fluegel%40edag
 .com%7C4ba2fe4e69524b64f2bf08d9f1f63f72%7C4812a7f3cbc94f88b59f87b73b966886
 %7C0%7C0%7C637806864337149745%7CUnknown%7CTWFpbGZsb3d8eyJWIjoiMC4wLjAwMDAi
 LCJQIjoiV2luMzIiLCJBTiI6Ik1haWwiLCJXVCI6Mn0%3D%7C1000&sdata=CMqjKDgETLQkRN
 dZ1SeUISFQ1QtbU9ElxCcdUcST%2B10%3D&reserved=0>\n__________________________
 ______________________________________________________\n
UID:040000008200E00074C5B7101A82E0080000000022688F1ADF23D801000000000000000
 010000000B4E5E628434DDB47AEA0A3C1527D3FC9
SUMMARY;LANGUAGE=de-DE:WG: [BIKINI] Architektur für ELISE Tools and Daniel
  Siegel
DTSTART;TZID=W. Europe Standard Time:20220223T113000
DTEND;TZID=W. Europe Standard Time:20220223T121500
CLASS:PUBLIC
PRIORITY:5
DTSTAMP:20220217T091656Z
TRANSP:OPAQUE
STATUS:CONFIRMED
SEQUENCE:0
LOCATION;LANGUAGE=de-DE:https://calendly.com/events/80016d33-a49d-4b45-ae11
 -01fb5182a290/microsoft_teams
X-MICROSOFT-CDO-APPT-SEQUENCE:0
X-MICROSOFT-CDO-OWNERAPPTID:2120387874
X-MICROSOFT-CDO-BUSYSTATUS:TENTATIVE
X-MICROSOFT-CDO-INTENDEDSTATUS:BUSY
X-MICROSOFT-CDO-ALLDAYEVENT:FALSE
X-MICROSOFT-CDO-IMPORTANCE:1
X-MICROSOFT-CDO-INSTTYPE:0
X-MICROSOFT-SKYPETEAMSMEETINGURL:https://teams.microsoft.com/l/meetup-join/
 19%3ameeting_ZDcwMWExOWItYjUwNC00MTliLTk0MzMtMGUzMWMyNDE0ZTQx%40thread.v2/
 0?context=%7b%22Tid%22%3a%22fdefcf7d-a92b-44f3-af7f-6b11855ba8c6%22%2c%22O
 id%22%3a%22f4379bc8-f559-4d44-ad2e-53d5a2c9d1f1%22%7d
X-MICROSOFT-SCHEDULINGSERVICEUPDATEURL:https://api.scheduler.teams.microsof
 t.com/teams/fdefcf7d-a92b-44f3-af7f-6b11855ba8c6/f4379bc8-f559-4d44-ad2e-5
 3d5a2c9d1f1/19_meeting_ZDcwMWExOWItYjUwNC00MTliLTk0MzMtMGUzMWMyNDE0ZTQx@th
 read.v2/0
X-MICROSOFT-SKYPETEAMSPROPERTIES:{"cid":"19:meeting_ZDcwMWExOWItYjUwNC00MTl
 iLTk0MzMtMGUzMWMyNDE0ZTQx@thread.v2"\,"rid":0\,"mid":0\,"uid":null\,"priva
 te":true\,"type":0}
X-MICROSOFT-ONLINEMEETINGCONFLINK:conf:sip:daniel.siegel@elise.de\;gruu\;op
 aque=app:conf:focus:id:teams:2:0!19:meeting_ZDcwMWExOWItYjUwNC00MTliLTk0Mz
 MtMGUzMWMyNDE0ZTQx-thread.v2!f4379bc8f5594d44ad2e53d5a2c9d1f1!fdefcf7da92b
 44f3af7f6b11855ba8c6
X-MICROSOFT-DONOTFORWARDMEETING:FALSE
X-MICROSOFT-DISALLOW-COUNTER:FALSE
X-MICROSOFT-LOCATIONS:[{"DisplayName":"https://calendly.com/events/80016d33
 -a49d-4b45-ae11-01fb5182a290/microsoft_teams"\,"LocationAnnotation":""\,"L
 ocationUri":""\,"LocationStreet":""\,"LocationCity":""\,"LocationState":""
 \,"LocationCountry":""\,"LocationPostalCode":""\,"LocationFullAddress":""}
 ]
BEGIN:VALARM
DESCRIPTION:REMINDER
TRIGGER;RELATED=START:-PT15M
ACTION:DISPLAY
END:VALARM
END:VEVENT
END:VCALENDAR
