BEGIN:VCALENDAR
METHOD:REQUEST
PRODID:Microsoft Exchange Server 2010
VERSION:2.0
BEGIN:VTIMEZONE
TZID:W. Europe Standard Time
BEGIN:STANDARD
DTSTART:16010101T030000
TZOFFSETFROM:+0200
TZOFFSETTO:+0100
RRULE:FREQ=YEARLY;INTERVAL=1;BYDAY=-1SU;BYMONTH=10
END:STANDARD
BEGIN:DAYLIGHT
DTSTART:16010101T020000
TZOFFSETFROM:+0100
TZOFFSETTO:+0200
RRULE:FREQ=YEARLY;INTERVAL=1;BYDAY=-1SU;BYMONTH=3
END:DAYLIGHT
END:VTIMEZONE
BEGIN:VEVENT
ORGANIZER;CN="Jürgens, Simon":MAILTO:s.juergens@krause-dimatec.de
ATTENDEE;ROLE=REQ-PARTICIPANT;PARTSTAT=NEEDS-ACTION;RSVP=TRUE;CN=bikini@lis
 ts.uni-paderborn.de:MAILTO:bikini@lists.uni-paderborn.de
ATTACH:CID:image001.png@01D807C0.694D0480
ATTACH:CID:image010.jpg@01D807C0.6955B710
ATTACH:CID:image011.png@01D807C0.6955B710
ATTACH:CID:image012.jpg@01D807C0.6955B710
ATTACH:CID:image002.png@01D807C0.697A5610
ATTACH:CID:image003.png@01D807C0.6989BF60
ATTACH:CID:image002.png@01D807C0.698EEF80
DESCRIPTION;LANGUAGE=de-DE:Hallo zusammen\,\n\nanbei schon einmal der Termi
 n für die Auswertung der Rechercheergebnisse.\n\nDie genaue Agenda lasse 
 ich euch in den nächsten Tagen zukommen.\n\nViele Grüße\nSimon\n_______
 _______________________________________________________________\nMicrosoft
  Teams-Besprechung\nNehmen Sie von Ihrem Computer oder der mobilen App aus
  teil\nKlicken Sie hier\, um an der Besprechung teilzunehmen<https://teams
 .microsoft.com/l/meetup-join/19%3ameeting_MGNhNmYwYTAtYTZkZi00OGVkLWFiNDgt
 MjQ5MjExMDAwZTgz%40thread.v2/0?context=%7b%22Tid%22%3a%2277102c30-f651-4cd
 a-81a4-7da2912cb7a8%22%2c%22Oid%22%3a%22f327ced0-849e-4e98-9eda-1c4a941813
 f8%22%7d>\nWeitere Infos<https://aka.ms/JoinTeamsMeeting> | Besprechungsop
 tionen<https://teams.microsoft.com/meetingOptions/?organizerId=f327ced0-84
 9e-4e98-9eda-1c4a941813f8&tenantId=77102c30-f651-4cda-81a4-7da2912cb7a8&th
 readId=19_meeting_MGNhNmYwYTAtYTZkZi00OGVkLWFiNDgtMjQ5MjExMDAwZTgz@thread.
 v2&messageId=0&language=de-DE>\n__________________________________________
 ______________________________________\n\n\n\n\n\n\n\n\n\n\n[KRAUSE DiMaTe
 c-Logo]\n\nSimon Jürgens M.Sc.\n\nProjektmanagement & Digitalisierung\n\n
 \n\n\n\nTelefon:\n\n+49 (0)521 – 45 99 – 7361\n\n[600px-LinkedIn_logo_
 initials]<https://de.linkedin.com/company/krause-dimatec-gmbh>\n\n[xing-lo
 go-3bd7a34cb3daaa40-256x256]<https://www.xing.com/companies/krausedimatecg
 mbh>\n\n[cid:image012.jpg@01D807C0.6955B710]<http://www.owl-3d.de/>\n\nMob
 il:\n\n+49 (0)172 – 239 245 2\n\nE-Mail:\n\ns.juergens@krause-dimatec.de
 <mailto:k.pagel@krause.de>\n\nWeb:\n\nwww.krause-dimatec.de<http://www.kra
 use-dimatec.de/>\n\n\n\n\n\n\n\nKrause DiMaTec GmbH\, Sitz der Gesellschaf
 t: 33649 Bielefeld\, Paul-Schwarze-Straße 5\n\nHandelsregister: Amtsgeric
 ht Bielefeld\, HRB 35000\, Ust.-Id.-Nr.: DE 811720711\n\nGeschäftsführun
 g: Dipl.-Kauffrau Carola Landhäuser\n\n\n\n\n\n\n
UID:040000008200E00074C5B7101A82E008000000007057DBCABF07D801000000000000000
 010000000B47C3D538D58764387BD58512622D440
SUMMARY;LANGUAGE=de-DE:AP5 - Auswertung Rechercheergebnisse
DTSTART;TZID=W. Europe Standard Time:20220118T100000
DTEND;TZID=W. Europe Standard Time:20220118T113000
CLASS:PUBLIC
PRIORITY:5
DTSTAMP:20220112T132639Z
TRANSP:OPAQUE
STATUS:CONFIRMED
SEQUENCE:0
LOCATION;LANGUAGE=de-DE:Microsoft Teams-Besprechung
X-MICROSOFT-CDO-APPT-SEQUENCE:0
X-MICROSOFT-CDO-OWNERAPPTID:-1806952474
X-MICROSOFT-CDO-BUSYSTATUS:TENTATIVE
X-MICROSOFT-CDO-INTENDEDSTATUS:BUSY
X-MICROSOFT-CDO-ALLDAYEVENT:FALSE
X-MICROSOFT-CDO-IMPORTANCE:1
X-MICROSOFT-CDO-INSTTYPE:0
X-MICROSOFT-SKYPETEAMSMEETINGURL:https://teams.microsoft.com/l/meetup-join/
 19%3ameeting_MGNhNmYwYTAtYTZkZi00OGVkLWFiNDgtMjQ5MjExMDAwZTgz%40thread.v2/
 0?context=%7b%22Tid%22%3a%2277102c30-f651-4cda-81a4-7da2912cb7a8%22%2c%22O
 id%22%3a%22f327ced0-849e-4e98-9eda-1c4a941813f8%22%7d
X-MICROSOFT-SCHEDULINGSERVICEUPDATEURL:https://api.scheduler.teams.microsof
 t.com/teams/77102c30-f651-4cda-81a4-7da2912cb7a8/f327ced0-849e-4e98-9eda-1
 c4a941813f8/19_meeting_MGNhNmYwYTAtYTZkZi00OGVkLWFiNDgtMjQ5MjExMDAwZTgz@th
 read.v2/0
X-MICROSOFT-SKYPETEAMSPROPERTIES:{"cid":"19:meeting_MGNhNmYwYTAtYTZkZi00OGV
 kLWFiNDgtMjQ5MjExMDAwZTgz@thread.v2"\,"private":true\,"type":0\,"mid":0\,"
 rid":0\,"uid":null}
X-MICROSOFT-ONLINEMEETINGCONFLINK:conf:sip:s.juergens@3d-individuell.de\;gr
 uu\;opaque=app:conf:focus:id:teams:2:0!19:meeting_MGNhNmYwYTAtYTZkZi00OGVk
 LWFiNDgtMjQ5MjExMDAwZTgz-thread.v2!f327ced0849e4e989eda1c4a941813f8!77102c
 30f6514cda81a47da2912cb7a8
X-MICROSOFT-DONOTFORWARDMEETING:FALSE
X-MICROSOFT-DISALLOW-COUNTER:FALSE
BEGIN:VALARM
DESCRIPTION:REMINDER
TRIGGER;RELATED=START:-PT15M
ACTION:DISPLAY
END:VALARM
END:VEVENT
END:VCALENDAR
